{"text_format":"1","workbook":"xlsx","n_sheets":8,"sheets":["Paycode Section Identifier","Form","LookUp",">30 CAT A Form","OL Form","> 30 Cat A Form","Instructions","Updates"],"not_rendered":{"charts":0,"images":4,"macros":1,"external_links":0,"defined_names":81,"comments":0,"pivot_tables":0},"unopened":[],"bounds":{"document_bytes":16777216,"sheet_cells":100000,"rows_first":2000,"rows_last":500,"rows_between":2000,"halvings":0,"cell_chars":16384,"cell_head_chars":4096},"cells_cut":0,"cells_raw":0,"read":"whole","date_system":"1900"}

{"sheet":"Paycode Section Identifier","index":0,"n_rows":33,"n_cols":32,"rows_kept":33,"cut":false,"hidden":false,"merged":[[0,0,0,4]]}
["Full Time Faculty Workload Calculator (Academic Year 22-23_Rev 5.2)",null,null,null,null,null,null,null,null,null,"BLK1TOT","Cum1",null,null,"L2TOT","Cum2",null,"SumPDif",null,null,null,null,null,"CumTot","CumJump",null,"Cum4","CumFin"]
[null,null,null,null,null,null,null,null,null,null,{"$f":"SUM(K4:K23)","v":0},{"$f":"K2","v":0},null,null,{"$f":"SUM(O4:O23)","v":0},{"$f":"L2+O2","v":0},null,null,null,null,null,null,null,{"$f":"SUM(Y4:Y23)","v":0},{"$f":"P2+X2","v":0},null,{"$f":"SUM(AA3:AA23)","v":0},{"$f":"Y2+AA2","v":0},null,null,"Name","Name"]
["Course","Concatenated ID","Cat","Full","Partial","RoundDwn","PartialID","Partial Diff","Sum","BLK1ID","BLK1Values","LoadLine","BLK2ID","Variable","BLK2Values","SOLVE ",null,null,"SOLVE","BLK3ID","ParDrop","Full Val","idMAXpos","idmax","maxval",null,null,"Label",null,null,"EMPL ID","ID"]
["Bank","From last year",{"$f":"IF(AB4=1,\"BLOCK 1\",IF(AB4=2.1,\"BLOCK 2.1\",IF(AB4=5,\"SPECIAL\",IF(AB4=3,\"JUMP\",IF(AB4=4,\"BLOCK 4\",\"--\")))))","v":{"$error":"#DIV/0!"}},0,{"$f":"D4","v":0},{"$f":"ROUNDDOWN(E4,0)","v":0},{"$f":"E4-F4","v":0},{"$f":"(D4-E4)","v":0},{"$f":"D4+H4","v":0},{"$f":"IF(H4=0,1,0)","v":1},{"$f":"E4*J4","v":0},{"$f":"30-K2","v":30},{"$f":"(J4-1)^2","v":0},1,{"$f":"IF($L$4>0,D4*N4*M4,E4*M4)","v":0},{"$f":"(SQRT($L$5-O24))^2","v":27},2.0000000000000004,{"$f":"Table14367910[[#This Row],[Partial Diff]]*N4","v":0},{"$f":"SUM(R4:R23)","v":0},{"$f":"M4*(M4-N4)","v":0},{"$f":"T4*Table14367910[[#This Row],[Partial Diff]]","v":0},{"$f":"IF(U4=$V$24,Table14367910[[#This Row],[Full]],0)","v":0},1,{"$f":"IF(W4=$U$24,1,0)","v":1},{"$f":"X4*D4","v":0},{"$f":"T4*(X4-1)^2","v":0},{"$f":"Z4*Table14367910[[#This Row],[Partial]]","v":0},{"$f":"IF($L$4>0,(K4/D4)+2.1*(O4/D4)+(3*Y4/D4)+(4*AA4/E4),(5*(J4+M4)*(E4/(F4+G4))))","v":{"$error":"#DIV/0!"}},null,null,"Term","2228 and 2232"]
[null,null,{"$f":"IF(AB5=1,\"BLOCK 1\",IF(AB5=2.1,\"BLOCK 2.1\",IF(AB5=5,\"SPECIAL\",IF(AB5=3,\"JUMP\",IF(AB5=4,\"BLOCK 4\",\"--\")))))","v":{"$error":"#DIV/0!"}},{"$f":"IFERROR(VLOOKUP(A5,LookUp!$A$2:$B$2780,2,FALSE),\"0\")","v":"0"},{"$f":"IFERROR(VLOOKUP(A5,LookUp!$A$2:$C$2780,3,FALSE),\"0\")","v":"0"},0,0,0,0,1,0,27,0,1,0,null,null,{"$f":"Table14367910[[#This Row],[Partial Diff]]*N5","v":0},null,0,{"$f":"T5*Table14367910[[#This Row],[Partial Diff]]","v":0},{"$f":"IF(U5=$V$24,Table14367910[[#This Row],[Full]],0)","v":"0"},{"$f":"W4+1","v":2},0,0,0,{"$f":"Z5*Table14367910[[#This Row],[Partial]]","v":0},{"$f":"IF($L$4>0,(K5/D5)+2.1*(O5/D5)+(3*Y5/D5)+(4*AA5/E5),(5*(J5+M5)*(E5/(F5+G5))))","v":{"$error":"#DIV/0!"}}]
[null,null,{"$error":"#DIV/0!"},{"$f":"IFERROR(VLOOKUP(A6,LookUp!$A$2:$B$2780,2,FALSE),\"0\")","v":"0"},{"$f":"IFERROR(VLOOKUP(A6,LookUp!$A$2:$C$2780,3,FALSE),\"0\")","v":"0"},0,0,0,0,1,0,null,0,0,0,null,null,{"$f":"Table14367910[[#This Row],[Partial Diff]]*N6","v":0},null,0,{"$f":"T6*Table14367910[[#This Row],[Partial Diff]]","v":0},{"$f":"IF(U6=$V$24,Table14367910[[#This Row],[Full]],0)","v":"0"},3,0,0,0,{"$f":"Z6*Table14367910[[#This Row],[Partial]]","v":0},{"$error":"#DIV/0!"}]
[null,null,{"$error":"#DIV/0!"},{"$f":"IFERROR(VLOOKUP(A7,LookUp!$A$2:$B$2780,2,FALSE),\"0\")","v":"0"},{"$f":"IFERROR(VLOOKUP(A7,LookUp!$A$2:$C$2780,3,FALSE),\"0\")","v":"0"},0,0,0,0,1,0,null,0,1,0,null,null,{"$f":"Table14367910[[#This Row],[Partial Diff]]*N7","v":0},null,0,{"$f":"T7*Table14367910[[#This Row],[Partial Diff]]","v":0},{"$f":"IF(U7=$V$24,Table14367910[[#This Row],[Full]],0)","v":"0"},4,0,0,0,{"$f":"Z7*Table14367910[[#This Row],[Partial]]","v":0},{"$error":"#DIV/0!"}]
[null,null,{"$error":"#DIV/0!"},{"$f":"IFERROR(VLOOKUP(A8,LookUp!$A$2:$B$2780,2,FALSE),\"0\")","v":"0"},{"$f":"IFERROR(VLOOKUP(A8,LookUp!$A$2:$C$2780,3,FALSE),\"0\")","v":"0"},0,0,0,0,1,0,null,0,1,0,{"$f":"MIN($P$4)","v":27},null,{"$f":"Table14367910[[#This Row],[Partial Diff]]*N8","v":0},{"$f":"MAX($S$4)","v":0},0,{"$f":"T8*Table14367910[[#This Row],[Partial Diff]]","v":0},{"$f":"IF(U8=$V$24,Table14367910[[#This Row],[Full]],0)","v":"0"},5,0,0,0,{"$f":"Z8*Table14367910[[#This Row],[Partial]]","v":0},{"$error":"#DIV/0!"}]
[null,null,{"$error":"#DIV/0!"},{"$f":"IFERROR(VLOOKUP(A9,LookUp!$A$2:$B$2780,2,FALSE),\"0\")","v":"0"},{"$f":"IFERROR(VLOOKUP(A9,LookUp!$A$2:$C$2780,3,FALSE),\"0\")","v":"0"},0,0,0,0,1,0,null,0,1,0,{"$f":"COUNT($N$4:$N$23)","v":20},null,{"$f":"Table14367910[[#This Row],[Partial Diff]]*N9","v":0},{"$f":"COUNT($N$4:$N$23)","v":20},0,{"$f":"T9*Table14367910[[#This Row],[Partial Diff]]","v":0},{"$f":"IF(U9=$V$24,Table14367910[[#This Row],[Full]],0)","v":"0"},6,0,0,0,{"$f":"Z9*Table14367910[[#This Row],[Partial]]","v":0},{"$error":"#DIV/0!"}]
[null,null,{"$error":"#DIV/0!"},{"$f":"IFERROR(VLOOKUP(A10,LookUp!$A$2:$B$2780,2,FALSE),\"0\")","v":"0"},{"$f":"IFERROR(VLOOKUP(A10,LookUp!$A$2:$C$2780,3,FALSE),\"0\")","v":"0"},0,0,0,0,1,0,null,0,1,0,{"$f":"($N$4:$N$23=0)+($N$4:$N$23=1)=1","v":true},null,{"$f":"Table14367910[[#This Row],[Partial Diff]]*N10","v":0},{"$f":"$O$24<=($L$5)-1","v":true},0,{"$f":"T10*Table14367910[[#This Row],[Partial Diff]]","v":0},{"$f":"IF(U10=$V$24,Table14367910[[#This Row],[Full]],0)","v":"0"},7,0,0,0,{"$f":"Z10*Table14367910[[#This Row],[Partial]]","v":0},{"$error":"#DIV/0!"}]
[null,null,{"$error":"#DIV/0!"},{"$f":"IFERROR(VLOOKUP(A11,LookUp!$A$2:$B$2780,2,FALSE),\"0\")","v":"0"},{"$f":"IFERROR(VLOOKUP(A11,LookUp!$A$2:$C$2780,3,FALSE),\"0\")","v":"0"},0,0,0,0,1,0,null,0,0,0,{"$f":"$O$24<=($L$5)-1","v":true},null,{"$f":"Table14367910[[#This Row],[Partial Diff]]*N11","v":0},{"$f":"$P$4<=$Q$4","v":false},0,{"$f":"T11*Table14367910[[#This Row],[Partial Diff]]","v":0},{"$f":"IF(U11=$V$24,Table14367910[[#This Row],[Full]],0)","v":"0"},8,0,0,0,{"$f":"Z11*Table14367910[[#This Row],[Partial]]","v":0},{"$error":"#DIV/0!"}]
[null,null,{"$error":"#DIV/0!"},{"$f":"IFERROR(VLOOKUP(A12,LookUp!$A$2:$B$2780,2,FALSE),\"0\")","v":"0"},{"$f":"IFERROR(VLOOKUP(A12,LookUp!$A$2:$C$2780,3,FALSE),\"0\")","v":"0"},0,0,0,0,1,0,null,0,1,0,{"$f":"{32767,32767,0.000001,0.01,FALSE,FALSE,TRUE,1,1,1,0.0001,TRUE}","v":32767},null,{"$f":"Table14367910[[#This Row],[Partial Diff]]*N12","v":0},{"$f":"($N$4:$N$23=0)+($N$4:$N$23=1)=1","v":true},0,{"$f":"T12*Table14367910[[#This Row],[Partial Diff]]","v":0},{"$f":"IF(U12=$V$24,Table14367910[[#This Row],[Full]],0)","v":"0"},9,0,0,0,{"$f":"Z12*Table14367910[[#This Row],[Partial]]","v":0},{"$error":"#DIV/0!"}]
[null,null,{"$error":"#DIV/0!"},{"$f":"IFERROR(VLOOKUP(A13,LookUp!$A$2:$B$2780,2,FALSE),\"0\")","v":"0"},{"$f":"IFERROR(VLOOKUP(A13,LookUp!$A$2:$C$2780,3,FALSE),\"0\")","v":"0"},0,0,0,0,1,0,null,0,0,0,{"$f":"{0,0,3,100,0,FALSE,TRUE,0.075,0,0,FALSE,30}","v":0},null,{"$f":"Table14367910[[#This Row],[Partial Diff]]*N13","v":0},{"$f":"{32767,32767,0.000001,0.01,FALSE,FALSE,TRUE,1,1,1,0.0001,TRUE}","v":32767},0,{"$f":"T13*Table14367910[[#This Row],[Partial Diff]]","v":0},{"$f":"IF(U13=$V$24,Table14367910[[#This Row],[Full]],0)","v":"0"},10,0,0,0,{"$f":"Z13*Table14367910[[#This Row],[Partial]]","v":0},{"$error":"#DIV/0!"}]
[null,null,{"$error":"#DIV/0!"},{"$f":"IFERROR(VLOOKUP(A14,LookUp!$A$2:$B$2780,2,FALSE),\"0\")","v":"0"},{"$f":"IFERROR(VLOOKUP(A14,LookUp!$A$2:$C$2780,3,FALSE),\"0\")","v":"0"},0,0,0,0,1,0,null,0,1,0,null,null,{"$f":"Table14367910[[#This Row],[Partial Diff]]*N14","v":0},{"$f":"{0,0,3,100,0,FALSE,TRUE,0.075,0,0,FALSE,30}","v":0},0,{"$f":"T14*Table14367910[[#This Row],[Partial Diff]]","v":0},{"$f":"IF(U14=$V$24,Table14367910[[#This Row],[Full]],0)","v":"0"},11,0,0,0,{"$f":"Z14*Table14367910[[#This Row],[Partial]]","v":0},{"$error":"#DIV/0!"}]
[null,null,{"$error":"#DIV/0!"},{"$f":"IFERROR(VLOOKUP(A15,LookUp!$A$2:$B$2780,2,FALSE),\"0\")","v":"0"},{"$f":"IFERROR(VLOOKUP(A15,LookUp!$A$2:$C$2780,3,FALSE),\"0\")","v":"0"},0,0,0,0,1,0,null,0,0,0,null,null,{"$f":"Table14367910[[#This Row],[Partial Diff]]*N15","v":0},null,0,{"$f":"T15*Table14367910[[#This Row],[Partial Diff]]","v":0},{"$f":"IF(U15=$V$24,Table14367910[[#This Row],[Full]],0)","v":"0"},12,0,0,0,{"$f":"Z15*Table14367910[[#This Row],[Partial]]","v":0},{"$error":"#DIV/0!"}]
[null,null,{"$error":"#DIV/0!"},{"$f":"IFERROR(VLOOKUP(A16,LookUp!$A$2:$B$2780,2,FALSE),\"0\")","v":"0"},{"$f":"IFERROR(VLOOKUP(A16,LookUp!$A$2:$C$2780,3,FALSE),\"0\")","v":"0"},0,0,0,0,1,0,null,0,1,0,null,null,{"$f":"Table14367910[[#This Row],[Partial Diff]]*N16","v":0},null,0,{"$f":"T16*Table14367910[[#This Row],[Partial Diff]]","v":0},{"$f":"IF(U16=$V$24,Table14367910[[#This Row],[Full]],0)","v":"0"},13,0,0,0,{"$f":"Z16*Table14367910[[#This Row],[Partial]]","v":0},{"$error":"#DIV/0!"}]
[null,null,{"$error":"#DIV/0!"},{"$f":"IFERROR(VLOOKUP(A17,LookUp!$A$2:$B$2780,2,FALSE),\"0\")","v":"0"},{"$f":"IFERROR(VLOOKUP(A17,LookUp!$A$2:$C$2780,3,FALSE),\"0\")","v":"0"},0,0,0,0,1,0,null,0,1,0,null,null,{"$f":"Table14367910[[#This Row],[Partial Diff]]*N17","v":0},null,0,{"$f":"T17*Table14367910[[#This Row],[Partial Diff]]","v":0},{"$f":"IF(U17=$V$24,Table14367910[[#This Row],[Full]],0)","v":"0"},14,0,0,0,{"$f":"Z17*Table14367910[[#This Row],[Partial]]","v":0},{"$error":"#DIV/0!"}]
[null,null,{"$error":"#DIV/0!"},{"$f":"IFERROR(VLOOKUP(A18,LookUp!$A$2:$B$2780,2,FALSE),\"0\")","v":"0"},{"$f":"IFERROR(VLOOKUP(A18,LookUp!$A$2:$C$2780,3,FALSE),\"0\")","v":"0"},0,0,0,0,1,0,null,0,0,0,null,null,{"$f":"Table14367910[[#This Row],[Partial Diff]]*N18","v":0},null,0,{"$f":"T18*Table14367910[[#This Row],[Partial Diff]]","v":0},{"$f":"IF(U18=$V$24,Table14367910[[#This Row],[Full]],0)","v":"0"},15,0,0,0,{"$f":"Z18*Table14367910[[#This Row],[Partial]]","v":0},{"$error":"#DIV/0!"}]
[null,null,{"$error":"#DIV/0!"},{"$f":"IFERROR(VLOOKUP(A19,LookUp!$A$2:$B$2780,2,FALSE),\"0\")","v":"0"},{"$f":"IFERROR(VLOOKUP(A19,LookUp!$A$2:$C$2780,3,FALSE),\"0\")","v":"0"},0,0,0,0,1,0,null,0,1,0,null,null,{"$f":"Table14367910[[#This Row],[Partial Diff]]*N19","v":0},null,0,{"$f":"T19*Table14367910[[#This Row],[Partial Diff]]","v":0},{"$f":"IF(U19=$V$24,Table14367910[[#This Row],[Full]],0)","v":"0"},16,0,0,0,{"$f":"Z19*Table14367910[[#This Row],[Partial]]","v":0},{"$error":"#DIV/0!"}]
[null,null,{"$error":"#DIV/0!"},{"$f":"IFERROR(VLOOKUP(A20,LookUp!$A$2:$B$2780,2,FALSE),\"0\")","v":"0"},{"$f":"IFERROR(VLOOKUP(A20,LookUp!$A$2:$C$2780,3,FALSE),\"0\")","v":"0"},0,0,0,0,1,0,null,0,1,0,null,null,{"$f":"Table14367910[[#This Row],[Partial Diff]]*N20","v":0},null,0,{"$f":"T20*Table14367910[[#This Row],[Partial Diff]]","v":0},{"$f":"IF(U20=$V$24,Table14367910[[#This Row],[Full]],0)","v":"0"},17,0,0,0,{"$f":"Z20*Table14367910[[#This Row],[Partial]]","v":0},{"$error":"#DIV/0!"}]
[null,null,{"$error":"#DIV/0!"},{"$f":"IFERROR(VLOOKUP(A21,LookUp!$A$2:$B$2780,2,FALSE),\"0\")","v":"0"},{"$f":"IFERROR(VLOOKUP(A21,LookUp!$A$2:$C$2780,3,FALSE),\"0\")","v":"0"},0,0,0,0,1,0,null,0,0,0,null,null,{"$f":"Table14367910[[#This Row],[Partial Diff]]*N21","v":0},null,0,{"$f":"T21*Table14367910[[#This Row],[Partial Diff]]","v":0},{"$f":"IF(U21=$V$24,Table14367910[[#This Row],[Full]],0)","v":"0"},18,0,0,0,{"$f":"Z21*Table14367910[[#This Row],[Partial]]","v":0},{"$error":"#DIV/0!"}]
[null,null,{"$error":"#DIV/0!"},{"$f":"IFERROR(VLOOKUP(A22,LookUp!$A$2:$B$2780,2,FALSE),\"0\")","v":"0"},{"$f":"IFERROR(VLOOKUP(A22,LookUp!$A$2:$C$2780,3,FALSE),\"0\")","v":"0"},0,0,0,0,1,0,null,0,0,0,null,null,{"$f":"Table14367910[[#This Row],[Partial Diff]]*N22","v":0},null,0,{"$f":"T22*Table14367910[[#This Row],[Partial Diff]]","v":0},{"$f":"IF(U22=$V$24,Table14367910[[#This Row],[Full]],0)","v":"0"},19,0,0,0,{"$f":"Z22*Table14367910[[#This Row],[Partial]]","v":0},{"$error":"#DIV/0!"}]
[null,null,{"$error":"#DIV/0!"},{"$f":"IFERROR(VLOOKUP(A23,LookUp!$A$2:$B$2780,2,FALSE),\"0\")","v":"0"},{"$f":"IFERROR(VLOOKUP(A23,LookUp!$A$2:$C$2780,3,FALSE),\"0\")","v":"0"},0,0,0,0,1,0,null,0,1,0,null,null,{"$f":"Table14367910[[#This Row],[Partial Diff]]*N23","v":0},null,0,{"$f":"T23*Table14367910[[#This Row],[Partial Diff]]","v":0},{"$f":"IF(U23=$V$24,Table14367910[[#This Row],[Full]],0)","v":"0"},20,0,0,0,{"$f":"Z23*Table14367910[[#This Row],[Partial]]","v":0},{"$error":"#DIV/0!"}]
[null,null,null,null,null,null,null,{"$f":"SUM(H4:H23)","v":0},null,"Subtot",{"$f":"SUM(K4:K23)","v":0},null,null,"Subtot",{"$f":"SUM(O4:O23)","v":0},null,null,{"$f":"SUM(R4:R23)","v":0},null,null,{"$f":"MATCH(MAX(U4:U23),U4:U23,0)","v":1},{"$f":"MAX(U3:U23)","v":0}]
[null,null,null,null,null,null,null,null,null,null,null,null,null,null,null,null,null,null,null,null,"MxPos"]
["Min WLU",{"$f":"SUM(Table14367910[Partial])","v":0}]
["Max WLU",{"$f":"IF(C5=\"Special\",\"0\",SUM(Table14367910[Full]))","v":{"$error":"#DIV/0!"}}]
["CBA",{"$f":"IF(C5=\"Special\",\"0\",K2+O2+X2+AA2)","v":{"$error":"#DIV/0!"}}]
["Release",0]
["Total",{"$f":"IF(C5=\"Special\",\"0\",B28+B29)","v":{"$error":"#DIV/0!"}}]
[]
["OVL ",{"$f":"IF(C5=\"Special\",\"0\",MAX(0,B30-30))","v":{"$error":"#DIV/0!"}}]
["Total Pay",{"$f":"IF(C5=\"Special\",\"0\",MAX(0,B32*750))","v":{"$error":"#DIV/0!"}}]

{"sheet":"Form","index":1,"n_rows":47,"n_cols":8,"rows_kept":47,"cut":false,"hidden":true,"merged":[[1,3,1,7],[6,1,6,8],[35,2,36,6],[35,7,36,7],[39,2,39,6],[42,2,42,6],[30,3,30,6],[3,3,3,4],[4,3,4,4],[5,3,5,4]]}
[]
[null,null,null,"Overload Form Academic Year 2019-2020"]
[]
[null,null,"Faculty Name",{"$f":"'Paycode Section Identifier'!AF2","v":"Name"}]
[null,null,"EMPL ID",{"$f":"'Paycode Section Identifier'!AF3","v":"ID"}]
[null,null,"Term",{"$f":"'Paycode Section Identifier'!AF4","v":"2228 and 2232"}]
[]
[null,null,"Course","Concatenated ID","Cayegory","Full","Partial","Overload Entered in CS"]
[null,null,{"$f":"'Paycode Section Identifier'!A4","v":"Bank"},{"$f":"'Paycode Section Identifier'!B4","v":"From last year"},{"$f":"'Paycode Section Identifier'!C4","v":{"$error":"#DIV/0!"}},{"$f":"'Paycode Section Identifier'!D4","v":0},{"$f":"'Paycode Section Identifier'!E4","v":0}]
[null,null,{"$f":"'Paycode Section Identifier'!A5","v":0},{"$f":"'Paycode Section Identifier'!B5","v":0},{"$f":"'Paycode Section Identifier'!C5","v":{"$error":"#DIV/0!"}},{"$f":"'Paycode Section Identifier'!D5","v":"0"},{"$f":"'Paycode Section Identifier'!E5","v":"0"}]
[null,null,{"$f":"'Paycode Section Identifier'!A6","v":0},{"$f":"'Paycode Section Identifier'!B6","v":0},{"$f":"'Paycode Section Identifier'!C6","v":{"$error":"#DIV/0!"}},{"$f":"'Paycode Section Identifier'!D6","v":"0"},{"$f":"'Paycode Section Identifier'!E6","v":"0"}]
[null,null,{"$f":"'Paycode Section Identifier'!A7","v":0},{"$f":"'Paycode Section Identifier'!B7","v":0},{"$f":"'Paycode Section Identifier'!C7","v":{"$error":"#DIV/0!"}},{"$f":"'Paycode Section Identifier'!D7","v":"0"},{"$f":"'Paycode Section Identifier'!E7","v":"0"}]
[null,null,{"$f":"'Paycode Section Identifier'!A8","v":0},{"$f":"'Paycode Section Identifier'!B8","v":0},{"$f":"'Paycode Section Identifier'!C8","v":{"$error":"#DIV/0!"}},{"$f":"'Paycode Section Identifier'!D8","v":"0"},{"$f":"'Paycode Section Identifier'!E8","v":"0"}]
[null,null,{"$f":"'Paycode Section Identifier'!A9","v":0},{"$f":"'Paycode Section Identifier'!B9","v":0},{"$f":"'Paycode Section Identifier'!C9","v":{"$error":"#DIV/0!"}},{"$f":"'Paycode Section Identifier'!D9","v":"0"},{"$f":"'Paycode Section Identifier'!E9","v":"0"}]
[null,null,{"$f":"'Paycode Section Identifier'!A10","v":0},{"$f":"'Paycode Section Identifier'!B10","v":0},{"$f":"'Paycode Section Identifier'!C10","v":{"$error":"#DIV/0!"}},{"$f":"'Paycode Section Identifier'!D10","v":"0"},{"$f":"'Paycode Section Identifier'!E10","v":"0"}]
[null,null,{"$f":"'Paycode Section Identifier'!A11","v":0},{"$f":"'Paycode Section Identifier'!B11","v":0},{"$f":"'Paycode Section Identifier'!C11","v":{"$error":"#DIV/0!"}},{"$f":"'Paycode Section Identifier'!D11","v":"0"},{"$f":"'Paycode Section Identifier'!E11","v":"0"}," "]
[null,null,{"$f":"'Paycode Section Identifier'!A12","v":0},{"$f":"'Paycode Section Identifier'!B12","v":0},{"$f":"'Paycode Section Identifier'!C12","v":{"$error":"#DIV/0!"}},{"$f":"'Paycode Section Identifier'!D12","v":"0"},{"$f":"'Paycode Section Identifier'!E12","v":"0"}]
[null,null,{"$f":"'Paycode Section Identifier'!A13","v":0},{"$f":"'Paycode Section Identifier'!B13","v":0},{"$f":"'Paycode Section Identifier'!C13","v":{"$error":"#DIV/0!"}},{"$f":"'Paycode Section Identifier'!D13","v":"0"},{"$f":"'Paycode Section Identifier'!E13","v":"0"}]
[null,null,{"$f":"'Paycode Section Identifier'!A14","v":0},{"$f":"'Paycode Section Identifier'!B14","v":0},{"$f":"'Paycode Section Identifier'!C14","v":{"$error":"#DIV/0!"}},{"$f":"'Paycode Section Identifier'!D14","v":"0"},{"$f":"'Paycode Section Identifier'!E14","v":"0"}]
[null,null,{"$f":"'Paycode Section Identifier'!A15","v":0},{"$f":"'Paycode Section Identifier'!B15","v":0},{"$f":"'Paycode Section Identifier'!C15","v":{"$error":"#DIV/0!"}},{"$f":"'Paycode Section Identifier'!D15","v":"0"},{"$f":"'Paycode Section Identifier'!E15","v":"0"}]
[null,null,{"$f":"'Paycode Section Identifier'!A16","v":0},{"$f":"'Paycode Section Identifier'!B16","v":0},{"$f":"'Paycode Section Identifier'!C16","v":{"$error":"#DIV/0!"}},{"$f":"'Paycode Section Identifier'!D16","v":"0"},{"$f":"'Paycode Section Identifier'!E16","v":"0"}]
[null,null,{"$f":"'Paycode Section Identifier'!A17","v":0},{"$f":"'Paycode Section Identifier'!B17","v":0},{"$f":"'Paycode Section Identifier'!C17","v":{"$error":"#DIV/0!"}},{"$f":"'Paycode Section Identifier'!D17","v":"0"},{"$f":"'Paycode Section Identifier'!E17","v":"0"}]
[null,null,{"$f":"'Paycode Section Identifier'!A18","v":0},{"$f":"'Paycode Section Identifier'!B18","v":0},{"$f":"'Paycode Section Identifier'!C18","v":{"$error":"#DIV/0!"}},{"$f":"'Paycode Section Identifier'!D18","v":"0"},{"$f":"'Paycode Section Identifier'!E18","v":"0"}]
[null,null,{"$f":"'Paycode Section Identifier'!A19","v":0},{"$f":"'Paycode Section Identifier'!B19","v":0},{"$f":"'Paycode Section Identifier'!C19","v":{"$error":"#DIV/0!"}},{"$f":"'Paycode Section Identifier'!D19","v":"0"},{"$f":"'Paycode Section Identifier'!E19","v":"0"}]
[null,null,{"$f":"'Paycode Section Identifier'!A20","v":0},{"$f":"'Paycode Section Identifier'!B20","v":0},{"$f":"'Paycode Section Identifier'!C20","v":{"$error":"#DIV/0!"}},{"$f":"'Paycode Section Identifier'!D20","v":"0"},{"$f":"'Paycode Section Identifier'!E20","v":"0"}]
[null,null,{"$f":"'Paycode Section Identifier'!A21","v":0},{"$f":"'Paycode Section Identifier'!B21","v":0},{"$f":"'Paycode Section Identifier'!C21","v":{"$error":"#DIV/0!"}},{"$f":"'Paycode Section Identifier'!D21","v":"0"},{"$f":"'Paycode Section Identifier'!E21","v":"0"}]
[null,null,{"$f":"'Paycode Section Identifier'!A22","v":0},{"$f":"'Paycode Section Identifier'!B22","v":0},{"$f":"'Paycode Section Identifier'!C22","v":{"$error":"#DIV/0!"}},{"$f":"'Paycode Section Identifier'!D22","v":"0"},{"$f":"'Paycode Section Identifier'!E22","v":"0"}]
[null,null,{"$f":"'Paycode Section Identifier'!A23","v":0},{"$f":"'Paycode Section Identifier'!B23","v":0},{"$f":"'Paycode Section Identifier'!C23","v":{"$error":"#DIV/0!"}},{"$f":"'Paycode Section Identifier'!D23","v":"0"},{"$f":"'Paycode Section Identifier'!E23","v":"0"}]
[null,null,null,null,null,null,"Total entered in CS",{"$f":"SUM(H9:H28)","v":0}]
[]
[null,null,null,"Final Values"]
[null,null,null,"CBA WLU",{"$f":"'Paycode Section Identifier'!B28","v":{"$error":"#DIV/0!"}},"Overload ",{"$f":"'Paycode Section Identifier'!B32","v":{"$error":"#DIV/0!"}}]
[null,null,null,"Release",{"$f":"'Paycode Section Identifier'!B29","v":0},"Total Pay",{"$f":"'Paycode Section Identifier'!B33","v":{"$error":"#DIV/0!"}}]
[null,null,null,"Total",{"$f":"'Paycode Section Identifier'!B30","v":{"$error":"#DIV/0!"}}]
[]
[null,null,"Sign",null,null,null,null,"2020-01-01"]
[]
[null,"Faculty Member Signature",null,null,null,null,null,"Date"]
[null,null,null," "]
[null,null,"Rich",null,null,null,null,"2020-01-01"]
[null,"Department Chair/Program Coordinator/Program Manager (if applicable)",null,null,null,null,null,"Date"]
[null,null,null," "]
[null,null,"Rich",null,null,null,null,"2020-01-01"]
[null,"Dean",null,null,null,null,null,"Date"]
[]
[null," ",null," "]
[null,null,null,null,null,null,null,"REV 2019-2020 1.2"]

{"sheet":"LookUp","index":2,"n_rows":2780,"n_cols":19,"rows_kept":2780,"cut":false,"hidden":true,"merged":[]}
["Course Name","Full Work Load","Part WorkLoad","Old Full","Old Partial","Diff Full","Diff Partial","NOTES","Terms"]
["AAE0001A",1.28,1.28,{"$f":"VLOOKUP(A:A,#REF!,2,FALSE)","v":{"$error":"#REF!"}},{"$f":"VLOOKUP(A:A,#REF!,3,FALSE)","v":{"$error":"#REF!"}},{"$f":"B2-D2","v":{"$error":"#REF!"}},{"$f":"C2-E2","v":{"$error":"#REF!"}},null,"2228 and 2232"]
["AAE0001N",1.28,1.28,{"$f":"VLOOKUP(A:A,#REF!,2,FALSE)","v":{"$error":"#REF!"}},{"$f":"VLOOKUP(A:A,#REF!,3,FALSE)","v":{"$error":"#REF!"}},{"$f":"B3-D3","v":{"$error":"#REF!"}},{"$f":"C3-E3","v":{"$error":"#REF!"}},null,"2228 and 2235"]
["ABX0125A",2.56,2.56,{"$f":"VLOOKUP(A:A,#REF!,2,FALSE)","v":{"$error":"#REF!"}},{"$f":"VLOOKUP(A:A,#REF!,3,FALSE)","v":{"$error":"#REF!"}},{"$error":"#REF!"},{"$error":"#REF!"},null,"2232 and 2235",null,null,null,null,null,null,null,null,0,0]
["ABX0125B",1.79,1.79,{"$f":"VLOOKUP(A:A,#REF!,2,FALSE)","v":{"$error":"#REF!"}},{"$f":"VLOOKUP(A:A,#REF!,3,FALSE)","v":{"$error":"#REF!"}},{"$error":"#REF!"},{"$error":"#REF!"}]
["ABX0125C",0.77,0.77,{"$f":"VLOOKUP(A:A,#REF!,2,FALSE)","v":{"$error":"#REF!"}},{"$f":"VLOOKUP(A:A,#REF!,3,FALSE)","v":{"$error":"#REF!"}},{"$error":"#REF!"},{"$error":"#REF!"}]
["ABX0125D",1.28,1.28,{"$f":"VLOOKUP(A:A,#REF!,2,FALSE)","v":{"$error":"#REF!"}},{"$f":"VLOOKUP(A:A,#REF!,3,FALSE)","v":{"$error":"#REF!"}},{"$error":"#REF!"},{"$error":"#REF!"}]
["ABX0125E",1.28,1.28,{"$f":"VLOOKUP(A:A,#REF!,2,FALSE)","v":{"$error":"#REF!"}},{"$f":"VLOOKUP(A:A,#REF!,3,FALSE)","v":{"$error":"#REF!"}},{"$error":"#REF!"},{"$error":"#REF!"}]
["ABX0125N",2.56,2.56,{"$f":"VLOOKUP(A:A,#REF!,2,FALSE)","v":{"$error":"#REF!"}},{"$f":"VLOOKUP(A:A,#REF!,3,FALSE)","v":{"$error":"#REF!"}},{"$error":"#REF!"},{"$error":"#REF!"}]
["ABX0126A",2.56,2.56,{"$f":"VLOOKUP(A:A,#REF!,2,FALSE)","v":{"$error":"#REF!"}},{"$f":"VLOOKUP(A:A,#REF!,3,FALSE)","v":{"$error":"#REF!"}},{"$error":"#REF!"},{"$error":"#REF!"}]
["ABX0126B",1.79,1.79,{"$f":"VLOOKUP(A:A,#REF!,2,FALSE)","v":{"$error":"#REF!"}},{"$f":"VLOOKUP(A:A,#REF!,3,FALSE)","v":{"$error":"#REF!"}},{"$error":"#REF!"},{"$error":"#REF!"}]
["ABX0126C",0.77,0.77,{"$f":"VLOOKUP(A:A,#REF!,2,FALSE)","v":{"$error":"#REF!"}},{"$f":"VLOOKUP(A:A,#REF!,3,FALSE)","v":{"$error":"#REF!"}},{"$error":"#REF!"},{"$error":"#REF!"}]
["ABX0126D",1.28,1.28,{"$f":"VLOOKUP(A:A,#REF!,2,FALSE)","v":{"$error":"#REF!"}},{"$f":"VLOOKUP(A:A,#REF!,3,FALSE)","v":{"$error":"#REF!"}},{"$error":"#REF!"},{"$error":"#REF!"}]
["ABX0126E",1.28,1.28,{"$f":"VLOOKUP(A:A,#REF!,2,FALSE)","v":{"$error":"#REF!"}},{"$f":"VLOOKUP(A:A,#REF!,3,FALSE)","v":{"$error":"#REF!"}},{"$error":"#REF!"},{"$error":"#REF!"}]
["ABX0126N",2.56,2.56,{"$f":"VLOOKUP(A:A,#REF!,2,FALSE)","v":{"$error":"#REF!"}},{"$f":"VLOOKUP(A:A,#REF!,3,FALSE)","v":{"$error":"#REF!"}},{"$error":"#REF!"},{"$error":"#REF!"}]
["ABX0127A",2.56,2.56,{"$f":"VLOOKUP(A:A,#REF!,2,FALSE)","v":{"$error":"#REF!"}},{"$f":"VLOOKUP(A:A,#REF!,3,FALSE)","v":{"$error":"#REF!"}},{"$error":"#REF!"},{"$error":"#REF!"}]
["ABX0127B",1.79,1.79,{"$f":"VLOOKUP(A:A,#REF!,2,FALSE)","v":{"$error":"#REF!"}},{"$f":"VLOOKUP(A:A,#REF!,3,FALSE)","v":{"$error":"#REF!"}},{"$error":"#REF!"},{"$error":"#REF!"}]
["ABX0127C",0.77,0.77,{"$f":"VLOOKUP(A:A,#REF!,2,FALSE)","v":{"$error":"#REF!"}},{"$f":"VLOOKUP(A:A,#REF!,3,FALSE)","v":{"$error":"#REF!"}},{"$error":"#REF!"},{"$error":"#REF!"}]
["ABX0127D",1.28,1.28,{"$f":"VLOOKUP(A:A,#REF!,2,FALSE)","v":{"$error":"#REF!"}},{"$f":"VLOOKUP(A:A,#REF!,3,FALSE)","v":{"$error":"#REF!"}},{"$error":"#REF!"},{"$error":"#REF!"}]
["ABX0127E",1.28,1.28,{"$f":"VLOOKUP(A:A,#REF!,2,FALSE)","v":{"$error":"#REF!"}},{"$f":"VLOOKUP(A:A,#REF!,3,FALSE)","v":{"$error":"#REF!"}},{"$error":"#REF!"},{"$error":"#REF!"}]
["ABX0127N",2.56,2.56,{"$f":"VLOOKUP(A:A,#REF!,2,FALSE)","v":{"$error":"#REF!"}},{"$f":"VLOOKUP(A:A,#REF!,3,FALSE)","v":{"$error":"#REF!"}},{"$error":"#REF!"},{"$error":"#REF!"}]
["ABX0215B",1.79,1.79,{"$f":"VLOOKUP(A:A,#REF!,2,FALSE)","v":{"$error":"#REF!"}},{"$f":"VLOOKUP(A:A,#REF!,3,FALSE)","v":{"$error":"#REF!"}},{"$error":"#REF!"},{"$error":"#REF!"}]
["ABX0215C",0.77,0.77,{"$f":"VLOOKUP(A:A,#REF!,2,FALSE)","v":{"$error":"#REF!"}},{"$f":"VLOOKUP(A:A,#REF!,3,FALSE)","v":{"$error":"#REF!"}},{"$error":"#REF!"},{"$error":"#REF!"}]
["ABX0215D",1.28,1.28,{"$f":"VLOOKUP(A:A,#REF!,2,FALSE)","v":{"$error":"#REF!"}},{"$f":"VLOOKUP(A:A,#REF!,3,FALSE)","v":{"$error":"#REF!"}},{"$error":"#REF!"},{"$error":"#REF!"}]
["ABX0215E",1.28,1.28,{"$f":"VLOOKUP(A:A,#REF!,2,FALSE)","v":{"$error":"#REF!"}},{"$f":"VLOOKUP(A:A,#REF!,3,FALSE)","v":{"$error":"#REF!"}},{"$error":"#REF!"},{"$error":"#REF!"}]
["ABX0215N",2.56,2.56,{"$f":"VLOOKUP(A:A,#REF!,2,FALSE)","v":{"$error":"#REF!"}},{"$f":"VLOOKUP(A:A,#REF!,3,FALSE)","v":{"$error":"#REF!"}},{"$error":"#REF!"},{"$error":"#REF!"}]
["ABX0216A",2.56,2.56,{"$f":"VLOOKUP(A:A,#REF!,2,FALSE)","v":{"$error":"#REF!"}},{"$f":"VLOOKUP(A:A,#REF!,3,FALSE)","v":{"$error":"#REF!"}},{"$error":"#REF!"},{"$error":"#REF!"}]
["ABX0216B",1.79,1.79,{"$f":"VLOOKUP(A:A,#REF!,2,FALSE)","v":{"$error":"#REF!"}},{"$f":"VLOOKUP(A:A,#REF!,3,FALSE)","v":{"$error":"#REF!"}},{"$error":"#REF!"},{"$error":"#REF!"}]
["ABX0216C",0.77,0.77,{"$f":"VLOOKUP(A:A,#REF!,2,FALSE)","v":{"$error":"#REF!"}},{"$f":"VLOOKUP(A:A,#REF!,3,FALSE)","v":{"$error":"#REF!"}},{"$error":"#REF!"},{"$error":"#REF!"}]
["ABX0216D",1.28,1.28,{"$f":"VLOOKUP(A:A,#REF!,2,FALSE)","v":{"$error":"#REF!"}},{"$f":"VLOOKUP(A:A,#REF!,3,FALSE)","v":{"$error":"#REF!"}},{"$error":"#REF!"},{"$error":"#REF!"}]
["ABX0216E",1.28,1.28,{"$f":"VLOOKUP(A:A,#REF!,2,FALSE)","v":{"$error":"#REF!"}},{"$f":"VLOOKUP(A:A,#REF!,3,FALSE)","v":{"$error":"#REF!"}},{"$error":"#REF!"},{"$error":"#REF!"}]
["ABX0216N",2.56,2.56,{"$f":"VLOOKUP(A:A,#REF!,2,FALSE)","v":{"$error":"#REF!"}},{"$f":"VLOOKUP(A:A,#REF!,3,FALSE)","v":{"$error":"#REF!"}},{"$error":"#REF!"},{"$error":"#REF!"}]
["ABX0217A",2.56,2.56,{"$f":"VLOOKUP(A:A,#REF!,2,FALSE)","v":{"$error":"#REF!"}},{"$f":"VLOOKUP(A:A,#REF!,3,FALSE)","v":{"$error":"#REF!"}},{"$error":"#REF!"},{"$error":"#REF!"}]
["ABX0217A",2.56,2.56,{"$f":"VLOOKUP(A:A,#REF!,2,FALSE)","v":{"$error":"#REF!"}},{"$f":"VLOOKUP(A:A,#REF!,3,FALSE)","v":{"$error":"#REF!"}},{"$error":"#REF!"},{"$error":"#REF!"}]
["ABX0217B",1.79,1.79,{"$f":"VLOOKUP(A:A,#REF!,2,FALSE)","v":{"$error":"#REF!"}},{"$f":"VLOOKUP(A:A,#REF!,3,FALSE)","v":{"$error":"#REF!"}},{"$error":"#REF!"},{"$error":"#REF!"}]
["ABX0217C",0.77,0.77,{"$f":"VLOOKUP(A:A,#REF!,2,FALSE)","v":{"$error":"#REF!"}},{"$f":"VLOOKUP(A:A,#REF!,3,FALSE)","v":{"$error":"#REF!"}},{"$error":"#REF!"},{"$error":"#REF!"}]
["ABX0217D",1.28,1.28,{"$f":"VLOOKUP(A:A,#REF!,2,FALSE)","v":{"$error":"#REF!"}},{"$f":"VLOOKUP(A:A,#REF!,3,FALSE)","v":{"$error":"#REF!"}},{"$error":"#REF!"},{"$error":"#REF!"}]
["ABX0217E",1.28,1.28,{"$f":"VLOOKUP(A:A,#REF!,2,FALSE)","v":{"$error":"#REF!"}},{"$f":"VLOOKUP(A:A,#REF!,3,FALSE)","v":{"$error":"#REF!"}},{"$error":"#REF!"},{"$error":"#REF!"}]
["ABX0217N",2.56,2.56,{"$f":"VLOOKUP(A:A,#REF!,2,FALSE)","v":{"$error":"#REF!"}},{"$f":"VLOOKUP(A:A,#REF!,3,FALSE)","v":{"$error":"#REF!"}},{"$error":"#REF!"},{"$error":"#REF!"}]
["ABX0335A",2.56,2.56,{"$f":"VLOOKUP(A:A,#REF!,2,FALSE)","v":{"$error":"#REF!"}},{"$f":"VLOOKUP(A:A,#REF!,3,FALSE)","v":{"$error":"#REF!"}},{"$error":"#REF!"},{"$error":"#REF!"}]
["ABX0335B",1.79,1.79,{"$f":"VLOOKUP(A:A,#REF!,2,FALSE)","v":{"$error":"#REF!"}},{"$f":"VLOOKUP(A:A,#REF!,3,FALSE)","v":{"$error":"#REF!"}},{"$error":"#REF!"},{"$error":"#REF!"}]
["ABX0335C",0.77,0.77,{"$f":"VLOOKUP(A:A,#REF!,2,FALSE)","v":{"$error":"#REF!"}},{"$f":"VLOOKUP(A:A,#REF!,3,FALSE)","v":{"$error":"#REF!"}},{"$error":"#REF!"},{"$error":"#REF!"}]
["ABX0335D",1.28,1.28,{"$f":"VLOOKUP(A:A,#REF!,2,FALSE)","v":{"$error":"#REF!"}},{"$f":"VLOOKUP(A:A,#REF!,3,FALSE)","v":{"$error":"#REF!"}},{"$error":"#REF!"},{"$error":"#REF!"}]
["ABX0335E",1.28,1.28,{"$f":"VLOOKUP(A:A,#REF!,2,FALSE)","v":{"$error":"#REF!"}},{"$f":"VLOOKUP(A:A,#REF!,3,FALSE)","v":{"$error":"#REF!"}},{"$error":"#REF!"},{"$error":"#REF!"}]
["ABX0336A",2.56,2.56,{"$f":"VLOOKUP(A:A,#REF!,2,FALSE)","v":{"$error":"#REF!"}},{"$f":"VLOOKUP(A:A,#REF!,3,FALSE)","v":{"$error":"#REF!"}},{"$error":"#REF!"},{"$error":"#REF!"}]
["ABX0336B",1.79,1.79,{"$f":"VLOOKUP(A:A,#REF!,2,FALSE)","v":{"$error":"#REF!"}},{"$f":"VLOOKUP(A:A,#REF!,3,FALSE)","v":{"$error":"#REF!"}},{"$error":"#REF!"},{"$error":"#REF!"}]
["ABX0336C",0.77,0.77,{"$f":"VLOOKUP(A:A,#REF!,2,FALSE)","v":{"$error":"#REF!"}},{"$f":"VLOOKUP(A:A,#REF!,3,FALSE)","v":{"$error":"#REF!"}},{"$error":"#REF!"},{"$error":"#REF!"}]
["ABX0336D",1.28,1.28,{"$f":"VLOOKUP(A:A,#REF!,2,FALSE)","v":{"$error":"#REF!"}},{"$f":"VLOOKUP(A:A,#REF!,3,FALSE)","v":{"$error":"#REF!"}},{"$error":"#REF!"},{"$error":"#REF!"}]
["ABX0336E",1.28,1.28,{"$f":"VLOOKUP(A:A,#REF!,2,FALSE)","v":{"$error":"#REF!"}},{"$f":"VLOOKUP(A:A,#REF!,3,FALSE)","v":{"$error":"#REF!"}},{"$error":"#REF!"},{"$error":"#REF!"}]
["ABX0336N",2.56,2.56,{"$f":"VLOOKUP(A:A,#REF!,2,FALSE)","v":{"$error":"#REF!"}},{"$f":"VLOOKUP(A:A,#REF!,3,FALSE)","v":{"$error":"#REF!"}},{"$error":"#REF!"},{"$error":"#REF!"}]
["ABX0337A",2.56,2.56,{"$f":"VLOOKUP(A:A,#REF!,2,FALSE)","v":{"$error":"#REF!"}},{"$f":"VLOOKUP(A:A,#REF!,3,FALSE)","v":{"$error":"#REF!"}},{"$error":"#REF!"},{"$error":"#REF!"}]
["ABX0337B",1.79,1.79,{"$f":"VLOOKUP(A:A,#REF!,2,FALSE)","v":{"$error":"#REF!"}},{"$f":"VLOOKUP(A:A,#REF!,3,FALSE)","v":{"$error":"#REF!"}},{"$error":"#REF!"},{"$error":"#REF!"}]
["ABX0337C",0.77,0.77,{"$f":"VLOOKUP(A:A,#REF!,2,FALSE)","v":{"$error":"#REF!"}},{"$f":"VLOOKUP(A:A,#REF!,3,FALSE)","v":{"$error":"#REF!"}},{"$error":"#REF!"},{"$error":"#REF!"}]
["ABX0337D",1.28,1.28,{"$f":"VLOOKUP(A:A,#REF!,2,FALSE)","v":{"$error":"#REF!"}},{"$f":"VLOOKUP(A:A,#REF!,3,FALSE)","v":{"$error":"#REF!"}},{"$error":"#REF!"},{"$error":"#REF!"}]
["ABX0337E",1.28,1.28,{"$f":"VLOOKUP(A:A,#REF!,2,FALSE)","v":{"$error":"#REF!"}},{"$f":"VLOOKUP(A:A,#REF!,3,FALSE)","v":{"$error":"#REF!"}},{"$error":"#REF!"},{"$error":"#REF!"}]
["ABX0337N",2.56,2.56,{"$f":"VLOOKUP(A:A,#REF!,2,FALSE)","v":{"$error":"#REF!"}},{"$f":"VLOOKUP(A:A,#REF!,3,FALSE)","v":{"$error":"#REF!"}},{"$error":"#REF!"},{"$error":"#REF!"}]
["ABX0420A",2.56,2.56,{"$f":"VLOOKUP(A:A,#REF!,2,FALSE)","v":{"$error":"#REF!"}},{"$f":"VLOOKUP(A:A,#REF!,3,FALSE)","v":{"$error":"#REF!"}},{"$error":"#REF!"},{"$error":"#REF!"}]
["ABX0420B",1.79,1.79,{"$f":"VLOOKUP(A:A,#REF!,2,FALSE)","v":{"$error":"#REF!"}},{"$f":"VLOOKUP(A:A,#REF!,3,FALSE)","v":{"$error":"#REF!"}},{"$error":"#REF!"},{"$error":"#REF!"}]
["ABX0420C",0.77,0.77,{"$f":"VLOOKUP(A:A,#REF!,2,FALSE)","v":{"$error":"#REF!"}},{"$f":"VLOOKUP(A:A,#REF!,3,FALSE)","v":{"$error":"#REF!"}},{"$error":"#REF!"},{"$error":"#REF!"}]
["ABX0420D",1.28,1.28,{"$f":"VLOOKUP(A:A,#REF!,2,FALSE)","v":{"$error":"#REF!"}},{"$f":"VLOOKUP(A:A,#REF!,3,FALSE)","v":{"$error":"#REF!"}},{"$error":"#REF!"},{"$error":"#REF!"}]
["ABX0420E",1.28,1.28,{"$f":"VLOOKUP(A:A,#REF!,2,FALSE)","v":{"$error":"#REF!"}},{"$f":"VLOOKUP(A:A,#REF!,3,FALSE)","v":{"$error":"#REF!"}},{"$error":"#REF!"},{"$error":"#REF!"}]
["ABX0420N",2.56,2.56,{"$f":"VLOOKUP(A:A,#REF!,2,FALSE)","v":{"$error":"#REF!"}},{"$f":"VLOOKUP(A:A,#REF!,3,FALSE)","v":{"$error":"#REF!"}},{"$error":"#REF!"},{"$error":"#REF!"}]
["ABX0421A",2.56,2.56,{"$f":"VLOOKUP(A:A,#REF!,2,FALSE)","v":{"$error":"#REF!"}},{"$f":"VLOOKUP(A:A,#REF!,3,FALSE)","v":{"$error":"#REF!"}},{"$error":"#REF!"},{"$error":"#REF!"}]
["ABX0421B",1.79,1.79,{"$f":"VLOOKUP(A:A,#REF!,2,FALSE)","v":{"$error":"#REF!"}},{"$f":"VLOOKUP(A:A,#REF!,3,FALSE)","v":{"$error":"#REF!"}},{"$error":"#REF!"},{"$error":"#REF!"}]
["ABX0421C",0.77,0.77,{"$f":"VLOOKUP(A:A,#REF!,2,FALSE)","v":{"$error":"#REF!"}},{"$f":"VLOOKUP(A:A,#REF!,3,FALSE)","v":{"$error":"#REF!"}},{"$error":"#REF!"},{"$error":"#REF!"}]
["ABX0421D",1.28,1.28,{"$f":"VLOOKUP(A:A,#REF!,2,FALSE)","v":{"$error":"#REF!"}},{"$f":"VLOOKUP(A:A,#REF!,3,FALSE)","v":{"$error":"#REF!"}},{"$error":"#REF!"},{"$error":"#REF!"}]
["ABX0421E",1.28,1.28,{"$f":"VLOOKUP(A:A,#REF!,2,FALSE)","v":{"$error":"#REF!"}},{"$f":"VLOOKUP(A:A,#REF!,3,FALSE)","v":{"$error":"#REF!"}},{"$f":"B67-D67","v":{"$error":"#REF!"}},{"$f":"C67-E67","v":{"$error":"#REF!"}}]
["ABX0421N",2.56,2.56,{"$f":"VLOOKUP(A:A,#REF!,2,FALSE)","v":{"$error":"#REF!"}},{"$f":"VLOOKUP(A:A,#REF!,3,FALSE)","v":{"$error":"#REF!"}},{"$error":"#REF!"},{"$error":"#REF!"}]
["ABX0422A",2.56,2.56,{"$f":"VLOOKUP(A:A,#REF!,2,FALSE)","v":{"$error":"#REF!"}},{"$f":"VLOOKUP(A:A,#REF!,3,FALSE)","v":{"$error":"#REF!"}},{"$error":"#REF!"},{"$error":"#REF!"}]
["ABX0422B",1.79,1.79,{"$f":"VLOOKUP(A:A,#REF!,2,FALSE)","v":{"$error":"#REF!"}},{"$f":"VLOOKUP(A:A,#REF!,3,FALSE)","v":{"$error":"#REF!"}},{"$error":"#REF!"},{"$error":"#REF!"}]
["ABX0422C",0.77,0.77,{"$f":"VLOOKUP(A:A,#REF!,2,FALSE)","v":{"$error":"#REF!"}},{"$f":"VLOOKUP(A:A,#REF!,3,FALSE)","v":{"$error":"#REF!"}},{"$error":"#REF!"},{"$error":"#REF!"}]
["ABX0422D",1.28,1.28,{"$f":"VLOOKUP(A:A,#REF!,2,FALSE)","v":{"$error":"#REF!"}},{"$f":"VLOOKUP(A:A,#REF!,3,FALSE)","v":{"$error":"#REF!"}},{"$error":"#REF!"},{"$error":"#REF!"}]
["ABX0422E",1.28,1.28,{"$f":"VLOOKUP(A:A,#REF!,2,FALSE)","v":{"$error":"#REF!"}},{"$f":"VLOOKUP(A:A,#REF!,3,FALSE)","v":{"$error":"#REF!"}},{"$error":"#REF!"},{"$error":"#REF!"}]
["ABX0422N",2.56,2.56,{"$f":"VLOOKUP(A:A,#REF!,2,FALSE)","v":{"$error":"#REF!"}},{"$f":"VLOOKUP(A:A,#REF!,3,FALSE)","v":{"$error":"#REF!"}},{"$error":"#REF!"},{"$error":"#REF!"}]
["ACG2021",3,3,{"$f":"VLOOKUP(A:A,#REF!,2,FALSE)","v":{"$error":"#REF!"}},{"$f":"VLOOKUP(A:A,#REF!,3,FALSE)","v":{"$error":"#REF!"}},{"$error":"#REF!"},{"$error":"#REF!"}]
["ACG2030",3,3,{"$f":"VLOOKUP(A:A,#REF!,2,FALSE)","v":{"$error":"#REF!"}},{"$f":"VLOOKUP(A:A,#REF!,3,FALSE)","v":{"$error":"#REF!"}},{"$error":"#REF!"},{"$error":"#REF!"}]
["ACG2071",3,3,{"$f":"VLOOKUP(A:A,#REF!,2,FALSE)","v":{"$error":"#REF!"}},{"$f":"VLOOKUP(A:A,#REF!,3,FALSE)","v":{"$error":"#REF!"}},{"$error":"#REF!"},{"$error":"#REF!"}]
["ACG2450",4,3.7,{"$f":"VLOOKUP(A:A,#REF!,2,FALSE)","v":{"$error":"#REF!"}},{"$f":"VLOOKUP(A:A,#REF!,3,FALSE)","v":{"$error":"#REF!"}},{"$error":"#REF!"},{"$error":"#REF!"}]
["ACG2680",3,3,{"$f":"VLOOKUP(A:A,#REF!,2,FALSE)","v":{"$error":"#REF!"}},{"$f":"VLOOKUP(A:A,#REF!,3,FALSE)","v":{"$error":"#REF!"}},{"$error":"#REF!"},{"$error":"#REF!"}]
["ACG3024",3,3,{"$f":"VLOOKUP(A:A,#REF!,2,FALSE)","v":{"$error":"#REF!"}},{"$f":"VLOOKUP(A:A,#REF!,3,FALSE)","v":{"$error":"#REF!"}},{"$error":"#REF!"},{"$error":"#REF!"}]
["ACR0000",5,4.16,{"$f":"VLOOKUP(A:A,#REF!,2,FALSE)","v":{"$error":"#REF!"}},{"$f":"VLOOKUP(A:A,#REF!,3,FALSE)","v":{"$error":"#REF!"}},{"$error":"#REF!"},{"$error":"#REF!"}]
["ACR0000L",5,4.16,{"$f":"VLOOKUP(A:A,#REF!,2,FALSE)","v":{"$error":"#REF!"}},{"$f":"VLOOKUP(A:A,#REF!,3,FALSE)","v":{"$error":"#REF!"}},{"$error":"#REF!"},{"$error":"#REF!"}]
["ACR0001",5,4.16,{"$f":"VLOOKUP(A:A,#REF!,2,FALSE)","v":{"$error":"#REF!"}},{"$f":"VLOOKUP(A:A,#REF!,3,FALSE)","v":{"$error":"#REF!"}},{"$error":"#REF!"},{"$error":"#REF!"}]
["ACR0001L",5,4.16,{"$f":"VLOOKUP(A:A,#REF!,2,FALSE)","v":{"$error":"#REF!"}},{"$f":"VLOOKUP(A:A,#REF!,3,FALSE)","v":{"$error":"#REF!"}},{"$error":"#REF!"},{"$error":"#REF!"}]
["ACR0002",5,4.16,{"$f":"VLOOKUP(A:A,#REF!,2,FALSE)","v":{"$error":"#REF!"}},{"$f":"VLOOKUP(A:A,#REF!,3,FALSE)","v":{"$error":"#REF!"}},{"$error":"#REF!"},{"$error":"#REF!"}]
["ACR0002L",5,4.16,{"$f":"VLOOKUP(A:A,#REF!,2,FALSE)","v":{"$error":"#REF!"}},{"$f":"VLOOKUP(A:A,#REF!,3,FALSE)","v":{"$error":"#REF!"}},{"$error":"#REF!"},{"$error":"#REF!"}]
["ACR0012",5,4.16,{"$f":"VLOOKUP(A:A,#REF!,2,FALSE)","v":{"$error":"#REF!"}},{"$f":"VLOOKUP(A:A,#REF!,3,FALSE)","v":{"$error":"#REF!"}},{"$error":"#REF!"},{"$error":"#REF!"}]
["ACR0012L",5,4.16,{"$f":"VLOOKUP(A:A,#REF!,2,FALSE)","v":{"$error":"#REF!"}},{"$f":"VLOOKUP(A:A,#REF!,3,FALSE)","v":{"$error":"#REF!"}},{"$error":"#REF!"},{"$error":"#REF!"}]
["ACR0013",5,4.16,{"$f":"VLOOKUP(A:A,#REF!,2,FALSE)","v":{"$error":"#REF!"}},{"$f":"VLOOKUP(A:A,#REF!,3,FALSE)","v":{"$error":"#REF!"}},{"$error":"#REF!"},{"$error":"#REF!"}]
["ACR0013L",5,4.16,{"$f":"VLOOKUP(A:A,#REF!,2,FALSE)","v":{"$error":"#REF!"}},{"$f":"VLOOKUP(A:A,#REF!,3,FALSE)","v":{"$error":"#REF!"}},{"$error":"#REF!"},{"$error":"#REF!"}]
["ACR0045",7,5.83,{"$f":"VLOOKUP(A:A,#REF!,2,FALSE)","v":{"$error":"#REF!"}},{"$f":"VLOOKUP(A:A,#REF!,3,FALSE)","v":{"$error":"#REF!"}},{"$error":"#REF!"},{"$error":"#REF!"}]
["ACR0045L",7,5.83,{"$f":"VLOOKUP(A:A,#REF!,2,FALSE)","v":{"$error":"#REF!"}},{"$f":"VLOOKUP(A:A,#REF!,3,FALSE)","v":{"$error":"#REF!"}},{"$error":"#REF!"},{"$error":"#REF!"}]
["ACR0100",5,4.16,{"$f":"VLOOKUP(A:A,#REF!,2,FALSE)","v":{"$error":"#REF!"}},{"$f":"VLOOKUP(A:A,#REF!,3,FALSE)","v":{"$error":"#REF!"}},{"$error":"#REF!"},{"$error":"#REF!"}]
["ACR0102",5,4.16,{"$f":"VLOOKUP(A:A,#REF!,2,FALSE)","v":{"$error":"#REF!"}},{"$f":"VLOOKUP(A:A,#REF!,3,FALSE)","v":{"$error":"#REF!"}},{"$error":"#REF!"},{"$error":"#REF!"}]
["ACR0575",4.68,3.9,{"$f":"VLOOKUP(A:A,#REF!,2,FALSE)","v":{"$error":"#REF!"}},{"$f":"VLOOKUP(A:A,#REF!,3,FALSE)","v":{"$error":"#REF!"}},{"$error":"#REF!"},{"$error":"#REF!"}]
["ACR0577",4.6399999999999997,3.87,{"$f":"VLOOKUP(A:A,#REF!,2,FALSE)","v":{"$error":"#REF!"}},{"$f":"VLOOKUP(A:A,#REF!,3,FALSE)","v":{"$error":"#REF!"}},{"$error":"#REF!"},{"$error":"#REF!"}]
["ACR0578",4.68,3.9,{"$f":"VLOOKUP(A:A,#REF!,2,FALSE)","v":{"$error":"#REF!"}},{"$f":"VLOOKUP(A:A,#REF!,3,FALSE)","v":{"$error":"#REF!"}},{"$error":"#REF!"},{"$error":"#REF!"}]
["ACR0621",5,4.16,{"$f":"VLOOKUP(A:A,#REF!,2,FALSE)","v":{"$error":"#REF!"}},{"$f":"VLOOKUP(A:A,#REF!,3,FALSE)","v":{"$error":"#REF!"}},{"$error":"#REF!"},{"$error":"#REF!"}]
["ACR0622",5,4.16,{"$f":"VLOOKUP(A:A,#REF!,2,FALSE)","v":{"$error":"#REF!"}},{"$f":"VLOOKUP(A:A,#REF!,3,FALSE)","v":{"$error":"#REF!"}},{"$error":"#REF!"},{"$error":"#REF!"}]
["ACR1611",3.5,3.5,{"$f":"VLOOKUP(A:A,#REF!,2,FALSE)","v":{"$error":"#REF!"}},{"$f":"VLOOKUP(A:A,#REF!,3,FALSE)","v":{"$error":"#REF!"}},{"$error":"#REF!"},{"$error":"#REF!"}]
["ACR1947",0.01,0.01,{"$f":"VLOOKUP(A:A,#REF!,2,FALSE)","v":{"$error":"#REF!"}},{"$f":"VLOOKUP(A:A,#REF!,3,FALSE)","v":{"$error":"#REF!"}},{"$error":"#REF!"},{"$error":"#REF!"}]
["ADV2000",3,3,{"$f":"VLOOKUP(A:A,#REF!,2,FALSE)","v":{"$error":"#REF!"}},{"$f":"VLOOKUP(A:A,#REF!,3,FALSE)","v":{"$error":"#REF!"}},{"$error":"#REF!"},{"$error":"#REF!"}]
["AER0014",10,10,{"$f":"VLOOKUP(A:A,#REF!,2,FALSE)","v":{"$error":"#REF!"}},{"$f":"VLOOKUP(A:A,#REF!,3,FALSE)","v":{"$error":"#REF!"}},{"$error":"#REF!"},{"$error":"#REF!"}]
["AER1081C",6,6,{"$f":"VLOOKUP(A:A,#REF!,2,FALSE)","v":{"$error":"#REF!"}},{"$f":"VLOOKUP(A:A,#REF!,3,FALSE)","v":{"$error":"#REF!"}},{"$error":"#REF!"},{"$error":"#REF!"}]
["AER1198",6,5,{"$f":"VLOOKUP(A:A,#REF!,2,FALSE)","v":{"$error":"#REF!"}},{"$f":"VLOOKUP(A:A,#REF!,3,FALSE)","v":{"$error":"#REF!"}},{"$error":"#REF!"},{"$error":"#REF!"}]
["AER1291",6,5,{"$f":"VLOOKUP(A:A,#REF!,2,FALSE)","v":{"$error":"#REF!"}},{"$f":"VLOOKUP(A:A,#REF!,3,FALSE)","v":{"$error":"#REF!"}},{"$error":"#REF!"},{"$error":"#REF!"}]
["AER1398",6,5,{"$f":"VLOOKUP(A:A,#REF!,2,FALSE)","v":{"$error":"#REF!"}},{"$f":"VLOOKUP(A:A,#REF!,3,FALSE)","v":{"$error":"#REF!"}},{"$error":"#REF!"},{"$error":"#REF!"}]
["AER1420C",4,4,{"$f":"VLOOKUP(A:A,#REF!,2,FALSE)","v":{"$error":"#REF!"}},{"$f":"VLOOKUP(A:A,#REF!,3,FALSE)","v":{"$error":"#REF!"}},{"$error":"#REF!"},{"$error":"#REF!"}]
["AER1425",3,3,{"$f":"VLOOKUP(A:A,#REF!,2,FALSE)","v":{"$error":"#REF!"}},{"$f":"VLOOKUP(A:A,#REF!,3,FALSE)","v":{"$error":"#REF!"}},{"$error":"#REF!"},{"$error":"#REF!"}]
["AER1498C",6,6,{"$f":"VLOOKUP(A:A,#REF!,2,FALSE)","v":{"$error":"#REF!"}},{"$f":"VLOOKUP(A:A,#REF!,3,FALSE)","v":{"$error":"#REF!"}},{"$error":"#REF!"},{"$error":"#REF!"}]
["AER1598C",6,6,{"$f":"VLOOKUP(A:A,#REF!,2,FALSE)","v":{"$error":"#REF!"}},{"$f":"VLOOKUP(A:A,#REF!,3,FALSE)","v":{"$error":"#REF!"}},{"$error":"#REF!"},{"$error":"#REF!"}]
["AER1694C",6,6,{"$f":"VLOOKUP(A:A,#REF!,2,FALSE)","v":{"$error":"#REF!"}},{"$f":"VLOOKUP(A:A,#REF!,3,FALSE)","v":{"$error":"#REF!"}},{"$error":"#REF!"},{"$error":"#REF!"}]
["AER1798C",6,5,{"$f":"VLOOKUP(A:A,#REF!,2,FALSE)","v":{"$error":"#REF!"}},{"$f":"VLOOKUP(A:A,#REF!,3,FALSE)","v":{"$error":"#REF!"}},{"$error":"#REF!"},{"$error":"#REF!"}]
["AER1933L",1,0.5,{"$f":"VLOOKUP(A:A,#REF!,2,FALSE)","v":{"$error":"#REF!"}},{"$f":"VLOOKUP(A:A,#REF!,3,FALSE)","v":{"$error":"#REF!"}},{"$error":"#REF!"},{"$error":"#REF!"}]
["AER2695C",6,6,{"$f":"VLOOKUP(A:A,#REF!,2,FALSE)","v":{"$error":"#REF!"}},{"$f":"VLOOKUP(A:A,#REF!,3,FALSE)","v":{"$error":"#REF!"}},{"$error":"#REF!"},{"$error":"#REF!"}]
["AER2895C",6,5,{"$f":"VLOOKUP(A:A,#REF!,2,FALSE)","v":{"$error":"#REF!"}},{"$f":"VLOOKUP(A:A,#REF!,3,FALSE)","v":{"$error":"#REF!"}},{"$error":"#REF!"},{"$error":"#REF!"}]
["AER2896",6,5,{"$f":"VLOOKUP(A:A,#REF!,2,FALSE)","v":{"$error":"#REF!"}},{"$f":"VLOOKUP(A:A,#REF!,3,FALSE)","v":{"$error":"#REF!"}},{"$error":"#REF!"},{"$error":"#REF!"}]
["AER2899",6,5,{"$f":"VLOOKUP(A:A,#REF!,2,FALSE)","v":{"$error":"#REF!"}},{"$f":"VLOOKUP(A:A,#REF!,3,FALSE)","v":{"$error":"#REF!"}},{"$error":"#REF!"},{"$error":"#REF!"}]
["AER2957",0.01,0.01,{"$f":"VLOOKUP(A:A,#REF!,2,FALSE)","v":{"$error":"#REF!"}},{"$f":"VLOOKUP(A:A,#REF!,3,FALSE)","v":{"$error":"#REF!"}},{"$error":"#REF!"},{"$error":"#REF!"}]
["AER2958",0.01,0.01,{"$f":"VLOOKUP(A:A,#REF!,2,FALSE)","v":{"$error":"#REF!"}},{"$f":"VLOOKUP(A:A,#REF!,3,FALSE)","v":{"$error":"#REF!"}},{"$error":"#REF!"},{"$error":"#REF!"}]
["AHS0160A",2.56,2.56,{"$f":"VLOOKUP(A:A,#REF!,2,FALSE)","v":{"$error":"#REF!"}},{"$f":"VLOOKUP(A:A,#REF!,3,FALSE)","v":{"$error":"#REF!"}},{"$error":"#REF!"},{"$error":"#REF!"}]
["AHS0160B",1.79,1.79,{"$f":"VLOOKUP(A:A,#REF!,2,FALSE)","v":{"$error":"#REF!"}},{"$f":"VLOOKUP(A:A,#REF!,3,FALSE)","v":{"$error":"#REF!"}},{"$error":"#REF!"},{"$error":"#REF!"}]
["AHS0160C",0.77,0.77,{"$f":"VLOOKUP(A:A,#REF!,2,FALSE)","v":{"$error":"#REF!"}},{"$f":"VLOOKUP(A:A,#REF!,3,FALSE)","v":{"$error":"#REF!"}},{"$error":"#REF!"},{"$error":"#REF!"}]
["AHS0160D",1.28,1.28,{"$f":"VLOOKUP(A:A,#REF!,2,FALSE)","v":{"$error":"#REF!"}},{"$f":"VLOOKUP(A:A,#REF!,3,FALSE)","v":{"$error":"#REF!"}},{"$error":"#REF!"},{"$error":"#REF!"}]
["AHS0160E",1.28,1.28,{"$f":"VLOOKUP(A:A,#REF!,2,FALSE)","v":{"$error":"#REF!"}},{"$f":"VLOOKUP(A:A,#REF!,3,FALSE)","v":{"$error":"#REF!"}},{"$error":"#REF!"},{"$error":"#REF!"}]
["AHS0160N",2.56,2.56,{"$f":"VLOOKUP(A:A,#REF!,2,FALSE)","v":{"$error":"#REF!"}},{"$f":"VLOOKUP(A:A,#REF!,3,FALSE)","v":{"$error":"#REF!"}},{"$error":"#REF!"},{"$error":"#REF!"}]
["AHS0161A",2.56,2.56,{"$f":"VLOOKUP(A:A,#REF!,2,FALSE)","v":{"$error":"#REF!"}},{"$f":"VLOOKUP(A:A,#REF!,3,FALSE)","v":{"$error":"#REF!"}},{"$error":"#REF!"},{"$error":"#REF!"}]
["AHS0161B",1.79,1.79,{"$f":"VLOOKUP(A:A,#REF!,2,FALSE)","v":{"$error":"#REF!"}},{"$f":"VLOOKUP(A:A,#REF!,3,FALSE)","v":{"$error":"#REF!"}},{"$error":"#REF!"},{"$error":"#REF!"}]
["AHS0161C",0.77,0.77,{"$f":"VLOOKUP(A:A,#REF!,2,FALSE)","v":{"$error":"#REF!"}},{"$f":"VLOOKUP(A:A,#REF!,3,FALSE)","v":{"$error":"#REF!"}},{"$error":"#REF!"},{"$error":"#REF!"}]
["AHS0161D",1.28,1.28,{"$f":"VLOOKUP(A:A,#REF!,2,FALSE)","v":{"$error":"#REF!"}},{"$f":"VLOOKUP(A:A,#REF!,3,FALSE)","v":{"$error":"#REF!"}},{"$error":"#REF!"},{"$error":"#REF!"}]
["AHS0161E",1.28,1.28,{"$f":"VLOOKUP(A:A,#REF!,2,FALSE)","v":{"$error":"#REF!"}},{"$f":"VLOOKUP(A:A,#REF!,3,FALSE)","v":{"$error":"#REF!"}},{"$f":"B131-D131","v":{"$error":"#REF!"}},{"$f":"C131-E131","v":{"$error":"#REF!"}}]
["AHS0161N",2.56,2.56,{"$f":"VLOOKUP(A:A,#REF!,2,FALSE)","v":{"$error":"#REF!"}},{"$f":"VLOOKUP(A:A,#REF!,3,FALSE)","v":{"$error":"#REF!"}},{"$error":"#REF!"},{"$error":"#REF!"}]
["AHS0162A",2.56,2.56,{"$f":"VLOOKUP(A:A,#REF!,2,FALSE)","v":{"$error":"#REF!"}},{"$f":"VLOOKUP(A:A,#REF!,3,FALSE)","v":{"$error":"#REF!"}},{"$error":"#REF!"},{"$error":"#REF!"}]
["AHS0162B",0.77,0.77,{"$f":"VLOOKUP(A:A,#REF!,2,FALSE)","v":{"$error":"#REF!"}},{"$f":"VLOOKUP(A:A,#REF!,3,FALSE)","v":{"$error":"#REF!"}},{"$error":"#REF!"},{"$error":"#REF!"}]
["AHS0162C",0.77,0.77,{"$f":"VLOOKUP(A:A,#REF!,2,FALSE)","v":{"$error":"#REF!"}},{"$f":"VLOOKUP(A:A,#REF!,3,FALSE)","v":{"$error":"#REF!"}},{"$error":"#REF!"},{"$error":"#REF!"}]
["AHS0162D",1.28,1.28,{"$f":"VLOOKUP(A:A,#REF!,2,FALSE)","v":{"$error":"#REF!"}},{"$f":"VLOOKUP(A:A,#REF!,3,FALSE)","v":{"$error":"#REF!"}},{"$error":"#REF!"},{"$error":"#REF!"}]
["AHS0162E",1.28,1.28,{"$f":"VLOOKUP(A:A,#REF!,2,FALSE)","v":{"$error":"#REF!"}},{"$f":"VLOOKUP(A:A,#REF!,3,FALSE)","v":{"$error":"#REF!"}},{"$error":"#REF!"},{"$error":"#REF!"}]
["AHS0162N",2.56,2.56,{"$f":"VLOOKUP(A:A,#REF!,2,FALSE)","v":{"$error":"#REF!"}},{"$f":"VLOOKUP(A:A,#REF!,3,FALSE)","v":{"$error":"#REF!"}},{"$error":"#REF!"},{"$error":"#REF!"}]
["AHS0163A",2.56,2.56,{"$f":"VLOOKUP(A:A,#REF!,2,FALSE)","v":{"$error":"#REF!"}},{"$f":"VLOOKUP(A:A,#REF!,3,FALSE)","v":{"$error":"#REF!"}},{"$error":"#REF!"},{"$error":"#REF!"}]
["AHS0163B",1.79,1.79,{"$f":"VLOOKUP(A:A,#REF!,2,FALSE)","v":{"$error":"#REF!"}},{"$f":"VLOOKUP(A:A,#REF!,3,FALSE)","v":{"$error":"#REF!"}},{"$error":"#REF!"},{"$error":"#REF!"}]
["AHS0163C",0.77,0.77,{"$f":"VLOOKUP(A:A,#REF!,2,FALSE)","v":{"$error":"#REF!"}},{"$f":"VLOOKUP(A:A,#REF!,3,FALSE)","v":{"$error":"#REF!"}},{"$error":"#REF!"},{"$error":"#REF!"}]
["AHS0163D",1.28,1.28,{"$f":"VLOOKUP(A:A,#REF!,2,FALSE)","v":{"$error":"#REF!"}},{"$f":"VLOOKUP(A:A,#REF!,3,FALSE)","v":{"$error":"#REF!"}},{"$error":"#REF!"},{"$error":"#REF!"}]
["AHS0163E",1.28,1.28,{"$f":"VLOOKUP(A:A,#REF!,2,FALSE)","v":{"$error":"#REF!"}},{"$f":"VLOOKUP(A:A,#REF!,3,FALSE)","v":{"$error":"#REF!"}},{"$error":"#REF!"},{"$error":"#REF!"}]
["AHS0163N",2.56,2.56,{"$f":"VLOOKUP(A:A,#REF!,2,FALSE)","v":{"$error":"#REF!"}},{"$f":"VLOOKUP(A:A,#REF!,3,FALSE)","v":{"$error":"#REF!"}},{"$error":"#REF!"},{"$error":"#REF!"}]
["AHS0164A",2.56,2.56,{"$f":"VLOOKUP(A:A,#REF!,2,FALSE)","v":{"$error":"#REF!"}},{"$f":"VLOOKUP(A:A,#REF!,3,FALSE)","v":{"$error":"#REF!"}},{"$error":"#REF!"},{"$error":"#REF!"}]
["AHS0164B",1.79,1.79,{"$f":"VLOOKUP(A:A,#REF!,2,FALSE)","v":{"$error":"#REF!"}},{"$f":"VLOOKUP(A:A,#REF!,3,FALSE)","v":{"$error":"#REF!"}},{"$error":"#REF!"},{"$error":"#REF!"}]
["AHS0164C",0.77,0.77,{"$f":"VLOOKUP(A:A,#REF!,2,FALSE)","v":{"$error":"#REF!"}},{"$f":"VLOOKUP(A:A,#REF!,3,FALSE)","v":{"$error":"#REF!"}},{"$error":"#REF!"},{"$error":"#REF!"}]
["AHS0164D",1.28,1.28,{"$f":"VLOOKUP(A:A,#REF!,2,FALSE)","v":{"$error":"#REF!"}},{"$f":"VLOOKUP(A:A,#REF!,3,FALSE)","v":{"$error":"#REF!"}},{"$error":"#REF!"},{"$error":"#REF!"}]
["AHS0164E",1.28,1.28,{"$f":"VLOOKUP(A:A,#REF!,2,FALSE)","v":{"$error":"#REF!"}},{"$f":"VLOOKUP(A:A,#REF!,3,FALSE)","v":{"$error":"#REF!"}},{"$error":"#REF!"},{"$error":"#REF!"}]
["AHS0164N",2.13,2.13,{"$f":"VLOOKUP(A:A,#REF!,2,FALSE)","v":{"$error":"#REF!"}},{"$f":"VLOOKUP(A:A,#REF!,3,FALSE)","v":{"$error":"#REF!"}},{"$error":"#REF!"},{"$error":"#REF!"}]
["AHS0165A",2.56,2.56,{"$f":"VLOOKUP(A:A,#REF!,2,FALSE)","v":{"$error":"#REF!"}},{"$f":"VLOOKUP(A:A,#REF!,3,FALSE)","v":{"$error":"#REF!"}},{"$error":"#REF!"},{"$error":"#REF!"}]
["AHS0165B",1.79,1.79,{"$f":"VLOOKUP(A:A,#REF!,2,FALSE)","v":{"$error":"#REF!"}},{"$f":"VLOOKUP(A:A,#REF!,3,FALSE)","v":{"$error":"#REF!"}},{"$error":"#REF!"},{"$error":"#REF!"}]
["AHS0165C",0.77,0.77,{"$f":"VLOOKUP(A:A,#REF!,2,FALSE)","v":{"$error":"#REF!"}},{"$f":"VLOOKUP(A:A,#REF!,3,FALSE)","v":{"$error":"#REF!"}},{"$error":"#REF!"},{"$error":"#REF!"}]
["AHS0165D",1.28,1.28,{"$f":"VLOOKUP(A:A,#REF!,2,FALSE)","v":{"$error":"#REF!"}},{"$f":"VLOOKUP(A:A,#REF!,3,FALSE)","v":{"$error":"#REF!"}},{"$error":"#REF!"},{"$error":"#REF!"}]
["AHS0165E",1.28,1.28,{"$f":"VLOOKUP(A:A,#REF!,2,FALSE)","v":{"$error":"#REF!"}},{"$f":"VLOOKUP(A:A,#REF!,3,FALSE)","v":{"$error":"#REF!"}},{"$error":"#REF!"},{"$error":"#REF!"}]
["AHS0165N",2.13,2.13,{"$f":"VLOOKUP(A:A,#REF!,2,FALSE)","v":{"$error":"#REF!"}},{"$f":"VLOOKUP(A:A,#REF!,3,FALSE)","v":{"$error":"#REF!"}},{"$error":"#REF!"},{"$error":"#REF!"}]
["AHS0166A",2.56,2.56,{"$f":"VLOOKUP(A:A,#REF!,2,FALSE)","v":{"$error":"#REF!"}},{"$f":"VLOOKUP(A:A,#REF!,3,FALSE)","v":{"$error":"#REF!"}},{"$error":"#REF!"},{"$error":"#REF!"}]
["AHS0166B",1.79,1.79,{"$f":"VLOOKUP(A:A,#REF!,2,FALSE)","v":{"$error":"#REF!"}},{"$f":"VLOOKUP(A:A,#REF!,3,FALSE)","v":{"$error":"#REF!"}},{"$error":"#REF!"},{"$error":"#REF!"}]
["AHS0166C",0.77,0.77,{"$f":"VLOOKUP(A:A,#REF!,2,FALSE)","v":{"$error":"#REF!"}},{"$f":"VLOOKUP(A:A,#REF!,3,FALSE)","v":{"$error":"#REF!"}},{"$error":"#REF!"},{"$error":"#REF!"}]
["AHS0166D",1.28,1.28,{"$f":"VLOOKUP(A:A,#REF!,2,FALSE)","v":{"$error":"#REF!"}},{"$f":"VLOOKUP(A:A,#REF!,3,FALSE)","v":{"$error":"#REF!"}},{"$error":"#REF!"},{"$error":"#REF!"}]
["AHS0166E",1.28,1.28,{"$f":"VLOOKUP(A:A,#REF!,2,FALSE)","v":{"$error":"#REF!"}},{"$f":"VLOOKUP(A:A,#REF!,3,FALSE)","v":{"$error":"#REF!"}},{"$error":"#REF!"},{"$error":"#REF!"}]
["AHS0166N",2.58,2.58,{"$f":"VLOOKUP(A:A,#REF!,2,FALSE)","v":{"$error":"#REF!"}},{"$f":"VLOOKUP(A:A,#REF!,3,FALSE)","v":{"$error":"#REF!"}},{"$error":"#REF!"},{"$error":"#REF!"}]
["AHS0167A",2.56,2.56,{"$f":"VLOOKUP(A:A,#REF!,2,FALSE)","v":{"$error":"#REF!"}},{"$f":"VLOOKUP(A:A,#REF!,3,FALSE)","v":{"$error":"#REF!"}},{"$error":"#REF!"},{"$error":"#REF!"}]
["AHS0167B",1.79,1.79,{"$f":"VLOOKUP(A:A,#REF!,2,FALSE)","v":{"$error":"#REF!"}},{"$f":"VLOOKUP(A:A,#REF!,3,FALSE)","v":{"$error":"#REF!"}},{"$error":"#REF!"},{"$error":"#REF!"}]
["AHS0167C",0.77,0.77,{"$f":"VLOOKUP(A:A,#REF!,2,FALSE)","v":{"$error":"#REF!"}},{"$f":"VLOOKUP(A:A,#REF!,3,FALSE)","v":{"$error":"#REF!"}},{"$error":"#REF!"},{"$error":"#REF!"}]
["AHS0167D",1.28,1.28,{"$f":"VLOOKUP(A:A,#REF!,2,FALSE)","v":{"$error":"#REF!"}},{"$f":"VLOOKUP(A:A,#REF!,3,FALSE)","v":{"$error":"#REF!"}},{"$error":"#REF!"},{"$error":"#REF!"}]
["AHS0167E",1.28,1.28,{"$f":"VLOOKUP(A:A,#REF!,2,FALSE)","v":{"$error":"#REF!"}},{"$f":"VLOOKUP(A:A,#REF!,3,FALSE)","v":{"$error":"#REF!"}},{"$error":"#REF!"},{"$error":"#REF!"}]
["AHS0167N",2.56,2.56,{"$f":"VLOOKUP(A:A,#REF!,2,FALSE)","v":{"$error":"#REF!"}},{"$f":"VLOOKUP(A:A,#REF!,3,FALSE)","v":{"$error":"#REF!"}},{"$error":"#REF!"},{"$error":"#REF!"}]
["AHS0260A",2.56,2.56,{"$f":"VLOOKUP(A:A,#REF!,2,FALSE)","v":{"$error":"#REF!"}},{"$f":"VLOOKUP(A:A,#REF!,3,FALSE)","v":{"$error":"#REF!"}},{"$error":"#REF!"},{"$error":"#REF!"}]
["AHS0260B",1.79,1.79,{"$f":"VLOOKUP(A:A,#REF!,2,FALSE)","v":{"$error":"#REF!"}},{"$f":"VLOOKUP(A:A,#REF!,3,FALSE)","v":{"$error":"#REF!"}},{"$error":"#REF!"},{"$error":"#REF!"}]
["AHS0260C",0.77,0.77,{"$f":"VLOOKUP(A:A,#REF!,2,FALSE)","v":{"$error":"#REF!"}},{"$f":"VLOOKUP(A:A,#REF!,3,FALSE)","v":{"$error":"#REF!"}},{"$error":"#REF!"},{"$error":"#REF!"}]
["AHS0260D",1.28,1.28,{"$f":"VLOOKUP(A:A,#REF!,2,FALSE)","v":{"$error":"#REF!"}},{"$f":"VLOOKUP(A:A,#REF!,3,FALSE)","v":{"$error":"#REF!"}},{"$error":"#REF!"},{"$error":"#REF!"}]
["AHS0260E",1.28,1.28,{"$f":"VLOOKUP(A:A,#REF!,2,FALSE)","v":{"$error":"#REF!"}},{"$f":"VLOOKUP(A:A,#REF!,3,FALSE)","v":{"$error":"#REF!"}},{"$error":"#REF!"},{"$error":"#REF!"}]
["AHS0260N",2.56,2.56,{"$f":"VLOOKUP(A:A,#REF!,2,FALSE)","v":{"$error":"#REF!"}},{"$f":"VLOOKUP(A:A,#REF!,3,FALSE)","v":{"$error":"#REF!"}},{"$error":"#REF!"},{"$error":"#REF!"}]
["AHS0261A",2.56,2.56,{"$f":"VLOOKUP(A:A,#REF!,2,FALSE)","v":{"$error":"#REF!"}},{"$f":"VLOOKUP(A:A,#REF!,3,FALSE)","v":{"$error":"#REF!"}},{"$error":"#REF!"},{"$error":"#REF!"}]
["AHS0261B",1.79,1.79,{"$f":"VLOOKUP(A:A,#REF!,2,FALSE)","v":{"$error":"#REF!"}},{"$f":"VLOOKUP(A:A,#REF!,3,FALSE)","v":{"$error":"#REF!"}},{"$error":"#REF!"},{"$error":"#REF!"}]
["AHS0261C",0.77,0.77,{"$f":"VLOOKUP(A:A,#REF!,2,FALSE)","v":{"$error":"#REF!"}},{"$f":"VLOOKUP(A:A,#REF!,3,FALSE)","v":{"$error":"#REF!"}},{"$error":"#REF!"},{"$error":"#REF!"}]
["AHS0261D",1.28,1.28,{"$f":"VLOOKUP(A:A,#REF!,2,FALSE)","v":{"$error":"#REF!"}},{"$f":"VLOOKUP(A:A,#REF!,3,FALSE)","v":{"$error":"#REF!"}},{"$error":"#REF!"},{"$error":"#REF!"}]
["AHS0261E",1.28,1.28,{"$f":"VLOOKUP(A:A,#REF!,2,FALSE)","v":{"$error":"#REF!"}},{"$f":"VLOOKUP(A:A,#REF!,3,FALSE)","v":{"$error":"#REF!"}},{"$error":"#REF!"},{"$error":"#REF!"}]
["AHS0261N",2.56,2.56,{"$f":"VLOOKUP(A:A,#REF!,2,FALSE)","v":{"$error":"#REF!"}},{"$f":"VLOOKUP(A:A,#REF!,3,FALSE)","v":{"$error":"#REF!"}},{"$error":"#REF!"},{"$error":"#REF!"}]
["AHS0262A",2.56,2.56,{"$f":"VLOOKUP(A:A,#REF!,2,FALSE)","v":{"$error":"#REF!"}},{"$f":"VLOOKUP(A:A,#REF!,3,FALSE)","v":{"$error":"#REF!"}},{"$error":"#REF!"},{"$error":"#REF!"}]
["AHS0262B",1.79,1.79,{"$f":"VLOOKUP(A:A,#REF!,2,FALSE)","v":{"$error":"#REF!"}},{"$f":"VLOOKUP(A:A,#REF!,3,FALSE)","v":{"$error":"#REF!"}},{"$error":"#REF!"},{"$error":"#REF!"}]
["AHS0262C",0.77,0.77,{"$f":"VLOOKUP(A:A,#REF!,2,FALSE)","v":{"$error":"#REF!"}},{"$f":"VLOOKUP(A:A,#REF!,3,FALSE)","v":{"$error":"#REF!"}},{"$error":"#REF!"},{"$error":"#REF!"}]
["AHS0262D",1.28,1.28,{"$f":"VLOOKUP(A:A,#REF!,2,FALSE)","v":{"$error":"#REF!"}},{"$f":"VLOOKUP(A:A,#REF!,3,FALSE)","v":{"$error":"#REF!"}},{"$error":"#REF!"},{"$error":"#REF!"}]
["AHS0262E",1.28,1.28,{"$f":"VLOOKUP(A:A,#REF!,2,FALSE)","v":{"$error":"#REF!"}},{"$f":"VLOOKUP(A:A,#REF!,3,FALSE)","v":{"$error":"#REF!"}},{"$error":"#REF!"},{"$error":"#REF!"}]
["AHS0262N",2.56,2.56,{"$f":"VLOOKUP(A:A,#REF!,2,FALSE)","v":{"$error":"#REF!"}},{"$f":"VLOOKUP(A:A,#REF!,3,FALSE)","v":{"$error":"#REF!"}},{"$error":"#REF!"},{"$error":"#REF!"}]
["AHS0263A",2.56,2.56,{"$f":"VLOOKUP(A:A,#REF!,2,FALSE)","v":{"$error":"#REF!"}},{"$f":"VLOOKUP(A:A,#REF!,3,FALSE)","v":{"$error":"#REF!"}},{"$error":"#REF!"},{"$error":"#REF!"}]
["AHS0263B",1.79,1.79,{"$f":"VLOOKUP(A:A,#REF!,2,FALSE)","v":{"$error":"#REF!"}},{"$f":"VLOOKUP(A:A,#REF!,3,FALSE)","v":{"$error":"#REF!"}},{"$error":"#REF!"},{"$error":"#REF!"}]
["AHS0263C",0.77,0.77,{"$f":"VLOOKUP(A:A,#REF!,2,FALSE)","v":{"$error":"#REF!"}},{"$f":"VLOOKUP(A:A,#REF!,3,FALSE)","v":{"$error":"#REF!"}},{"$error":"#REF!"},{"$error":"#REF!"}]
["AHS0263D",1.28,1.28,{"$f":"VLOOKUP(A:A,#REF!,2,FALSE)","v":{"$error":"#REF!"}},{"$f":"VLOOKUP(A:A,#REF!,3,FALSE)","v":{"$error":"#REF!"}},{"$error":"#REF!"},{"$error":"#REF!"}]
["AHS0263E",1.28,1.28,{"$f":"VLOOKUP(A:A,#REF!,2,FALSE)","v":{"$error":"#REF!"}},{"$f":"VLOOKUP(A:A,#REF!,3,FALSE)","v":{"$error":"#REF!"}},{"$error":"#REF!"},{"$error":"#REF!"}]
["AHS0263N",2.56,2.56,{"$f":"VLOOKUP(A:A,#REF!,2,FALSE)","v":{"$error":"#REF!"}},{"$f":"VLOOKUP(A:A,#REF!,3,FALSE)","v":{"$error":"#REF!"}},{"$error":"#REF!"},{"$error":"#REF!"}]
["AHS0264A",2.56,2.56,{"$f":"VLOOKUP(A:A,#REF!,2,FALSE)","v":{"$error":"#REF!"}},{"$f":"VLOOKUP(A:A,#REF!,3,FALSE)","v":{"$error":"#REF!"}},{"$error":"#REF!"},{"$error":"#REF!"}]
["AHS0264B",1.79,1.79,{"$f":"VLOOKUP(A:A,#REF!,2,FALSE)","v":{"$error":"#REF!"}},{"$f":"VLOOKUP(A:A,#REF!,3,FALSE)","v":{"$error":"#REF!"}},{"$error":"#REF!"},{"$error":"#REF!"}]
["AHS0264C",0.77,0.77,{"$f":"VLOOKUP(A:A,#REF!,2,FALSE)","v":{"$error":"#REF!"}},{"$f":"VLOOKUP(A:A,#REF!,3,FALSE)","v":{"$error":"#REF!"}},{"$f":"B195-D195","v":{"$error":"#REF!"}},{"$f":"C195-E195","v":{"$error":"#REF!"}}]
["AHS0264D",1.28,1.28,{"$f":"VLOOKUP(A:A,#REF!,2,FALSE)","v":{"$error":"#REF!"}},{"$f":"VLOOKUP(A:A,#REF!,3,FALSE)","v":{"$error":"#REF!"}},{"$error":"#REF!"},{"$error":"#REF!"}]
["AHS0264E",1.28,1.28,{"$f":"VLOOKUP(A:A,#REF!,2,FALSE)","v":{"$error":"#REF!"}},{"$f":"VLOOKUP(A:A,#REF!,3,FALSE)","v":{"$error":"#REF!"}},{"$error":"#REF!"},{"$error":"#REF!"}]
["AHS0264N",2.56,2.56,{"$f":"VLOOKUP(A:A,#REF!,2,FALSE)","v":{"$error":"#REF!"}},{"$f":"VLOOKUP(A:A,#REF!,3,FALSE)","v":{"$error":"#REF!"}},{"$error":"#REF!"},{"$error":"#REF!"}]
["AHS0265A",1.79,1.79,{"$f":"VLOOKUP(A:A,#REF!,2,FALSE)","v":{"$error":"#REF!"}},{"$f":"VLOOKUP(A:A,#REF!,3,FALSE)","v":{"$error":"#REF!"}},{"$error":"#REF!"},{"$error":"#REF!"}]
["AHS0265B",1.79,1.79,{"$f":"VLOOKUP(A:A,#REF!,2,FALSE)","v":{"$error":"#REF!"}},{"$f":"VLOOKUP(A:A,#REF!,3,FALSE)","v":{"$error":"#REF!"}},{"$error":"#REF!"},{"$error":"#REF!"}]
["AHS0265C",0.77,0.77,{"$f":"VLOOKUP(A:A,#REF!,2,FALSE)","v":{"$error":"#REF!"}},{"$f":"VLOOKUP(A:A,#REF!,3,FALSE)","v":{"$error":"#REF!"}},{"$error":"#REF!"},{"$error":"#REF!"}]
["AHS0265D",1.28,1.28,{"$f":"VLOOKUP(A:A,#REF!,2,FALSE)","v":{"$error":"#REF!"}},{"$f":"VLOOKUP(A:A,#REF!,3,FALSE)","v":{"$error":"#REF!"}},{"$error":"#REF!"},{"$error":"#REF!"}]
["AHS0265E",1.28,1.28,{"$f":"VLOOKUP(A:A,#REF!,2,FALSE)","v":{"$error":"#REF!"}},{"$f":"VLOOKUP(A:A,#REF!,3,FALSE)","v":{"$error":"#REF!"}},{"$error":"#REF!"},{"$error":"#REF!"}]
["AHS0265N",2.56,2.56,{"$f":"VLOOKUP(A:A,#REF!,2,FALSE)","v":{"$error":"#REF!"}},{"$f":"VLOOKUP(A:A,#REF!,3,FALSE)","v":{"$error":"#REF!"}},{"$error":"#REF!"},{"$error":"#REF!"}]
["AHS0266A",2.56,2.56,{"$f":"VLOOKUP(A:A,#REF!,2,FALSE)","v":{"$error":"#REF!"}},{"$f":"VLOOKUP(A:A,#REF!,3,FALSE)","v":{"$error":"#REF!"}},{"$error":"#REF!"},{"$error":"#REF!"}]
["AHS0266B",1.79,1.79,{"$f":"VLOOKUP(A:A,#REF!,2,FALSE)","v":{"$error":"#REF!"}},{"$f":"VLOOKUP(A:A,#REF!,3,FALSE)","v":{"$error":"#REF!"}},{"$error":"#REF!"},{"$error":"#REF!"}]
["AHS0266C",0.77,0.77,{"$f":"VLOOKUP(A:A,#REF!,2,FALSE)","v":{"$error":"#REF!"}},{"$f":"VLOOKUP(A:A,#REF!,3,FALSE)","v":{"$error":"#REF!"}},{"$error":"#REF!"},{"$error":"#REF!"}]
["AHS0266D",1.28,1.28,{"$f":"VLOOKUP(A:A,#REF!,2,FALSE)","v":{"$error":"#REF!"}},{"$f":"VLOOKUP(A:A,#REF!,3,FALSE)","v":{"$error":"#REF!"}},{"$error":"#REF!"},{"$error":"#REF!"}]
["AHS0266E",1.28,1.28,{"$f":"VLOOKUP(A:A,#REF!,2,FALSE)","v":{"$error":"#REF!"}},{"$f":"VLOOKUP(A:A,#REF!,3,FALSE)","v":{"$error":"#REF!"}},{"$error":"#REF!"},{"$error":"#REF!"}]
["AHS0266N",2.56,2.56,{"$f":"VLOOKUP(A:A,#REF!,2,FALSE)","v":{"$error":"#REF!"}},{"$f":"VLOOKUP(A:A,#REF!,3,FALSE)","v":{"$error":"#REF!"}},{"$error":"#REF!"},{"$error":"#REF!"}]
["AHS0267A",2.56,2.56,{"$f":"VLOOKUP(A:A,#REF!,2,FALSE)","v":{"$error":"#REF!"}},{"$f":"VLOOKUP(A:A,#REF!,3,FALSE)","v":{"$error":"#REF!"}},{"$error":"#REF!"},{"$error":"#REF!"}]
["AHS0267B",1.79,1.79,{"$f":"VLOOKUP(A:A,#REF!,2,FALSE)","v":{"$error":"#REF!"}},{"$f":"VLOOKUP(A:A,#REF!,3,FALSE)","v":{"$error":"#REF!"}},{"$error":"#REF!"},{"$error":"#REF!"}]
["AHS0267C",0.77,0.77,{"$f":"VLOOKUP(A:A,#REF!,2,FALSE)","v":{"$error":"#REF!"}},{"$f":"VLOOKUP(A:A,#REF!,3,FALSE)","v":{"$error":"#REF!"}},{"$error":"#REF!"},{"$error":"#REF!"}]
["AHS0267D",1.28,1.28,{"$f":"VLOOKUP(A:A,#REF!,2,FALSE)","v":{"$error":"#REF!"}},{"$f":"VLOOKUP(A:A,#REF!,3,FALSE)","v":{"$error":"#REF!"}},{"$error":"#REF!"},{"$error":"#REF!"}]
["AHS0267E",1.28,1.28,{"$f":"VLOOKUP(A:A,#REF!,2,FALSE)","v":{"$error":"#REF!"}},{"$f":"VLOOKUP(A:A,#REF!,3,FALSE)","v":{"$error":"#REF!"}},{"$error":"#REF!"},{"$error":"#REF!"}]
["AHS0267N",2.56,2.56,{"$f":"VLOOKUP(A:A,#REF!,2,FALSE)","v":{"$error":"#REF!"}},{"$f":"VLOOKUP(A:A,#REF!,3,FALSE)","v":{"$error":"#REF!"}},{"$error":"#REF!"},{"$error":"#REF!"}]
["AHS0268A",2.56,2.56,{"$f":"VLOOKUP(A:A,#REF!,2,FALSE)","v":{"$error":"#REF!"}},{"$f":"VLOOKUP(A:A,#REF!,3,FALSE)","v":{"$error":"#REF!"}},{"$error":"#REF!"},{"$error":"#REF!"}]
["AHS0268B",1.79,1.79,{"$f":"VLOOKUP(A:A,#REF!,2,FALSE)","v":{"$error":"#REF!"}},{"$f":"VLOOKUP(A:A,#REF!,3,FALSE)","v":{"$error":"#REF!"}},{"$error":"#REF!"},{"$error":"#REF!"}]
["AHS0268C",0.77,0.77,{"$f":"VLOOKUP(A:A,#REF!,2,FALSE)","v":{"$error":"#REF!"}},{"$f":"VLOOKUP(A:A,#REF!,3,FALSE)","v":{"$error":"#REF!"}},{"$error":"#REF!"},{"$error":"#REF!"}]
["AHS0268D",1.28,1.28,{"$f":"VLOOKUP(A:A,#REF!,2,FALSE)","v":{"$error":"#REF!"}},{"$f":"VLOOKUP(A:A,#REF!,3,FALSE)","v":{"$error":"#REF!"}},{"$error":"#REF!"},{"$error":"#REF!"}]
["AHS0268N",2.56,2.56,{"$f":"VLOOKUP(A:A,#REF!,2,FALSE)","v":{"$error":"#REF!"}},{"$f":"VLOOKUP(A:A,#REF!,3,FALSE)","v":{"$error":"#REF!"}},{"$error":"#REF!"},{"$error":"#REF!"}]
["AHS0269A",2.56,2.56,{"$f":"VLOOKUP(A:A,#REF!,2,FALSE)","v":{"$error":"#REF!"}},{"$f":"VLOOKUP(A:A,#REF!,3,FALSE)","v":{"$error":"#REF!"}},{"$error":"#REF!"},{"$error":"#REF!"}]
["AHS0269B",1.79,1.79,{"$f":"VLOOKUP(A:A,#REF!,2,FALSE)","v":{"$error":"#REF!"}},{"$f":"VLOOKUP(A:A,#REF!,3,FALSE)","v":{"$error":"#REF!"}},{"$error":"#REF!"},{"$error":"#REF!"}]
["AHS0269C",0.77,0.77,{"$f":"VLOOKUP(A:A,#REF!,2,FALSE)","v":{"$error":"#REF!"}},{"$f":"VLOOKUP(A:A,#REF!,3,FALSE)","v":{"$error":"#REF!"}},{"$error":"#REF!"},{"$error":"#REF!"}]
["AHS0269D",1.28,1.28,{"$f":"VLOOKUP(A:A,#REF!,2,FALSE)","v":{"$error":"#REF!"}},{"$f":"VLOOKUP(A:A,#REF!,3,FALSE)","v":{"$error":"#REF!"}},{"$error":"#REF!"},{"$error":"#REF!"}]
["AHS0269E",1.28,1.28,{"$f":"VLOOKUP(A:A,#REF!,2,FALSE)","v":{"$error":"#REF!"}},{"$f":"VLOOKUP(A:A,#REF!,3,FALSE)","v":{"$error":"#REF!"}},{"$error":"#REF!"},{"$error":"#REF!"}]
["AHS0269N",2.56,2.56,{"$f":"VLOOKUP(A:A,#REF!,2,FALSE)","v":{"$error":"#REF!"}},{"$f":"VLOOKUP(A:A,#REF!,3,FALSE)","v":{"$error":"#REF!"}},{"$error":"#REF!"},{"$error":"#REF!"}]
["AHS0360A",2.56,2.56,{"$f":"VLOOKUP(A:A,#REF!,2,FALSE)","v":{"$error":"#REF!"}},{"$f":"VLOOKUP(A:A,#REF!,3,FALSE)","v":{"$error":"#REF!"}},{"$error":"#REF!"},{"$error":"#REF!"}]
["AHS0360B",1.79,1.79,{"$f":"VLOOKUP(A:A,#REF!,2,FALSE)","v":{"$error":"#REF!"}},{"$f":"VLOOKUP(A:A,#REF!,3,FALSE)","v":{"$error":"#REF!"}},{"$error":"#REF!"},{"$error":"#REF!"}]
["AHS0360C",0.77,0.77,{"$f":"VLOOKUP(A:A,#REF!,2,FALSE)","v":{"$error":"#REF!"}},{"$f":"VLOOKUP(A:A,#REF!,3,FALSE)","v":{"$error":"#REF!"}},{"$error":"#REF!"},{"$error":"#REF!"}]
["AHS0360D",1.28,1.28,{"$f":"VLOOKUP(A:A,#REF!,2,FALSE)","v":{"$error":"#REF!"}},{"$f":"VLOOKUP(A:A,#REF!,3,FALSE)","v":{"$error":"#REF!"}},{"$error":"#REF!"},{"$error":"#REF!"}]
["AHS0360E",1.28,1.28,{"$f":"VLOOKUP(A:A,#REF!,2,FALSE)","v":{"$error":"#REF!"}},{"$f":"VLOOKUP(A:A,#REF!,3,FALSE)","v":{"$error":"#REF!"}},{"$error":"#REF!"},{"$error":"#REF!"}]
["AHS0360N",2.56,2.56,{"$f":"VLOOKUP(A:A,#REF!,2,FALSE)","v":{"$error":"#REF!"}},{"$f":"VLOOKUP(A:A,#REF!,3,FALSE)","v":{"$error":"#REF!"}},{"$error":"#REF!"},{"$error":"#REF!"}]
["AHS0361A",2.56,2.56,{"$f":"VLOOKUP(A:A,#REF!,2,FALSE)","v":{"$error":"#REF!"}},{"$f":"VLOOKUP(A:A,#REF!,3,FALSE)","v":{"$error":"#REF!"}},{"$error":"#REF!"},{"$error":"#REF!"}]
["AHS0361B",1.79,1.79,{"$f":"VLOOKUP(A:A,#REF!,2,FALSE)","v":{"$error":"#REF!"}},{"$f":"VLOOKUP(A:A,#REF!,3,FALSE)","v":{"$error":"#REF!"}},{"$error":"#REF!"},{"$error":"#REF!"}]
["AHS0361C",0.77,0.77,{"$f":"VLOOKUP(A:A,#REF!,2,FALSE)","v":{"$error":"#REF!"}},{"$f":"VLOOKUP(A:A,#REF!,3,FALSE)","v":{"$error":"#REF!"}},{"$error":"#REF!"},{"$error":"#REF!"}]
["AHS0361D",1.28,1.28,{"$f":"VLOOKUP(A:A,#REF!,2,FALSE)","v":{"$error":"#REF!"}},{"$f":"VLOOKUP(A:A,#REF!,3,FALSE)","v":{"$error":"#REF!"}},{"$error":"#REF!"},{"$error":"#REF!"}]
["AHS0361E",1.28,1.28,{"$f":"VLOOKUP(A:A,#REF!,2,FALSE)","v":{"$error":"#REF!"}},{"$f":"VLOOKUP(A:A,#REF!,3,FALSE)","v":{"$error":"#REF!"}},{"$error":"#REF!"},{"$error":"#REF!"}]
["AHS0361N",2.56,2.56,{"$f":"VLOOKUP(A:A,#REF!,2,FALSE)","v":{"$error":"#REF!"}},{"$f":"VLOOKUP(A:A,#REF!,3,FALSE)","v":{"$error":"#REF!"}},{"$error":"#REF!"},{"$error":"#REF!"}]
["AHS0362A",2.56,2.56,{"$f":"VLOOKUP(A:A,#REF!,2,FALSE)","v":{"$error":"#REF!"}},{"$f":"VLOOKUP(A:A,#REF!,3,FALSE)","v":{"$error":"#REF!"}},{"$error":"#REF!"},{"$error":"#REF!"}]
["AHS0362B",1.79,1.79,{"$f":"VLOOKUP(A:A,#REF!,2,FALSE)","v":{"$error":"#REF!"}},{"$f":"VLOOKUP(A:A,#REF!,3,FALSE)","v":{"$error":"#REF!"}},{"$error":"#REF!"},{"$error":"#REF!"}]
["AHS0362C",0.77,0.77,{"$f":"VLOOKUP(A:A,#REF!,2,FALSE)","v":{"$error":"#REF!"}},{"$f":"VLOOKUP(A:A,#REF!,3,FALSE)","v":{"$error":"#REF!"}},{"$error":"#REF!"},{"$error":"#REF!"}]
["AHS0362D",1.28,1.28,{"$f":"VLOOKUP(A:A,#REF!,2,FALSE)","v":{"$error":"#REF!"}},{"$f":"VLOOKUP(A:A,#REF!,3,FALSE)","v":{"$error":"#REF!"}},{"$error":"#REF!"},{"$error":"#REF!"}]
["AHS0362E",1.28,1.28,{"$f":"VLOOKUP(A:A,#REF!,2,FALSE)","v":{"$error":"#REF!"}},{"$f":"VLOOKUP(A:A,#REF!,3,FALSE)","v":{"$error":"#REF!"}},{"$error":"#REF!"},{"$error":"#REF!"}]
["AHS0362N",2.56,2.56,{"$f":"VLOOKUP(A:A,#REF!,2,FALSE)","v":{"$error":"#REF!"}},{"$f":"VLOOKUP(A:A,#REF!,3,FALSE)","v":{"$error":"#REF!"}},{"$error":"#REF!"},{"$error":"#REF!"}]
["AHS0363A",2.56,2.56,{"$f":"VLOOKUP(A:A,#REF!,2,FALSE)","v":{"$error":"#REF!"}},{"$f":"VLOOKUP(A:A,#REF!,3,FALSE)","v":{"$error":"#REF!"}},{"$error":"#REF!"},{"$error":"#REF!"}]
["AHS0363B",1.79,1.79,{"$f":"VLOOKUP(A:A,#REF!,2,FALSE)","v":{"$error":"#REF!"}},{"$f":"VLOOKUP(A:A,#REF!,3,FALSE)","v":{"$error":"#REF!"}},{"$error":"#REF!"},{"$error":"#REF!"}]
["AHS0363C",0.77,0.77,{"$f":"VLOOKUP(A:A,#REF!,2,FALSE)","v":{"$error":"#REF!"}},{"$f":"VLOOKUP(A:A,#REF!,3,FALSE)","v":{"$error":"#REF!"}},{"$error":"#REF!"},{"$error":"#REF!"}]
["AHS0363D",1.28,1.28,{"$f":"VLOOKUP(A:A,#REF!,2,FALSE)","v":{"$error":"#REF!"}},{"$f":"VLOOKUP(A:A,#REF!,3,FALSE)","v":{"$error":"#REF!"}},{"$error":"#REF!"},{"$error":"#REF!"}]
["AHS0363E",1.28,1.28,{"$f":"VLOOKUP(A:A,#REF!,2,FALSE)","v":{"$error":"#REF!"}},{"$f":"VLOOKUP(A:A,#REF!,3,FALSE)","v":{"$error":"#REF!"}},{"$error":"#REF!"},{"$error":"#REF!"}]
["AHS0363N",2.56,2.56,{"$f":"VLOOKUP(A:A,#REF!,2,FALSE)","v":{"$error":"#REF!"}},{"$f":"VLOOKUP(A:A,#REF!,3,FALSE)","v":{"$error":"#REF!"}},{"$error":"#REF!"},{"$error":"#REF!"}]
["AHS0364A",2.56,2.56,{"$f":"VLOOKUP(A:A,#REF!,2,FALSE)","v":{"$error":"#REF!"}},{"$f":"VLOOKUP(A:A,#REF!,3,FALSE)","v":{"$error":"#REF!"}},{"$error":"#REF!"},{"$error":"#REF!"}]
["AHS0364B",1.79,1.79,{"$f":"VLOOKUP(A:A,#REF!,2,FALSE)","v":{"$error":"#REF!"}},{"$f":"VLOOKUP(A:A,#REF!,3,FALSE)","v":{"$error":"#REF!"}},{"$error":"#REF!"},{"$error":"#REF!"}]
["AHS0364C",0.77,0.77,{"$f":"VLOOKUP(A:A,#REF!,2,FALSE)","v":{"$error":"#REF!"}},{"$f":"VLOOKUP(A:A,#REF!,3,FALSE)","v":{"$error":"#REF!"}},{"$error":"#REF!"},{"$error":"#REF!"}]
["AHS0364D",1.28,1.28,{"$f":"VLOOKUP(A:A,#REF!,2,FALSE)","v":{"$error":"#REF!"}},{"$f":"VLOOKUP(A:A,#REF!,3,FALSE)","v":{"$error":"#REF!"}},{"$error":"#REF!"},{"$error":"#REF!"}]
["AHS0364E",1.28,1.28,{"$f":"VLOOKUP(A:A,#REF!,2,FALSE)","v":{"$error":"#REF!"}},{"$f":"VLOOKUP(A:A,#REF!,3,FALSE)","v":{"$error":"#REF!"}},{"$error":"#REF!"},{"$error":"#REF!"}]
["AHS0364N",2.56,2.56,{"$f":"VLOOKUP(A:A,#REF!,2,FALSE)","v":{"$error":"#REF!"}},{"$f":"VLOOKUP(A:A,#REF!,3,FALSE)","v":{"$error":"#REF!"}},{"$error":"#REF!"},{"$error":"#REF!"}]
["AHS0365A",2.56,2.56,{"$f":"VLOOKUP(A:A,#REF!,2,FALSE)","v":{"$error":"#REF!"}},{"$f":"VLOOKUP(A:A,#REF!,3,FALSE)","v":{"$error":"#REF!"}},{"$error":"#REF!"},{"$error":"#REF!"}]
["AHS0365B",1.79,1.79,{"$f":"VLOOKUP(A:A,#REF!,2,FALSE)","v":{"$error":"#REF!"}},{"$f":"VLOOKUP(A:A,#REF!,3,FALSE)","v":{"$error":"#REF!"}},{"$f":"B259-D259","v":{"$error":"#REF!"}},{"$f":"C259-E259","v":{"$error":"#REF!"}}]
["AHS0365C",0.77,0.77,{"$f":"VLOOKUP(A:A,#REF!,2,FALSE)","v":{"$error":"#REF!"}},{"$f":"VLOOKUP(A:A,#REF!,3,FALSE)","v":{"$error":"#REF!"}},{"$error":"#REF!"},{"$error":"#REF!"}]
["AHS0365D",1.28,1.28,{"$f":"VLOOKUP(A:A,#REF!,2,FALSE)","v":{"$error":"#REF!"}},{"$f":"VLOOKUP(A:A,#REF!,3,FALSE)","v":{"$error":"#REF!"}},{"$error":"#REF!"},{"$error":"#REF!"}]
["AHS0365E",1.28,1.28,{"$f":"VLOOKUP(A:A,#REF!,2,FALSE)","v":{"$error":"#REF!"}},{"$f":"VLOOKUP(A:A,#REF!,3,FALSE)","v":{"$error":"#REF!"}},{"$error":"#REF!"},{"$error":"#REF!"}]
["AHS0365N",2.56,2.56,{"$f":"VLOOKUP(A:A,#REF!,2,FALSE)","v":{"$error":"#REF!"}},{"$f":"VLOOKUP(A:A,#REF!,3,FALSE)","v":{"$error":"#REF!"}},{"$error":"#REF!"},{"$error":"#REF!"}]
["AHS0366A",2.56,2.56,{"$f":"VLOOKUP(A:A,#REF!,2,FALSE)","v":{"$error":"#REF!"}},{"$f":"VLOOKUP(A:A,#REF!,3,FALSE)","v":{"$error":"#REF!"}},{"$error":"#REF!"},{"$error":"#REF!"}]
["AHS0366B",1.79,1.79,{"$f":"VLOOKUP(A:A,#REF!,2,FALSE)","v":{"$error":"#REF!"}},{"$f":"VLOOKUP(A:A,#REF!,3,FALSE)","v":{"$error":"#REF!"}},{"$error":"#REF!"},{"$error":"#REF!"}]
["AHS0366C",0.77,0.77,{"$f":"VLOOKUP(A:A,#REF!,2,FALSE)","v":{"$error":"#REF!"}},{"$f":"VLOOKUP(A:A,#REF!,3,FALSE)","v":{"$error":"#REF!"}},{"$error":"#REF!"},{"$error":"#REF!"}]
["AHS0366D",1.28,1.28,{"$f":"VLOOKUP(A:A,#REF!,2,FALSE)","v":{"$error":"#REF!"}},{"$f":"VLOOKUP(A:A,#REF!,3,FALSE)","v":{"$error":"#REF!"}},{"$error":"#REF!"},{"$error":"#REF!"}]
["AHS0366E",1.28,1.28,{"$f":"VLOOKUP(A:A,#REF!,2,FALSE)","v":{"$error":"#REF!"}},{"$f":"VLOOKUP(A:A,#REF!,3,FALSE)","v":{"$error":"#REF!"}},{"$error":"#REF!"},{"$error":"#REF!"}]
["AHS0366N",2.56,2.56,{"$f":"VLOOKUP(A:A,#REF!,2,FALSE)","v":{"$error":"#REF!"}},{"$f":"VLOOKUP(A:A,#REF!,3,FALSE)","v":{"$error":"#REF!"}},{"$error":"#REF!"},{"$error":"#REF!"}]
["AHS0367A",2.56,2.56,{"$f":"VLOOKUP(A:A,#REF!,2,FALSE)","v":{"$error":"#REF!"}},{"$f":"VLOOKUP(A:A,#REF!,3,FALSE)","v":{"$error":"#REF!"}},{"$error":"#REF!"},{"$error":"#REF!"}]
["AHS0367B",1.79,1.79,{"$f":"VLOOKUP(A:A,#REF!,2,FALSE)","v":{"$error":"#REF!"}},{"$f":"VLOOKUP(A:A,#REF!,3,FALSE)","v":{"$error":"#REF!"}},{"$error":"#REF!"},{"$error":"#REF!"}]
["AHS0367C",0.77,0.77,{"$f":"VLOOKUP(A:A,#REF!,2,FALSE)","v":{"$error":"#REF!"}},{"$f":"VLOOKUP(A:A,#REF!,3,FALSE)","v":{"$error":"#REF!"}},{"$error":"#REF!"},{"$error":"#REF!"}]
["AHS0367D",1.28,1.28,{"$f":"VLOOKUP(A:A,#REF!,2,FALSE)","v":{"$error":"#REF!"}},{"$f":"VLOOKUP(A:A,#REF!,3,FALSE)","v":{"$error":"#REF!"}},{"$error":"#REF!"},{"$error":"#REF!"}]
["AHS0367E",1.28,1.28,{"$f":"VLOOKUP(A:A,#REF!,2,FALSE)","v":{"$error":"#REF!"}},{"$f":"VLOOKUP(A:A,#REF!,3,FALSE)","v":{"$error":"#REF!"}},{"$error":"#REF!"},{"$error":"#REF!"}]
["AHS0367N",2.56,2.56,{"$f":"VLOOKUP(A:A,#REF!,2,FALSE)","v":{"$error":"#REF!"}},{"$f":"VLOOKUP(A:A,#REF!,3,FALSE)","v":{"$error":"#REF!"}},{"$error":"#REF!"},{"$error":"#REF!"}]
["AHS0368A",2.56,2.56,{"$f":"VLOOKUP(A:A,#REF!,2,FALSE)","v":{"$error":"#REF!"}},{"$f":"VLOOKUP(A:A,#REF!,3,FALSE)","v":{"$error":"#REF!"}},{"$error":"#REF!"},{"$error":"#REF!"}]
["AHS0368B",1.79,1.79,{"$f":"VLOOKUP(A:A,#REF!,2,FALSE)","v":{"$error":"#REF!"}},{"$f":"VLOOKUP(A:A,#REF!,3,FALSE)","v":{"$error":"#REF!"}},{"$error":"#REF!"},{"$error":"#REF!"}]
["AHS0368C",0.77,0.77,{"$f":"VLOOKUP(A:A,#REF!,2,FALSE)","v":{"$error":"#REF!"}},{"$f":"VLOOKUP(A:A,#REF!,3,FALSE)","v":{"$error":"#REF!"}},{"$error":"#REF!"},{"$error":"#REF!"}]
["AHS0368D",1.28,1.28,{"$f":"VLOOKUP(A:A,#REF!,2,FALSE)","v":{"$error":"#REF!"}},{"$f":"VLOOKUP(A:A,#REF!,3,FALSE)","v":{"$error":"#REF!"}},{"$error":"#REF!"},{"$error":"#REF!"}]
["AHS0368E",1.28,1.28,{"$f":"VLOOKUP(A:A,#REF!,2,FALSE)","v":{"$error":"#REF!"}},{"$f":"VLOOKUP(A:A,#REF!,3,FALSE)","v":{"$error":"#REF!"}},{"$error":"#REF!"},{"$error":"#REF!"}]
["AHS0368N",2.56,2.56,{"$f":"VLOOKUP(A:A,#REF!,2,FALSE)","v":{"$error":"#REF!"}},{"$f":"VLOOKUP(A:A,#REF!,3,FALSE)","v":{"$error":"#REF!"}},{"$error":"#REF!"},{"$error":"#REF!"}]
["AHS0369A",2.56,2.56,{"$f":"VLOOKUP(A:A,#REF!,2,FALSE)","v":{"$error":"#REF!"}},{"$f":"VLOOKUP(A:A,#REF!,3,FALSE)","v":{"$error":"#REF!"}},{"$error":"#REF!"},{"$error":"#REF!"}]
["AHS0369B",1.79,1.79,{"$f":"VLOOKUP(A:A,#REF!,2,FALSE)","v":{"$error":"#REF!"}},{"$f":"VLOOKUP(A:A,#REF!,3,FALSE)","v":{"$error":"#REF!"}},{"$error":"#REF!"},{"$error":"#REF!"}]
["AHS0369C",0.77,0.77,{"$f":"VLOOKUP(A:A,#REF!,2,FALSE)","v":{"$error":"#REF!"}},{"$f":"VLOOKUP(A:A,#REF!,3,FALSE)","v":{"$error":"#REF!"}},{"$error":"#REF!"},{"$error":"#REF!"}]
["AHS0369D",1.28,1.28,{"$f":"VLOOKUP(A:A,#REF!,2,FALSE)","v":{"$error":"#REF!"}},{"$f":"VLOOKUP(A:A,#REF!,3,FALSE)","v":{"$error":"#REF!"}},{"$error":"#REF!"},{"$error":"#REF!"}]
["AHS0369E",1.28,1.28,{"$f":"VLOOKUP(A:A,#REF!,2,FALSE)","v":{"$error":"#REF!"}},{"$f":"VLOOKUP(A:A,#REF!,3,FALSE)","v":{"$error":"#REF!"}},{"$error":"#REF!"},{"$error":"#REF!"}]
["AHS0369N",2.56,2.56,{"$f":"VLOOKUP(A:A,#REF!,2,FALSE)","v":{"$error":"#REF!"}},{"$f":"VLOOKUP(A:A,#REF!,3,FALSE)","v":{"$error":"#REF!"}},{"$error":"#REF!"},{"$error":"#REF!"}]
["AHS0370A",2.56,2.56,{"$f":"VLOOKUP(A:A,#REF!,2,FALSE)","v":{"$error":"#REF!"}},{"$f":"VLOOKUP(A:A,#REF!,3,FALSE)","v":{"$error":"#REF!"}},{"$error":"#REF!"},{"$error":"#REF!"}]
["AHS0370B",1.79,1.79,{"$f":"VLOOKUP(A:A,#REF!,2,FALSE)","v":{"$error":"#REF!"}},{"$f":"VLOOKUP(A:A,#REF!,3,FALSE)","v":{"$error":"#REF!"}},{"$error":"#REF!"},{"$error":"#REF!"}]
["AHS0370C",0.77,0.77,{"$f":"VLOOKUP(A:A,#REF!,2,FALSE)","v":{"$error":"#REF!"}},{"$f":"VLOOKUP(A:A,#REF!,3,FALSE)","v":{"$error":"#REF!"}},{"$error":"#REF!"},{"$error":"#REF!"}]
["AHS0370D",1.28,1.28,{"$f":"VLOOKUP(A:A,#REF!,2,FALSE)","v":{"$error":"#REF!"}},{"$f":"VLOOKUP(A:A,#REF!,3,FALSE)","v":{"$error":"#REF!"}},{"$error":"#REF!"},{"$error":"#REF!"}]
["AHS0370E",1.28,1.28,{"$f":"VLOOKUP(A:A,#REF!,2,FALSE)","v":{"$error":"#REF!"}},{"$f":"VLOOKUP(A:A,#REF!,3,FALSE)","v":{"$error":"#REF!"}},{"$error":"#REF!"},{"$error":"#REF!"}]
["AHS0370N",2.56,2.56,{"$f":"VLOOKUP(A:A,#REF!,2,FALSE)","v":{"$error":"#REF!"}},{"$f":"VLOOKUP(A:A,#REF!,3,FALSE)","v":{"$error":"#REF!"}},{"$error":"#REF!"},{"$error":"#REF!"}]
["AHS0371A",2.56,2.56,{"$f":"VLOOKUP(A:A,#REF!,2,FALSE)","v":{"$error":"#REF!"}},{"$f":"VLOOKUP(A:A,#REF!,3,FALSE)","v":{"$error":"#REF!"}},{"$error":"#REF!"},{"$error":"#REF!"}]
["AHS0371B",1.79,1.79,{"$f":"VLOOKUP(A:A,#REF!,2,FALSE)","v":{"$error":"#REF!"}},{"$f":"VLOOKUP(A:A,#REF!,3,FALSE)","v":{"$error":"#REF!"}},{"$error":"#REF!"},{"$error":"#REF!"}]
["AHS0371C",0.77,0.77,{"$f":"VLOOKUP(A:A,#REF!,2,FALSE)","v":{"$error":"#REF!"}},{"$f":"VLOOKUP(A:A,#REF!,3,FALSE)","v":{"$error":"#REF!"}},{"$error":"#REF!"},{"$error":"#REF!"}]
["AHS0371D",1.28,1.28,{"$f":"VLOOKUP(A:A,#REF!,2,FALSE)","v":{"$error":"#REF!"}},{"$f":"VLOOKUP(A:A,#REF!,3,FALSE)","v":{"$error":"#REF!"}},{"$error":"#REF!"},{"$error":"#REF!"}]
["AHS0371E",1.28,1.28,{"$f":"VLOOKUP(A:A,#REF!,2,FALSE)","v":{"$error":"#REF!"}},{"$f":"VLOOKUP(A:A,#REF!,3,FALSE)","v":{"$error":"#REF!"}},{"$error":"#REF!"},{"$error":"#REF!"}]
["AHS0371N",2.56,2.56,{"$f":"VLOOKUP(A:A,#REF!,2,FALSE)","v":{"$error":"#REF!"}},{"$f":"VLOOKUP(A:A,#REF!,3,FALSE)","v":{"$error":"#REF!"}},{"$error":"#REF!"},{"$error":"#REF!"}]
["AHS0372A",2.56,2.56,{"$f":"VLOOKUP(A:A,#REF!,2,FALSE)","v":{"$error":"#REF!"}},{"$f":"VLOOKUP(A:A,#REF!,3,FALSE)","v":{"$error":"#REF!"}},{"$error":"#REF!"},{"$error":"#REF!"}]
["AHS0372B",1.79,1.79,{"$f":"VLOOKUP(A:A,#REF!,2,FALSE)","v":{"$error":"#REF!"}},{"$f":"VLOOKUP(A:A,#REF!,3,FALSE)","v":{"$error":"#REF!"}},{"$error":"#REF!"},{"$error":"#REF!"}]
["AHS0372C",1.79,1.79,{"$f":"VLOOKUP(A:A,#REF!,2,FALSE)","v":{"$error":"#REF!"}},{"$f":"VLOOKUP(A:A,#REF!,3,FALSE)","v":{"$error":"#REF!"}},{"$error":"#REF!"},{"$error":"#REF!"}]
["AHS0372D",1.28,1.28,{"$f":"VLOOKUP(A:A,#REF!,2,FALSE)","v":{"$error":"#REF!"}},{"$f":"VLOOKUP(A:A,#REF!,3,FALSE)","v":{"$error":"#REF!"}},{"$error":"#REF!"},{"$error":"#REF!"}]
["AHS0372E",1.28,1.28,{"$f":"VLOOKUP(A:A,#REF!,2,FALSE)","v":{"$error":"#REF!"}},{"$f":"VLOOKUP(A:A,#REF!,3,FALSE)","v":{"$error":"#REF!"}},{"$error":"#REF!"},{"$error":"#REF!"}]
["AHS0372N",2.56,2.56,{"$f":"VLOOKUP(A:A,#REF!,2,FALSE)","v":{"$error":"#REF!"}},{"$f":"VLOOKUP(A:A,#REF!,3,FALSE)","v":{"$error":"#REF!"}},{"$error":"#REF!"},{"$error":"#REF!"}]
["AHS0373A",2.56,2.56,{"$f":"VLOOKUP(A:A,#REF!,2,FALSE)","v":{"$error":"#REF!"}},{"$f":"VLOOKUP(A:A,#REF!,3,FALSE)","v":{"$error":"#REF!"}},{"$error":"#REF!"},{"$error":"#REF!"}]
["AHS0373B",1.79,1.79,{"$f":"VLOOKUP(A:A,#REF!,2,FALSE)","v":{"$error":"#REF!"}},{"$f":"VLOOKUP(A:A,#REF!,3,FALSE)","v":{"$error":"#REF!"}},{"$error":"#REF!"},{"$error":"#REF!"}]
["AHS0373C",0.77,0.77,{"$f":"VLOOKUP(A:A,#REF!,2,FALSE)","v":{"$error":"#REF!"}},{"$f":"VLOOKUP(A:A,#REF!,3,FALSE)","v":{"$error":"#REF!"}},{"$error":"#REF!"},{"$error":"#REF!"}]
["AHS0373D",1.28,1.28,{"$f":"VLOOKUP(A:A,#REF!,2,FALSE)","v":{"$error":"#REF!"}},{"$f":"VLOOKUP(A:A,#REF!,3,FALSE)","v":{"$error":"#REF!"}},{"$error":"#REF!"},{"$error":"#REF!"}]
["AHS0373E",1.28,1.28,{"$f":"VLOOKUP(A:A,#REF!,2,FALSE)","v":{"$error":"#REF!"}},{"$f":"VLOOKUP(A:A,#REF!,3,FALSE)","v":{"$error":"#REF!"}},{"$error":"#REF!"},{"$error":"#REF!"}]
["AHS0373N",2.56,2.56,{"$f":"VLOOKUP(A:A,#REF!,2,FALSE)","v":{"$error":"#REF!"}},{"$f":"VLOOKUP(A:A,#REF!,3,FALSE)","v":{"$error":"#REF!"}},{"$error":"#REF!"},{"$error":"#REF!"}]
["AHS0374A",2.56,2.56,{"$f":"VLOOKUP(A:A,#REF!,2,FALSE)","v":{"$error":"#REF!"}},{"$f":"VLOOKUP(A:A,#REF!,3,FALSE)","v":{"$error":"#REF!"}},{"$error":"#REF!"},{"$error":"#REF!"}]
["AHS0374B",1.79,1.79,{"$f":"VLOOKUP(A:A,#REF!,2,FALSE)","v":{"$error":"#REF!"}},{"$f":"VLOOKUP(A:A,#REF!,3,FALSE)","v":{"$error":"#REF!"}},{"$error":"#REF!"},{"$error":"#REF!"}]
["AHS0374C",0.77,0.77,{"$f":"VLOOKUP(A:A,#REF!,2,FALSE)","v":{"$error":"#REF!"}},{"$f":"VLOOKUP(A:A,#REF!,3,FALSE)","v":{"$error":"#REF!"}},{"$error":"#REF!"},{"$error":"#REF!"}]
["AHS0374D",1.28,1.28,{"$f":"VLOOKUP(A:A,#REF!,2,FALSE)","v":{"$error":"#REF!"}},{"$f":"VLOOKUP(A:A,#REF!,3,FALSE)","v":{"$error":"#REF!"}},{"$error":"#REF!"},{"$error":"#REF!"}]
["AHS0374E",1.28,1.28,{"$f":"VLOOKUP(A:A,#REF!,2,FALSE)","v":{"$error":"#REF!"}},{"$f":"VLOOKUP(A:A,#REF!,3,FALSE)","v":{"$error":"#REF!"}},{"$error":"#REF!"},{"$error":"#REF!"}]
["AHS0374N",2.56,2.56,{"$f":"VLOOKUP(A:A,#REF!,2,FALSE)","v":{"$error":"#REF!"}},{"$f":"VLOOKUP(A:A,#REF!,3,FALSE)","v":{"$error":"#REF!"}},{"$error":"#REF!"},{"$error":"#REF!"}]
["AHS0375A",2.56,2.56,{"$f":"VLOOKUP(A:A,#REF!,2,FALSE)","v":{"$error":"#REF!"}},{"$f":"VLOOKUP(A:A,#REF!,3,FALSE)","v":{"$error":"#REF!"}},{"$error":"#REF!"},{"$error":"#REF!"}]
["AHS0375B",1.79,1.79,{"$f":"VLOOKUP(A:A,#REF!,2,FALSE)","v":{"$error":"#REF!"}},{"$f":"VLOOKUP(A:A,#REF!,3,FALSE)","v":{"$error":"#REF!"}},{"$error":"#REF!"},{"$error":"#REF!"}]
["AHS0375C",0.77,0.77,{"$f":"VLOOKUP(A:A,#REF!,2,FALSE)","v":{"$error":"#REF!"}},{"$f":"VLOOKUP(A:A,#REF!,3,FALSE)","v":{"$error":"#REF!"}},{"$error":"#REF!"},{"$error":"#REF!"}]
["AHS0375D",1.28,1.28,{"$f":"VLOOKUP(A:A,#REF!,2,FALSE)","v":{"$error":"#REF!"}},{"$f":"VLOOKUP(A:A,#REF!,3,FALSE)","v":{"$error":"#REF!"}},{"$error":"#REF!"},{"$error":"#REF!"}]
["AHS0375E",1.28,1.28,{"$f":"VLOOKUP(A:A,#REF!,2,FALSE)","v":{"$error":"#REF!"}},{"$f":"VLOOKUP(A:A,#REF!,3,FALSE)","v":{"$error":"#REF!"}},{"$error":"#REF!"},{"$error":"#REF!"}]
["AHS0375N",2.56,2.56,{"$f":"VLOOKUP(A:A,#REF!,2,FALSE)","v":{"$error":"#REF!"}},{"$f":"VLOOKUP(A:A,#REF!,3,FALSE)","v":{"$error":"#REF!"}},{"$f":"B323-D323","v":{"$error":"#REF!"}},{"$f":"C323-E323","v":{"$error":"#REF!"}}]
["AHS0376A",2.56,2.56,{"$f":"VLOOKUP(A:A,#REF!,2,FALSE)","v":{"$error":"#REF!"}},{"$f":"VLOOKUP(A:A,#REF!,3,FALSE)","v":{"$error":"#REF!"}},{"$error":"#REF!"},{"$error":"#REF!"}]
["AHS0376B",1.79,1.79,{"$f":"VLOOKUP(A:A,#REF!,2,FALSE)","v":{"$error":"#REF!"}},{"$f":"VLOOKUP(A:A,#REF!,3,FALSE)","v":{"$error":"#REF!"}},{"$error":"#REF!"},{"$error":"#REF!"}]
["AHS0376C",0.77,0.77,{"$f":"VLOOKUP(A:A,#REF!,2,FALSE)","v":{"$error":"#REF!"}},{"$f":"VLOOKUP(A:A,#REF!,3,FALSE)","v":{"$error":"#REF!"}},{"$error":"#REF!"},{"$error":"#REF!"}]
["AHS0376D",1.28,1.28,{"$f":"VLOOKUP(A:A,#REF!,2,FALSE)","v":{"$error":"#REF!"}},{"$f":"VLOOKUP(A:A,#REF!,3,FALSE)","v":{"$error":"#REF!"}},{"$error":"#REF!"},{"$error":"#REF!"}]
["AHS0376E",1.28,1.28,{"$f":"VLOOKUP(A:A,#REF!,2,FALSE)","v":{"$error":"#REF!"}},{"$f":"VLOOKUP(A:A,#REF!,3,FALSE)","v":{"$error":"#REF!"}},{"$error":"#REF!"},{"$error":"#REF!"}]
["AHS0376N",2.56,2.56,{"$f":"VLOOKUP(A:A,#REF!,2,FALSE)","v":{"$error":"#REF!"}},{"$f":"VLOOKUP(A:A,#REF!,3,FALSE)","v":{"$error":"#REF!"}},{"$error":"#REF!"},{"$error":"#REF!"}]
["AHS0377A",2.56,2.56,{"$f":"VLOOKUP(A:A,#REF!,2,FALSE)","v":{"$error":"#REF!"}},{"$f":"VLOOKUP(A:A,#REF!,3,FALSE)","v":{"$error":"#REF!"}},{"$error":"#REF!"},{"$error":"#REF!"}]
["AHS0377B",1.79,1.79,{"$f":"VLOOKUP(A:A,#REF!,2,FALSE)","v":{"$error":"#REF!"}},{"$f":"VLOOKUP(A:A,#REF!,3,FALSE)","v":{"$error":"#REF!"}},{"$error":"#REF!"},{"$error":"#REF!"}]
["AHS0377C",0.77,0.77,{"$f":"VLOOKUP(A:A,#REF!,2,FALSE)","v":{"$error":"#REF!"}},{"$f":"VLOOKUP(A:A,#REF!,3,FALSE)","v":{"$error":"#REF!"}},{"$error":"#REF!"},{"$error":"#REF!"}]
["AHS0377D",1.28,1.28,{"$f":"VLOOKUP(A:A,#REF!,2,FALSE)","v":{"$error":"#REF!"}},{"$f":"VLOOKUP(A:A,#REF!,3,FALSE)","v":{"$error":"#REF!"}},{"$error":"#REF!"},{"$error":"#REF!"}]
["AHS0377E",1.28,1.28,{"$f":"VLOOKUP(A:A,#REF!,2,FALSE)","v":{"$error":"#REF!"}},{"$f":"VLOOKUP(A:A,#REF!,3,FALSE)","v":{"$error":"#REF!"}},{"$error":"#REF!"},{"$error":"#REF!"}]
["AHS0377N",2.56,2.56,{"$f":"VLOOKUP(A:A,#REF!,2,FALSE)","v":{"$error":"#REF!"}},{"$f":"VLOOKUP(A:A,#REF!,3,FALSE)","v":{"$error":"#REF!"}},{"$error":"#REF!"},{"$error":"#REF!"}]
["AHS0378A",2.56,2.56,{"$f":"VLOOKUP(A:A,#REF!,2,FALSE)","v":{"$error":"#REF!"}},{"$f":"VLOOKUP(A:A,#REF!,3,FALSE)","v":{"$error":"#REF!"}},{"$error":"#REF!"},{"$error":"#REF!"}]
["AHS0378B",1.79,1.79,{"$f":"VLOOKUP(A:A,#REF!,2,FALSE)","v":{"$error":"#REF!"}},{"$f":"VLOOKUP(A:A,#REF!,3,FALSE)","v":{"$error":"#REF!"}},{"$error":"#REF!"},{"$error":"#REF!"}]
["AHS0378C",0.77,0.77,{"$f":"VLOOKUP(A:A,#REF!,2,FALSE)","v":{"$error":"#REF!"}},{"$f":"VLOOKUP(A:A,#REF!,3,FALSE)","v":{"$error":"#REF!"}},{"$error":"#REF!"},{"$error":"#REF!"}]
["AHS0378D",1.28,1.28,{"$f":"VLOOKUP(A:A,#REF!,2,FALSE)","v":{"$error":"#REF!"}},{"$f":"VLOOKUP(A:A,#REF!,3,FALSE)","v":{"$error":"#REF!"}},{"$error":"#REF!"},{"$error":"#REF!"}]
["AHS0378E",1.28,1.28,{"$f":"VLOOKUP(A:A,#REF!,2,FALSE)","v":{"$error":"#REF!"}},{"$f":"VLOOKUP(A:A,#REF!,3,FALSE)","v":{"$error":"#REF!"}},{"$error":"#REF!"},{"$error":"#REF!"}]
["AHS0379A",2.56,2.56,{"$f":"VLOOKUP(A:A,#REF!,2,FALSE)","v":{"$error":"#REF!"}},{"$f":"VLOOKUP(A:A,#REF!,3,FALSE)","v":{"$error":"#REF!"}},{"$error":"#REF!"},{"$error":"#REF!"}]
["AHS0379B",1.79,1.79,{"$f":"VLOOKUP(A:A,#REF!,2,FALSE)","v":{"$error":"#REF!"}},{"$f":"VLOOKUP(A:A,#REF!,3,FALSE)","v":{"$error":"#REF!"}},{"$error":"#REF!"},{"$error":"#REF!"}]
["AHS0379C",0.77,0.77,{"$f":"VLOOKUP(A:A,#REF!,2,FALSE)","v":{"$error":"#REF!"}},{"$f":"VLOOKUP(A:A,#REF!,3,FALSE)","v":{"$error":"#REF!"}},{"$error":"#REF!"},{"$error":"#REF!"}]
["AHS0379D",1.28,1.28,{"$f":"VLOOKUP(A:A,#REF!,2,FALSE)","v":{"$error":"#REF!"}},{"$f":"VLOOKUP(A:A,#REF!,3,FALSE)","v":{"$error":"#REF!"}},{"$error":"#REF!"},{"$error":"#REF!"}]
["AHS0379E",1.28,1.28,{"$f":"VLOOKUP(A:A,#REF!,2,FALSE)","v":{"$error":"#REF!"}},{"$f":"VLOOKUP(A:A,#REF!,3,FALSE)","v":{"$error":"#REF!"}},{"$error":"#REF!"},{"$error":"#REF!"}]
["AHS0379N",2.56,2.56,{"$f":"VLOOKUP(A:A,#REF!,2,FALSE)","v":{"$error":"#REF!"}},{"$f":"VLOOKUP(A:A,#REF!,3,FALSE)","v":{"$error":"#REF!"}},{"$error":"#REF!"},{"$error":"#REF!"}]
["AHS0460A",2.56,2.56,{"$f":"VLOOKUP(A:A,#REF!,2,FALSE)","v":{"$error":"#REF!"}},{"$f":"VLOOKUP(A:A,#REF!,3,FALSE)","v":{"$error":"#REF!"}},{"$error":"#REF!"},{"$error":"#REF!"}]
["AHS0460B",1.79,1.79,{"$f":"VLOOKUP(A:A,#REF!,2,FALSE)","v":{"$error":"#REF!"}},{"$f":"VLOOKUP(A:A,#REF!,3,FALSE)","v":{"$error":"#REF!"}},{"$error":"#REF!"},{"$error":"#REF!"}]
["AHS0460C",0.77,0.77,{"$f":"VLOOKUP(A:A,#REF!,2,FALSE)","v":{"$error":"#REF!"}},{"$f":"VLOOKUP(A:A,#REF!,3,FALSE)","v":{"$error":"#REF!"}},{"$error":"#REF!"},{"$error":"#REF!"}]
["AHS0460D",1.28,1.28,{"$f":"VLOOKUP(A:A,#REF!,2,FALSE)","v":{"$error":"#REF!"}},{"$f":"VLOOKUP(A:A,#REF!,3,FALSE)","v":{"$error":"#REF!"}},{"$error":"#REF!"},{"$error":"#REF!"}]
["AHS0460E",1.28,1.28,{"$f":"VLOOKUP(A:A,#REF!,2,FALSE)","v":{"$error":"#REF!"}},{"$f":"VLOOKUP(A:A,#REF!,3,FALSE)","v":{"$error":"#REF!"}},{"$error":"#REF!"},{"$error":"#REF!"}]
["AHS0460N",2.56,2.56,{"$f":"VLOOKUP(A:A,#REF!,2,FALSE)","v":{"$error":"#REF!"}},{"$f":"VLOOKUP(A:A,#REF!,3,FALSE)","v":{"$error":"#REF!"}},{"$error":"#REF!"},{"$error":"#REF!"}]
["AHS0461A",2.56,2.56,{"$f":"VLOOKUP(A:A,#REF!,2,FALSE)","v":{"$error":"#REF!"}},{"$f":"VLOOKUP(A:A,#REF!,3,FALSE)","v":{"$error":"#REF!"}},{"$error":"#REF!"},{"$error":"#REF!"}]
["AHS0461B",1.79,1.79,{"$f":"VLOOKUP(A:A,#REF!,2,FALSE)","v":{"$error":"#REF!"}},{"$f":"VLOOKUP(A:A,#REF!,3,FALSE)","v":{"$error":"#REF!"}},{"$error":"#REF!"},{"$error":"#REF!"}]
["AHS0461C",0.77,0.77,{"$f":"VLOOKUP(A:A,#REF!,2,FALSE)","v":{"$error":"#REF!"}},{"$f":"VLOOKUP(A:A,#REF!,3,FALSE)","v":{"$error":"#REF!"}},{"$error":"#REF!"},{"$error":"#REF!"}]
["AHS0461D",1.28,1.28,{"$f":"VLOOKUP(A:A,#REF!,2,FALSE)","v":{"$error":"#REF!"}},{"$f":"VLOOKUP(A:A,#REF!,3,FALSE)","v":{"$error":"#REF!"}},{"$error":"#REF!"},{"$error":"#REF!"}]
["AHS0461E",1.28,1.28,{"$f":"VLOOKUP(A:A,#REF!,2,FALSE)","v":{"$error":"#REF!"}},{"$f":"VLOOKUP(A:A,#REF!,3,FALSE)","v":{"$error":"#REF!"}},{"$error":"#REF!"},{"$error":"#REF!"}]
["AHS0461N",2.56,2.56,{"$f":"VLOOKUP(A:A,#REF!,2,FALSE)","v":{"$error":"#REF!"}},{"$f":"VLOOKUP(A:A,#REF!,3,FALSE)","v":{"$error":"#REF!"}},{"$error":"#REF!"},{"$error":"#REF!"}]
["AHS0462A",2.56,2.56,{"$f":"VLOOKUP(A:A,#REF!,2,FALSE)","v":{"$error":"#REF!"}},{"$f":"VLOOKUP(A:A,#REF!,3,FALSE)","v":{"$error":"#REF!"}},{"$error":"#REF!"},{"$error":"#REF!"}]
["AHS0462B",1.79,1.79,{"$f":"VLOOKUP(A:A,#REF!,2,FALSE)","v":{"$error":"#REF!"}},{"$f":"VLOOKUP(A:A,#REF!,3,FALSE)","v":{"$error":"#REF!"}},{"$error":"#REF!"},{"$error":"#REF!"}]
["AHS0462C",0.77,0.77,{"$f":"VLOOKUP(A:A,#REF!,2,FALSE)","v":{"$error":"#REF!"}},{"$f":"VLOOKUP(A:A,#REF!,3,FALSE)","v":{"$error":"#REF!"}},{"$error":"#REF!"},{"$error":"#REF!"}]
["AHS0462D",1.28,1.28,{"$f":"VLOOKUP(A:A,#REF!,2,FALSE)","v":{"$error":"#REF!"}},{"$f":"VLOOKUP(A:A,#REF!,3,FALSE)","v":{"$error":"#REF!"}},{"$error":"#REF!"},{"$error":"#REF!"}]
["AHS0462E",1.28,1.28,{"$f":"VLOOKUP(A:A,#REF!,2,FALSE)","v":{"$error":"#REF!"}},{"$f":"VLOOKUP(A:A,#REF!,3,FALSE)","v":{"$error":"#REF!"}},{"$error":"#REF!"},{"$error":"#REF!"}]
["AHS0462N",2.56,2.56,{"$f":"VLOOKUP(A:A,#REF!,2,FALSE)","v":{"$error":"#REF!"}},{"$f":"VLOOKUP(A:A,#REF!,3,FALSE)","v":{"$error":"#REF!"}},{"$error":"#REF!"},{"$error":"#REF!"}]
["AHS0463A",2.56,2.56,{"$f":"VLOOKUP(A:A,#REF!,2,FALSE)","v":{"$error":"#REF!"}},{"$f":"VLOOKUP(A:A,#REF!,3,FALSE)","v":{"$error":"#REF!"}},{"$error":"#REF!"},{"$error":"#REF!"}]
["AHS0463B",1.79,1.79,{"$f":"VLOOKUP(A:A,#REF!,2,FALSE)","v":{"$error":"#REF!"}},{"$f":"VLOOKUP(A:A,#REF!,3,FALSE)","v":{"$error":"#REF!"}},{"$error":"#REF!"},{"$error":"#REF!"}]
["AHS0463C",0.77,0.77,{"$f":"VLOOKUP(A:A,#REF!,2,FALSE)","v":{"$error":"#REF!"}},{"$f":"VLOOKUP(A:A,#REF!,3,FALSE)","v":{"$error":"#REF!"}},{"$error":"#REF!"},{"$error":"#REF!"}]
["AHS0463D",1.28,1.28,{"$f":"VLOOKUP(A:A,#REF!,2,FALSE)","v":{"$error":"#REF!"}},{"$f":"VLOOKUP(A:A,#REF!,3,FALSE)","v":{"$error":"#REF!"}},{"$error":"#REF!"},{"$error":"#REF!"}]
["AHS0463E",1.28,1.28,{"$f":"VLOOKUP(A:A,#REF!,2,FALSE)","v":{"$error":"#REF!"}},{"$f":"VLOOKUP(A:A,#REF!,3,FALSE)","v":{"$error":"#REF!"}},{"$error":"#REF!"},{"$error":"#REF!"}]
["AHS0463N",2.56,2.56,{"$f":"VLOOKUP(A:A,#REF!,2,FALSE)","v":{"$error":"#REF!"}},{"$f":"VLOOKUP(A:A,#REF!,3,FALSE)","v":{"$error":"#REF!"}},{"$error":"#REF!"},{"$error":"#REF!"}]
["AHS0464A",2.56,2.56,{"$f":"VLOOKUP(A:A,#REF!,2,FALSE)","v":{"$error":"#REF!"}},{"$f":"VLOOKUP(A:A,#REF!,3,FALSE)","v":{"$error":"#REF!"}},{"$error":"#REF!"},{"$error":"#REF!"}]
["AHS0464B",1.79,1.79,{"$f":"VLOOKUP(A:A,#REF!,2,FALSE)","v":{"$error":"#REF!"}},{"$f":"VLOOKUP(A:A,#REF!,3,FALSE)","v":{"$error":"#REF!"}},{"$error":"#REF!"},{"$error":"#REF!"}]
["AHS0464C",0.77,0.77,{"$f":"VLOOKUP(A:A,#REF!,2,FALSE)","v":{"$error":"#REF!"}},{"$f":"VLOOKUP(A:A,#REF!,3,FALSE)","v":{"$error":"#REF!"}},{"$error":"#REF!"},{"$error":"#REF!"}]
["AHS0464D",1.28,1.28,{"$f":"VLOOKUP(A:A,#REF!,2,FALSE)","v":{"$error":"#REF!"}},{"$f":"VLOOKUP(A:A,#REF!,3,FALSE)","v":{"$error":"#REF!"}},{"$error":"#REF!"},{"$error":"#REF!"}]
["AHS0464E",1.28,1.28,{"$f":"VLOOKUP(A:A,#REF!,2,FALSE)","v":{"$error":"#REF!"}},{"$f":"VLOOKUP(A:A,#REF!,3,FALSE)","v":{"$error":"#REF!"}},{"$error":"#REF!"},{"$error":"#REF!"}]
["AHS0465A",2.56,2.56,{"$f":"VLOOKUP(A:A,#REF!,2,FALSE)","v":{"$error":"#REF!"}},{"$f":"VLOOKUP(A:A,#REF!,3,FALSE)","v":{"$error":"#REF!"}},{"$error":"#REF!"},{"$error":"#REF!"}]
["AHS0465B",1.79,1.79,{"$f":"VLOOKUP(A:A,#REF!,2,FALSE)","v":{"$error":"#REF!"}},{"$f":"VLOOKUP(A:A,#REF!,3,FALSE)","v":{"$error":"#REF!"}},{"$error":"#REF!"},{"$error":"#REF!"}]
["AHS0465C",0.77,0.77,{"$f":"VLOOKUP(A:A,#REF!,2,FALSE)","v":{"$error":"#REF!"}},{"$f":"VLOOKUP(A:A,#REF!,3,FALSE)","v":{"$error":"#REF!"}},{"$error":"#REF!"},{"$error":"#REF!"}]
["AHS0465D",1.28,1.28,{"$f":"VLOOKUP(A:A,#REF!,2,FALSE)","v":{"$error":"#REF!"}},{"$f":"VLOOKUP(A:A,#REF!,3,FALSE)","v":{"$error":"#REF!"}},{"$error":"#REF!"},{"$error":"#REF!"}]
["AHS0465E",1.28,1.28,{"$f":"VLOOKUP(A:A,#REF!,2,FALSE)","v":{"$error":"#REF!"}},{"$f":"VLOOKUP(A:A,#REF!,3,FALSE)","v":{"$error":"#REF!"}},{"$error":"#REF!"},{"$error":"#REF!"}]
["AHS0466A",2.56,2.56,{"$f":"VLOOKUP(A:A,#REF!,2,FALSE)","v":{"$error":"#REF!"}},{"$f":"VLOOKUP(A:A,#REF!,3,FALSE)","v":{"$error":"#REF!"}},{"$error":"#REF!"},{"$error":"#REF!"}]
["AHS0466B",1.79,1.79,{"$f":"VLOOKUP(A:A,#REF!,2,FALSE)","v":{"$error":"#REF!"}},{"$f":"VLOOKUP(A:A,#REF!,3,FALSE)","v":{"$error":"#REF!"}},{"$error":"#REF!"},{"$error":"#REF!"}]
["AHS0466C",0.77,0.77,{"$f":"VLOOKUP(A:A,#REF!,2,FALSE)","v":{"$error":"#REF!"}},{"$f":"VLOOKUP(A:A,#REF!,3,FALSE)","v":{"$error":"#REF!"}},{"$error":"#REF!"},{"$error":"#REF!"}]
["AHS0466D",1.28,1.28,{"$f":"VLOOKUP(A:A,#REF!,2,FALSE)","v":{"$error":"#REF!"}},{"$f":"VLOOKUP(A:A,#REF!,3,FALSE)","v":{"$error":"#REF!"}},{"$error":"#REF!"},{"$error":"#REF!"}]
["AHS0466E",1.28,1.28,{"$f":"VLOOKUP(A:A,#REF!,2,FALSE)","v":{"$error":"#REF!"}},{"$f":"VLOOKUP(A:A,#REF!,3,FALSE)","v":{"$error":"#REF!"}},{"$error":"#REF!"},{"$error":"#REF!"}]
["AHS0467A",2.56,2.56,{"$f":"VLOOKUP(A:A,#REF!,2,FALSE)","v":{"$error":"#REF!"}},{"$f":"VLOOKUP(A:A,#REF!,3,FALSE)","v":{"$error":"#REF!"}},{"$error":"#REF!"},{"$error":"#REF!"}]
["AHS0467B",1.79,1.79,{"$f":"VLOOKUP(A:A,#REF!,2,FALSE)","v":{"$error":"#REF!"}},{"$f":"VLOOKUP(A:A,#REF!,3,FALSE)","v":{"$error":"#REF!"}},{"$f":"B387-D387","v":{"$error":"#REF!"}},{"$f":"C387-E387","v":{"$error":"#REF!"}}]
["AHS0467C",0.77,0.77,{"$f":"VLOOKUP(A:A,#REF!,2,FALSE)","v":{"$error":"#REF!"}},{"$f":"VLOOKUP(A:A,#REF!,3,FALSE)","v":{"$error":"#REF!"}},{"$error":"#REF!"},{"$error":"#REF!"}]
["AHS0467D",1.28,1.28,{"$f":"VLOOKUP(A:A,#REF!,2,FALSE)","v":{"$error":"#REF!"}},{"$f":"VLOOKUP(A:A,#REF!,3,FALSE)","v":{"$error":"#REF!"}},{"$error":"#REF!"},{"$error":"#REF!"}]
["AHS0467E",1.28,1.28,{"$f":"VLOOKUP(A:A,#REF!,2,FALSE)","v":{"$error":"#REF!"}},{"$f":"VLOOKUP(A:A,#REF!,3,FALSE)","v":{"$error":"#REF!"}},{"$error":"#REF!"},{"$error":"#REF!"}]
["AHS0468A",2.56,2.56,{"$f":"VLOOKUP(A:A,#REF!,2,FALSE)","v":{"$error":"#REF!"}},{"$f":"VLOOKUP(A:A,#REF!,3,FALSE)","v":{"$error":"#REF!"}},{"$error":"#REF!"},{"$error":"#REF!"}]
["AHS0468B",1.79,1.79,{"$f":"VLOOKUP(A:A,#REF!,2,FALSE)","v":{"$error":"#REF!"}},{"$f":"VLOOKUP(A:A,#REF!,3,FALSE)","v":{"$error":"#REF!"}},{"$error":"#REF!"},{"$error":"#REF!"}]
["AHS0468C",0.77,0.77,{"$f":"VLOOKUP(A:A,#REF!,2,FALSE)","v":{"$error":"#REF!"}},{"$f":"VLOOKUP(A:A,#REF!,3,FALSE)","v":{"$error":"#REF!"}},{"$error":"#REF!"},{"$error":"#REF!"}]
["AHS0468D",1.28,1.28,{"$f":"VLOOKUP(A:A,#REF!,2,FALSE)","v":{"$error":"#REF!"}},{"$f":"VLOOKUP(A:A,#REF!,3,FALSE)","v":{"$error":"#REF!"}},{"$error":"#REF!"},{"$error":"#REF!"}]
["AHS0468E",1.28,1.28,{"$f":"VLOOKUP(A:A,#REF!,2,FALSE)","v":{"$error":"#REF!"}},{"$f":"VLOOKUP(A:A,#REF!,3,FALSE)","v":{"$error":"#REF!"}},{"$error":"#REF!"},{"$error":"#REF!"}]
["AHS0468N",2.56,2.56,{"$f":"VLOOKUP(A:A,#REF!,2,FALSE)","v":{"$error":"#REF!"}},{"$f":"VLOOKUP(A:A,#REF!,3,FALSE)","v":{"$error":"#REF!"}},{"$error":"#REF!"},{"$error":"#REF!"}]
["AHS0469A",2.56,2.56,{"$f":"VLOOKUP(A:A,#REF!,2,FALSE)","v":{"$error":"#REF!"}},{"$f":"VLOOKUP(A:A,#REF!,3,FALSE)","v":{"$error":"#REF!"}},{"$error":"#REF!"},{"$error":"#REF!"}]
["AHS0469B",1.79,1.79,{"$f":"VLOOKUP(A:A,#REF!,2,FALSE)","v":{"$error":"#REF!"}},{"$f":"VLOOKUP(A:A,#REF!,3,FALSE)","v":{"$error":"#REF!"}},{"$error":"#REF!"},{"$error":"#REF!"}]
["AHS0469C",0.77,0.77,{"$f":"VLOOKUP(A:A,#REF!,2,FALSE)","v":{"$error":"#REF!"}},{"$f":"VLOOKUP(A:A,#REF!,3,FALSE)","v":{"$error":"#REF!"}},{"$error":"#REF!"},{"$error":"#REF!"}]
["AHS0469D",1.28,1.28,{"$f":"VLOOKUP(A:A,#REF!,2,FALSE)","v":{"$error":"#REF!"}},{"$f":"VLOOKUP(A:A,#REF!,3,FALSE)","v":{"$error":"#REF!"}},{"$error":"#REF!"},{"$error":"#REF!"}]
["AHS0469E",1.28,1.28,{"$f":"VLOOKUP(A:A,#REF!,2,FALSE)","v":{"$error":"#REF!"}},{"$f":"VLOOKUP(A:A,#REF!,3,FALSE)","v":{"$error":"#REF!"}},{"$error":"#REF!"},{"$error":"#REF!"}]
["AHS0469N",2.56,2.56,{"$f":"VLOOKUP(A:A,#REF!,2,FALSE)","v":{"$error":"#REF!"}},{"$f":"VLOOKUP(A:A,#REF!,3,FALSE)","v":{"$error":"#REF!"}},{"$error":"#REF!"},{"$error":"#REF!"}]
["AHS0506Y",1.28,1.28,{"$f":"VLOOKUP(A:A,#REF!,2,FALSE)","v":{"$error":"#REF!"}},{"$f":"VLOOKUP(A:A,#REF!,3,FALSE)","v":{"$error":"#REF!"}},{"$error":"#REF!"},{"$error":"#REF!"}]
["AHS0560A",2.56,2.56,{"$f":"VLOOKUP(A:A,#REF!,2,FALSE)","v":{"$error":"#REF!"}},{"$f":"VLOOKUP(A:A,#REF!,3,FALSE)","v":{"$error":"#REF!"}},{"$error":"#REF!"},{"$error":"#REF!"}]
["AHS0560B",1.79,1.79,{"$f":"VLOOKUP(A:A,#REF!,2,FALSE)","v":{"$error":"#REF!"}},{"$f":"VLOOKUP(A:A,#REF!,3,FALSE)","v":{"$error":"#REF!"}},{"$error":"#REF!"},{"$error":"#REF!"}]
["AHS0560C",0.77,0.77,{"$f":"VLOOKUP(A:A,#REF!,2,FALSE)","v":{"$error":"#REF!"}},{"$f":"VLOOKUP(A:A,#REF!,3,FALSE)","v":{"$error":"#REF!"}},{"$error":"#REF!"},{"$error":"#REF!"}]
["AHS0560D",1.28,1.28,{"$f":"VLOOKUP(A:A,#REF!,2,FALSE)","v":{"$error":"#REF!"}},{"$f":"VLOOKUP(A:A,#REF!,3,FALSE)","v":{"$error":"#REF!"}},{"$error":"#REF!"},{"$error":"#REF!"}]
["AHS0560E",1.28,1.28,{"$f":"VLOOKUP(A:A,#REF!,2,FALSE)","v":{"$error":"#REF!"}},{"$f":"VLOOKUP(A:A,#REF!,3,FALSE)","v":{"$error":"#REF!"}},{"$error":"#REF!"},{"$error":"#REF!"}]
["AHS0561A",2.56,2.56,{"$f":"VLOOKUP(A:A,#REF!,2,FALSE)","v":{"$error":"#REF!"}},{"$f":"VLOOKUP(A:A,#REF!,3,FALSE)","v":{"$error":"#REF!"}},{"$error":"#REF!"},{"$error":"#REF!"}]
["AHS0561B",1.79,1.79,{"$f":"VLOOKUP(A:A,#REF!,2,FALSE)","v":{"$error":"#REF!"}},{"$f":"VLOOKUP(A:A,#REF!,3,FALSE)","v":{"$error":"#REF!"}},{"$error":"#REF!"},{"$error":"#REF!"}]
["AHS0561C",0.77,0.77,{"$f":"VLOOKUP(A:A,#REF!,2,FALSE)","v":{"$error":"#REF!"}},{"$f":"VLOOKUP(A:A,#REF!,3,FALSE)","v":{"$error":"#REF!"}},{"$error":"#REF!"},{"$error":"#REF!"}]
["AHS0561D",1.28,1.28,{"$f":"VLOOKUP(A:A,#REF!,2,FALSE)","v":{"$error":"#REF!"}},{"$f":"VLOOKUP(A:A,#REF!,3,FALSE)","v":{"$error":"#REF!"}},{"$error":"#REF!"},{"$error":"#REF!"}]
["AHS0561E",1.28,1.28,{"$f":"VLOOKUP(A:A,#REF!,2,FALSE)","v":{"$error":"#REF!"}},{"$f":"VLOOKUP(A:A,#REF!,3,FALSE)","v":{"$error":"#REF!"}},{"$error":"#REF!"},{"$error":"#REF!"}]
["AHS0561N",2.56,2.56,{"$f":"VLOOKUP(A:A,#REF!,2,FALSE)","v":{"$error":"#REF!"}},{"$f":"VLOOKUP(A:A,#REF!,3,FALSE)","v":{"$error":"#REF!"}},{"$error":"#REF!"},{"$error":"#REF!"}]
["AHS0562A",2.56,2.56,{"$f":"VLOOKUP(A:A,#REF!,2,FALSE)","v":{"$error":"#REF!"}},{"$f":"VLOOKUP(A:A,#REF!,3,FALSE)","v":{"$error":"#REF!"}},{"$error":"#REF!"},{"$error":"#REF!"}]
["AHS0562B",1.79,1.79,{"$f":"VLOOKUP(A:A,#REF!,2,FALSE)","v":{"$error":"#REF!"}},{"$f":"VLOOKUP(A:A,#REF!,3,FALSE)","v":{"$error":"#REF!"}},{"$error":"#REF!"},{"$error":"#REF!"}]
["AHS0562C",0.77,0.77,{"$f":"VLOOKUP(A:A,#REF!,2,FALSE)","v":{"$error":"#REF!"}},{"$f":"VLOOKUP(A:A,#REF!,3,FALSE)","v":{"$error":"#REF!"}},{"$error":"#REF!"},{"$error":"#REF!"}]
["AHS0562D",1.28,1.28,{"$f":"VLOOKUP(A:A,#REF!,2,FALSE)","v":{"$error":"#REF!"}},{"$f":"VLOOKUP(A:A,#REF!,3,FALSE)","v":{"$error":"#REF!"}},{"$error":"#REF!"},{"$error":"#REF!"}]
["AHS0562E",1.28,1.28,{"$f":"VLOOKUP(A:A,#REF!,2,FALSE)","v":{"$error":"#REF!"}},{"$f":"VLOOKUP(A:A,#REF!,3,FALSE)","v":{"$error":"#REF!"}},{"$error":"#REF!"},{"$error":"#REF!"}]
["AHS0562N",2.56,2.56,{"$f":"VLOOKUP(A:A,#REF!,2,FALSE)","v":{"$error":"#REF!"}},{"$f":"VLOOKUP(A:A,#REF!,3,FALSE)","v":{"$error":"#REF!"}},{"$error":"#REF!"},{"$error":"#REF!"}]
["AHS0563A",2.56,2.56,{"$f":"VLOOKUP(A:A,#REF!,2,FALSE)","v":{"$error":"#REF!"}},{"$f":"VLOOKUP(A:A,#REF!,3,FALSE)","v":{"$error":"#REF!"}},{"$error":"#REF!"},{"$error":"#REF!"}]
["AHS0563B",1.79,1.79,{"$f":"VLOOKUP(A:A,#REF!,2,FALSE)","v":{"$error":"#REF!"}},{"$f":"VLOOKUP(A:A,#REF!,3,FALSE)","v":{"$error":"#REF!"}},{"$error":"#REF!"},{"$error":"#REF!"}]
["AHS0563C",0.77,0.77,{"$f":"VLOOKUP(A:A,#REF!,2,FALSE)","v":{"$error":"#REF!"}},{"$f":"VLOOKUP(A:A,#REF!,3,FALSE)","v":{"$error":"#REF!"}},{"$error":"#REF!"},{"$error":"#REF!"}]
["AHS0563D",1.28,1.28,{"$f":"VLOOKUP(A:A,#REF!,2,FALSE)","v":{"$error":"#REF!"}},{"$f":"VLOOKUP(A:A,#REF!,3,FALSE)","v":{"$error":"#REF!"}},{"$error":"#REF!"},{"$error":"#REF!"}]
["AHS0563E",1.28,1.28,{"$f":"VLOOKUP(A:A,#REF!,2,FALSE)","v":{"$error":"#REF!"}},{"$f":"VLOOKUP(A:A,#REF!,3,FALSE)","v":{"$error":"#REF!"}},{"$error":"#REF!"},{"$error":"#REF!"}]
["AHS0563N",2.56,2.56,{"$f":"VLOOKUP(A:A,#REF!,2,FALSE)","v":{"$error":"#REF!"}},{"$f":"VLOOKUP(A:A,#REF!,3,FALSE)","v":{"$error":"#REF!"}},{"$error":"#REF!"},{"$error":"#REF!"}]
["AHS0564A",2.56,2.56,{"$f":"VLOOKUP(A:A,#REF!,2,FALSE)","v":{"$error":"#REF!"}},{"$f":"VLOOKUP(A:A,#REF!,3,FALSE)","v":{"$error":"#REF!"}},{"$error":"#REF!"},{"$error":"#REF!"}]
["AHS0564B",1.79,1.79,{"$f":"VLOOKUP(A:A,#REF!,2,FALSE)","v":{"$error":"#REF!"}},{"$f":"VLOOKUP(A:A,#REF!,3,FALSE)","v":{"$error":"#REF!"}},{"$error":"#REF!"},{"$error":"#REF!"}]
["AHS0564C",0.77,0.77,{"$f":"VLOOKUP(A:A,#REF!,2,FALSE)","v":{"$error":"#REF!"}},{"$f":"VLOOKUP(A:A,#REF!,3,FALSE)","v":{"$error":"#REF!"}},{"$error":"#REF!"},{"$error":"#REF!"}]
["AHS0564D",1.28,1.28,{"$f":"VLOOKUP(A:A,#REF!,2,FALSE)","v":{"$error":"#REF!"}},{"$f":"VLOOKUP(A:A,#REF!,3,FALSE)","v":{"$error":"#REF!"}},{"$error":"#REF!"},{"$error":"#REF!"}]
["AHS0564E",1.28,1.28,{"$f":"VLOOKUP(A:A,#REF!,2,FALSE)","v":{"$error":"#REF!"}},{"$f":"VLOOKUP(A:A,#REF!,3,FALSE)","v":{"$error":"#REF!"}},{"$error":"#REF!"},{"$error":"#REF!"}]
["AHS0564N",2.56,2.56,{"$f":"VLOOKUP(A:A,#REF!,2,FALSE)","v":{"$error":"#REF!"}},{"$f":"VLOOKUP(A:A,#REF!,3,FALSE)","v":{"$error":"#REF!"}},{"$error":"#REF!"},{"$error":"#REF!"}]
["AHS0565A",2.56,2.56,{"$f":"VLOOKUP(A:A,#REF!,2,FALSE)","v":{"$error":"#REF!"}},{"$f":"VLOOKUP(A:A,#REF!,3,FALSE)","v":{"$error":"#REF!"}},{"$error":"#REF!"},{"$error":"#REF!"}]
["AHS0565B",1.79,1.79,{"$f":"VLOOKUP(A:A,#REF!,2,FALSE)","v":{"$error":"#REF!"}},{"$f":"VLOOKUP(A:A,#REF!,3,FALSE)","v":{"$error":"#REF!"}},{"$error":"#REF!"},{"$error":"#REF!"}]
["AHS0565C",0.77,0.77,{"$f":"VLOOKUP(A:A,#REF!,2,FALSE)","v":{"$error":"#REF!"}},{"$f":"VLOOKUP(A:A,#REF!,3,FALSE)","v":{"$error":"#REF!"}},{"$error":"#REF!"},{"$error":"#REF!"}]
["AHS0565D",1.28,1.28,{"$f":"VLOOKUP(A:A,#REF!,2,FALSE)","v":{"$error":"#REF!"}},{"$f":"VLOOKUP(A:A,#REF!,3,FALSE)","v":{"$error":"#REF!"}},{"$error":"#REF!"},{"$error":"#REF!"}]
["AHS0565E",1.28,1.28,{"$f":"VLOOKUP(A:A,#REF!,2,FALSE)","v":{"$error":"#REF!"}},{"$f":"VLOOKUP(A:A,#REF!,3,FALSE)","v":{"$error":"#REF!"}},{"$error":"#REF!"},{"$error":"#REF!"}]
["AHS0565N",2.56,2.56,{"$f":"VLOOKUP(A:A,#REF!,2,FALSE)","v":{"$error":"#REF!"}},{"$f":"VLOOKUP(A:A,#REF!,3,FALSE)","v":{"$error":"#REF!"}},{"$error":"#REF!"},{"$error":"#REF!"}]
["AHS0566A",2.56,2.56,{"$f":"VLOOKUP(A:A,#REF!,2,FALSE)","v":{"$error":"#REF!"}},{"$f":"VLOOKUP(A:A,#REF!,3,FALSE)","v":{"$error":"#REF!"}},{"$error":"#REF!"},{"$error":"#REF!"}]
["AHS0566B",1.79,1.79,{"$f":"VLOOKUP(A:A,#REF!,2,FALSE)","v":{"$error":"#REF!"}},{"$f":"VLOOKUP(A:A,#REF!,3,FALSE)","v":{"$error":"#REF!"}},{"$error":"#REF!"},{"$error":"#REF!"}]
["AHS0566C",0.77,0.77,{"$f":"VLOOKUP(A:A,#REF!,2,FALSE)","v":{"$error":"#REF!"}},{"$f":"VLOOKUP(A:A,#REF!,3,FALSE)","v":{"$error":"#REF!"}},{"$error":"#REF!"},{"$error":"#REF!"}]
["AHS0566D",1.28,1.28,{"$f":"VLOOKUP(A:A,#REF!,2,FALSE)","v":{"$error":"#REF!"}},{"$f":"VLOOKUP(A:A,#REF!,3,FALSE)","v":{"$error":"#REF!"}},{"$error":"#REF!"},{"$error":"#REF!"}]
["AHS0566E",1.28,1.28,{"$f":"VLOOKUP(A:A,#REF!,2,FALSE)","v":{"$error":"#REF!"}},{"$f":"VLOOKUP(A:A,#REF!,3,FALSE)","v":{"$error":"#REF!"}},{"$error":"#REF!"},{"$error":"#REF!"}]
["AHS0566N",2.56,2.56,{"$f":"VLOOKUP(A:A,#REF!,2,FALSE)","v":{"$error":"#REF!"}},{"$f":"VLOOKUP(A:A,#REF!,3,FALSE)","v":{"$error":"#REF!"}},{"$error":"#REF!"},{"$error":"#REF!"}]
["AHS0567A",2.56,2.56,{"$f":"VLOOKUP(A:A,#REF!,2,FALSE)","v":{"$error":"#REF!"}},{"$f":"VLOOKUP(A:A,#REF!,3,FALSE)","v":{"$error":"#REF!"}},{"$error":"#REF!"},{"$error":"#REF!"}]
["AHS0567B",1.79,1.79,{"$f":"VLOOKUP(A:A,#REF!,2,FALSE)","v":{"$error":"#REF!"}},{"$f":"VLOOKUP(A:A,#REF!,3,FALSE)","v":{"$error":"#REF!"}},{"$error":"#REF!"},{"$error":"#REF!"}]
["AHS0567C",0.77,0.77,{"$f":"VLOOKUP(A:A,#REF!,2,FALSE)","v":{"$error":"#REF!"}},{"$f":"VLOOKUP(A:A,#REF!,3,FALSE)","v":{"$error":"#REF!"}},{"$error":"#REF!"},{"$error":"#REF!"}]
["AHS0567D",1.28,1.28,{"$f":"VLOOKUP(A:A,#REF!,2,FALSE)","v":{"$error":"#REF!"}},{"$f":"VLOOKUP(A:A,#REF!,3,FALSE)","v":{"$error":"#REF!"}},{"$error":"#REF!"},{"$error":"#REF!"}]
["AHS0567E",1.28,1.28,{"$f":"VLOOKUP(A:A,#REF!,2,FALSE)","v":{"$error":"#REF!"}},{"$f":"VLOOKUP(A:A,#REF!,3,FALSE)","v":{"$error":"#REF!"}},{"$error":"#REF!"},{"$error":"#REF!"}]
["AHS0567N",2.56,2.56,{"$f":"VLOOKUP(A:A,#REF!,2,FALSE)","v":{"$error":"#REF!"}},{"$f":"VLOOKUP(A:A,#REF!,3,FALSE)","v":{"$error":"#REF!"}},{"$error":"#REF!"},{"$error":"#REF!"}]
["AHS0568A",2.56,2.56,{"$f":"VLOOKUP(A:A,#REF!,2,FALSE)","v":{"$error":"#REF!"}},{"$f":"VLOOKUP(A:A,#REF!,3,FALSE)","v":{"$error":"#REF!"}},{"$f":"B451-D451","v":{"$error":"#REF!"}},{"$f":"C451-E451","v":{"$error":"#REF!"}}]
["AHS0568B",1.79,1.79,{"$f":"VLOOKUP(A:A,#REF!,2,FALSE)","v":{"$error":"#REF!"}},{"$f":"VLOOKUP(A:A,#REF!,3,FALSE)","v":{"$error":"#REF!"}},{"$error":"#REF!"},{"$error":"#REF!"}]
["AHS0568C",0.77,0.77,{"$f":"VLOOKUP(A:A,#REF!,2,FALSE)","v":{"$error":"#REF!"}},{"$f":"VLOOKUP(A:A,#REF!,3,FALSE)","v":{"$error":"#REF!"}},{"$error":"#REF!"},{"$error":"#REF!"}]
["AHS0568D",1.28,1.28,{"$f":"VLOOKUP(A:A,#REF!,2,FALSE)","v":{"$error":"#REF!"}},{"$f":"VLOOKUP(A:A,#REF!,3,FALSE)","v":{"$error":"#REF!"}},{"$error":"#REF!"},{"$error":"#REF!"}]
["AHS0568E",1.28,1.28,{"$f":"VLOOKUP(A:A,#REF!,2,FALSE)","v":{"$error":"#REF!"}},{"$f":"VLOOKUP(A:A,#REF!,3,FALSE)","v":{"$error":"#REF!"}},{"$error":"#REF!"},{"$error":"#REF!"}]
["AHS0568N",2.56,2.56,{"$f":"VLOOKUP(A:A,#REF!,2,FALSE)","v":{"$error":"#REF!"}},{"$f":"VLOOKUP(A:A,#REF!,3,FALSE)","v":{"$error":"#REF!"}},{"$error":"#REF!"},{"$error":"#REF!"}]
["AHS0716",2.56,2.56,{"$f":"VLOOKUP(A:A,#REF!,2,FALSE)","v":{"$error":"#REF!"}},{"$f":"VLOOKUP(A:A,#REF!,3,FALSE)","v":{"$error":"#REF!"}},{"$error":"#REF!"},{"$error":"#REF!"}]
["AHS0732",2.56,2.56,{"$f":"VLOOKUP(A:A,#REF!,2,FALSE)","v":{"$error":"#REF!"}},{"$f":"VLOOKUP(A:A,#REF!,3,FALSE)","v":{"$error":"#REF!"}},{"$error":"#REF!"},{"$error":"#REF!"}]
["AHS0733",2.56,2.56,{"$f":"VLOOKUP(A:A,#REF!,2,FALSE)","v":{"$error":"#REF!"}},{"$f":"VLOOKUP(A:A,#REF!,3,FALSE)","v":{"$error":"#REF!"}},{"$error":"#REF!"},{"$error":"#REF!"}]
["AHS0972",2.56,2.56,{"$f":"VLOOKUP(A:A,#REF!,2,FALSE)","v":{"$error":"#REF!"}},{"$f":"VLOOKUP(A:A,#REF!,3,FALSE)","v":{"$error":"#REF!"}},{"$error":"#REF!"},{"$error":"#REF!"}]
["AHS0976",2.56,2.56,{"$f":"VLOOKUP(A:A,#REF!,2,FALSE)","v":{"$error":"#REF!"}},{"$f":"VLOOKUP(A:A,#REF!,3,FALSE)","v":{"$error":"#REF!"}},{"$error":"#REF!"},{"$error":"#REF!"}]
["AMH2010",3,3,{"$f":"VLOOKUP(A:A,#REF!,2,FALSE)","v":{"$error":"#REF!"}},{"$f":"VLOOKUP(A:A,#REF!,3,FALSE)","v":{"$error":"#REF!"}},{"$error":"#REF!"},{"$error":"#REF!"}]
["AMH2020",3,3,{"$f":"VLOOKUP(A:A,#REF!,2,FALSE)","v":{"$error":"#REF!"}},{"$f":"VLOOKUP(A:A,#REF!,3,FALSE)","v":{"$error":"#REF!"}},{"$error":"#REF!"},{"$error":"#REF!"}]
["AMH2047",3,3,{"$f":"VLOOKUP(A:A,#REF!,2,FALSE)","v":{"$error":"#REF!"}},{"$f":"VLOOKUP(A:A,#REF!,3,FALSE)","v":{"$error":"#REF!"}},{"$error":"#REF!"},{"$error":"#REF!"}]
["AMH2070",3,3,{"$f":"VLOOKUP(A:A,#REF!,2,FALSE)","v":{"$error":"#REF!"}},{"$f":"VLOOKUP(A:A,#REF!,3,FALSE)","v":{"$error":"#REF!"}},{"$error":"#REF!"},{"$error":"#REF!"}]
["AMH2071",3,3,{"$f":"VLOOKUP(A:A,#REF!,2,FALSE)","v":{"$error":"#REF!"}},{"$f":"VLOOKUP(A:A,#REF!,3,FALSE)","v":{"$error":"#REF!"}},{"$error":"#REF!"},{"$error":"#REF!"}]
["AMH2092",3,3,{"$f":"VLOOKUP(A:A,#REF!,2,FALSE)","v":{"$error":"#REF!"}},{"$f":"VLOOKUP(A:A,#REF!,3,FALSE)","v":{"$error":"#REF!"}},{"$error":"#REF!"},{"$error":"#REF!"}]
["AMH2093",3,3,{"$f":"VLOOKUP(A:A,#REF!,2,FALSE)","v":{"$error":"#REF!"}},{"$f":"VLOOKUP(A:A,#REF!,3,FALSE)","v":{"$error":"#REF!"}},{"$error":"#REF!"},{"$error":"#REF!"}]
["AML2010",3,3,{"$f":"VLOOKUP(A:A,#REF!,2,FALSE)","v":{"$error":"#REF!"}},{"$f":"VLOOKUP(A:A,#REF!,3,FALSE)","v":{"$error":"#REF!"}},{"$error":"#REF!"},{"$error":"#REF!"}]
["AML2020",3,3,{"$f":"VLOOKUP(A:A,#REF!,2,FALSE)","v":{"$error":"#REF!"}},{"$f":"VLOOKUP(A:A,#REF!,3,FALSE)","v":{"$error":"#REF!"}},{"$error":"#REF!"},{"$error":"#REF!"}]
["AML2600",3,3,{"$f":"VLOOKUP(A:A,#REF!,2,FALSE)","v":{"$error":"#REF!"}},{"$f":"VLOOKUP(A:A,#REF!,3,FALSE)","v":{"$error":"#REF!"}},{"$error":"#REF!"},{"$error":"#REF!"}]
["AMT1231",3,3,{"$f":"VLOOKUP(A:A,#REF!,2,FALSE)","v":{"$error":"#REF!"}},{"$f":"VLOOKUP(A:A,#REF!,3,FALSE)","v":{"$error":"#REF!"}},{"$error":"#REF!"},{"$error":"#REF!"}]
["AMT1231L",1,0.5,{"$f":"VLOOKUP(A:A,#REF!,2,FALSE)","v":{"$error":"#REF!"}},{"$f":"VLOOKUP(A:A,#REF!,3,FALSE)","v":{"$error":"#REF!"}},{"$error":"#REF!"},{"$error":"#REF!"}]
["AMT1261",3,3,{"$f":"VLOOKUP(A:A,#REF!,2,FALSE)","v":{"$error":"#REF!"}},{"$f":"VLOOKUP(A:A,#REF!,3,FALSE)","v":{"$error":"#REF!"}},{"$error":"#REF!"},{"$error":"#REF!"}]
["AMT1261L",1,0.5,{"$f":"VLOOKUP(A:A,#REF!,2,FALSE)","v":{"$error":"#REF!"}},{"$f":"VLOOKUP(A:A,#REF!,3,FALSE)","v":{"$error":"#REF!"}},{"$error":"#REF!"},{"$error":"#REF!"}]
["AMT1751",4,4,{"$f":"VLOOKUP(A:A,#REF!,2,FALSE)","v":{"$error":"#REF!"}},{"$f":"VLOOKUP(A:A,#REF!,3,FALSE)","v":{"$error":"#REF!"}},{"$error":"#REF!"},{"$error":"#REF!"}]
["AMT1751L",3,1.5,{"$f":"VLOOKUP(A:A,#REF!,2,FALSE)","v":{"$error":"#REF!"}},{"$f":"VLOOKUP(A:A,#REF!,3,FALSE)","v":{"$error":"#REF!"}},{"$error":"#REF!"},{"$error":"#REF!"}]
["AMT1752",4,4,{"$f":"VLOOKUP(A:A,#REF!,2,FALSE)","v":{"$error":"#REF!"}},{"$f":"VLOOKUP(A:A,#REF!,3,FALSE)","v":{"$error":"#REF!"}},{"$error":"#REF!"},{"$error":"#REF!"}]
["AMT1752L",3,1.5,{"$f":"VLOOKUP(A:A,#REF!,2,FALSE)","v":{"$error":"#REF!"}},{"$f":"VLOOKUP(A:A,#REF!,3,FALSE)","v":{"$error":"#REF!"}},{"$error":"#REF!"},{"$error":"#REF!"}]
["AMT1753",4,4,{"$f":"VLOOKUP(A:A,#REF!,2,FALSE)","v":{"$error":"#REF!"}},{"$f":"VLOOKUP(A:A,#REF!,3,FALSE)","v":{"$error":"#REF!"}},{"$error":"#REF!"},{"$error":"#REF!"}]
["AMT1753L",3,1.5,{"$f":"VLOOKUP(A:A,#REF!,2,FALSE)","v":{"$error":"#REF!"}},{"$f":"VLOOKUP(A:A,#REF!,3,FALSE)","v":{"$error":"#REF!"}},{"$error":"#REF!"},{"$error":"#REF!"}]
["AMT1754",4,4,{"$f":"VLOOKUP(A:A,#REF!,2,FALSE)","v":{"$error":"#REF!"}},{"$f":"VLOOKUP(A:A,#REF!,3,FALSE)","v":{"$error":"#REF!"}},{"$error":"#REF!"},{"$error":"#REF!"}]
["AMT1754L",3,1.5,{"$f":"VLOOKUP(A:A,#REF!,2,FALSE)","v":{"$error":"#REF!"}},{"$f":"VLOOKUP(A:A,#REF!,3,FALSE)","v":{"$error":"#REF!"}},{"$error":"#REF!"},{"$error":"#REF!"}]
["AMT1761",8,8,{"$f":"VLOOKUP(A:A,#REF!,2,FALSE)","v":{"$error":"#REF!"}},{"$f":"VLOOKUP(A:A,#REF!,3,FALSE)","v":{"$error":"#REF!"}},{"$error":"#REF!"},{"$error":"#REF!"}]
["AMT1761L",6,3,{"$f":"VLOOKUP(A:A,#REF!,2,FALSE)","v":{"$error":"#REF!"}},{"$f":"VLOOKUP(A:A,#REF!,3,FALSE)","v":{"$error":"#REF!"}},{"$error":"#REF!"},{"$error":"#REF!"},"Not Active"]
["AMT1762",8,8,{"$f":"VLOOKUP(A:A,#REF!,2,FALSE)","v":{"$error":"#REF!"}},{"$f":"VLOOKUP(A:A,#REF!,3,FALSE)","v":{"$error":"#REF!"}},{"$error":"#REF!"},{"$error":"#REF!"}]
["AMT1762L",6,3,{"$f":"VLOOKUP(A:A,#REF!,2,FALSE)","v":{"$error":"#REF!"}},{"$f":"VLOOKUP(A:A,#REF!,3,FALSE)","v":{"$error":"#REF!"}},{"$error":"#REF!"},{"$error":"#REF!"}]
["AMT1763",8,8,{"$f":"VLOOKUP(A:A,#REF!,2,FALSE)","v":{"$error":"#REF!"}},{"$f":"VLOOKUP(A:A,#REF!,3,FALSE)","v":{"$error":"#REF!"}},{"$error":"#REF!"},{"$error":"#REF!"}]
["AMT1763L",6,3,{"$f":"VLOOKUP(A:A,#REF!,2,FALSE)","v":{"$error":"#REF!"}},{"$f":"VLOOKUP(A:A,#REF!,3,FALSE)","v":{"$error":"#REF!"}},{"$error":"#REF!"},{"$error":"#REF!"}]
["AMT1764",8,8,{"$f":"VLOOKUP(A:A,#REF!,2,FALSE)","v":{"$error":"#REF!"}},{"$f":"VLOOKUP(A:A,#REF!,3,FALSE)","v":{"$error":"#REF!"}},{"$error":"#REF!"},{"$error":"#REF!"}]
["AMT1764L",6,3,{"$f":"VLOOKUP(A:A,#REF!,2,FALSE)","v":{"$error":"#REF!"}},{"$f":"VLOOKUP(A:A,#REF!,3,FALSE)","v":{"$error":"#REF!"}},{"$error":"#REF!"},{"$error":"#REF!"}]
["AMT1771",8,8,{"$f":"VLOOKUP(A:A,#REF!,2,FALSE)","v":{"$error":"#REF!"}},{"$f":"VLOOKUP(A:A,#REF!,3,FALSE)","v":{"$error":"#REF!"}},{"$error":"#REF!"},{"$error":"#REF!"}]
["AMT1771L",6,3,{"$f":"VLOOKUP(A:A,#REF!,2,FALSE)","v":{"$error":"#REF!"}},{"$f":"VLOOKUP(A:A,#REF!,3,FALSE)","v":{"$error":"#REF!"}},{"$error":"#REF!"},{"$error":"#REF!"}]
["AMT1772",8,8,{"$f":"VLOOKUP(A:A,#REF!,2,FALSE)","v":{"$error":"#REF!"}},{"$f":"VLOOKUP(A:A,#REF!,3,FALSE)","v":{"$error":"#REF!"}},{"$error":"#REF!"},{"$error":"#REF!"}]
["AMT1772L",6,3,{"$f":"VLOOKUP(A:A,#REF!,2,FALSE)","v":{"$error":"#REF!"}},{"$f":"VLOOKUP(A:A,#REF!,3,FALSE)","v":{"$error":"#REF!"}},{"$error":"#REF!"},{"$error":"#REF!"}]
["AMT1773",8,8,{"$f":"VLOOKUP(A:A,#REF!,2,FALSE)","v":{"$error":"#REF!"}},{"$f":"VLOOKUP(A:A,#REF!,3,FALSE)","v":{"$error":"#REF!"}},{"$error":"#REF!"},{"$error":"#REF!"}]
["AMT1773L",6,3,{"$f":"VLOOKUP(A:A,#REF!,2,FALSE)","v":{"$error":"#REF!"}},{"$f":"VLOOKUP(A:A,#REF!,3,FALSE)","v":{"$error":"#REF!"}},{"$error":"#REF!"},{"$error":"#REF!"}]
["AMT1774",8,8,{"$f":"VLOOKUP(A:A,#REF!,2,FALSE)","v":{"$error":"#REF!"}},{"$f":"VLOOKUP(A:A,#REF!,3,FALSE)","v":{"$error":"#REF!"}},{"$error":"#REF!"},{"$error":"#REF!"}]
["AMT1774L",6,3,{"$f":"VLOOKUP(A:A,#REF!,2,FALSE)","v":{"$error":"#REF!"}},{"$f":"VLOOKUP(A:A,#REF!,3,FALSE)","v":{"$error":"#REF!"}},{"$error":"#REF!"},{"$error":"#REF!"}]
["ANT2000",3,3,{"$f":"VLOOKUP(A:A,#REF!,2,FALSE)","v":{"$error":"#REF!"}},{"$f":"VLOOKUP(A:A,#REF!,3,FALSE)","v":{"$error":"#REF!"}},{"$error":"#REF!"},{"$error":"#REF!"}]
["ANT2140",3,3,{"$f":"VLOOKUP(A:A,#REF!,2,FALSE)","v":{"$error":"#REF!"}},{"$f":"VLOOKUP(A:A,#REF!,3,FALSE)","v":{"$error":"#REF!"}},{"$error":"#REF!"},{"$error":"#REF!"}]
["ANT2410",3,3,{"$f":"VLOOKUP(A:A,#REF!,2,FALSE)","v":{"$error":"#REF!"}},{"$f":"VLOOKUP(A:A,#REF!,3,FALSE)","v":{"$error":"#REF!"}},{"$error":"#REF!"},{"$error":"#REF!"}]
["ANT2511",3,3,{"$f":"VLOOKUP(A:A,#REF!,2,FALSE)","v":{"$error":"#REF!"}},{"$f":"VLOOKUP(A:A,#REF!,3,FALSE)","v":{"$error":"#REF!"}},{"$error":"#REF!"},{"$error":"#REF!"}]
["APA2501",3,3,{"$f":"VLOOKUP(A:A,#REF!,2,FALSE)","v":{"$error":"#REF!"}},{"$f":"VLOOKUP(A:A,#REF!,3,FALSE)","v":{"$error":"#REF!"}},{"$error":"#REF!"},{"$error":"#REF!"}]
["APFD3045",0,0,{"$f":"VLOOKUP(A:A,#REF!,2,FALSE)","v":{"$error":"#REF!"}},{"$f":"VLOOKUP(A:A,#REF!,3,FALSE)","v":{"$error":"#REF!"}},{"$error":"#REF!"},{"$error":"#REF!"}]
["ARH2000",3,3,{"$f":"VLOOKUP(A:A,#REF!,2,FALSE)","v":{"$error":"#REF!"}},{"$f":"VLOOKUP(A:A,#REF!,3,FALSE)","v":{"$error":"#REF!"}},{"$error":"#REF!"},{"$error":"#REF!"}]
["ARH2050",3,3,{"$f":"VLOOKUP(A:A,#REF!,2,FALSE)","v":{"$error":"#REF!"}},{"$f":"VLOOKUP(A:A,#REF!,3,FALSE)","v":{"$error":"#REF!"}},{"$error":"#REF!"},{"$error":"#REF!"}]
["ARH2051",3,3,{"$f":"VLOOKUP(A:A,#REF!,2,FALSE)","v":{"$error":"#REF!"}},{"$f":"VLOOKUP(A:A,#REF!,3,FALSE)","v":{"$error":"#REF!"}},{"$error":"#REF!"},{"$error":"#REF!"}]
["ARR0005C",3.6,3,{"$f":"VLOOKUP(A:A,#REF!,2,FALSE)","v":{"$error":"#REF!"}},{"$f":"VLOOKUP(A:A,#REF!,3,FALSE)","v":{"$error":"#REF!"}},{"$error":"#REF!"},{"$error":"#REF!"}]
["ARR0006C",3.6,3,{"$f":"VLOOKUP(A:A,#REF!,2,FALSE)","v":{"$error":"#REF!"}},{"$f":"VLOOKUP(A:A,#REF!,3,FALSE)","v":{"$error":"#REF!"}},{"$error":"#REF!"},{"$error":"#REF!"}]
["ARR0021",3.6,3,{"$f":"VLOOKUP(A:A,#REF!,2,FALSE)","v":{"$error":"#REF!"}},{"$f":"VLOOKUP(A:A,#REF!,3,FALSE)","v":{"$error":"#REF!"}},{"$error":"#REF!"},{"$error":"#REF!"}]
["ARR0210L",4.2,3.5,{"$f":"VLOOKUP(A:A,#REF!,2,FALSE)","v":{"$error":"#REF!"}},{"$f":"VLOOKUP(A:A,#REF!,3,FALSE)","v":{"$error":"#REF!"}},{"$error":"#REF!"},{"$error":"#REF!"}]
["ARR0213L",4.2,3.5,{"$f":"VLOOKUP(A:A,#REF!,2,FALSE)","v":{"$error":"#REF!"}},{"$f":"VLOOKUP(A:A,#REF!,3,FALSE)","v":{"$error":"#REF!"}},{"$error":"#REF!"},{"$error":"#REF!"}]
["ARR0290",3.6,3,{"$f":"VLOOKUP(A:A,#REF!,2,FALSE)","v":{"$error":"#REF!"}},{"$f":"VLOOKUP(A:A,#REF!,3,FALSE)","v":{"$error":"#REF!"}},{"$error":"#REF!"},{"$error":"#REF!"}]
["ARR0310C",3.6,3,{"$f":"VLOOKUP(A:A,#REF!,2,FALSE)","v":{"$error":"#REF!"}},{"$f":"VLOOKUP(A:A,#REF!,3,FALSE)","v":{"$error":"#REF!"}},{"$f":"B515-D515","v":{"$error":"#REF!"}},{"$f":"C515-E515","v":{"$error":"#REF!"}}]
["ARR0311C",3.6,3,{"$f":"VLOOKUP(A:A,#REF!,2,FALSE)","v":{"$error":"#REF!"}},{"$f":"VLOOKUP(A:A,#REF!,3,FALSE)","v":{"$error":"#REF!"}},{"$error":"#REF!"},{"$error":"#REF!"}]
["ARR0374",3.6,3,{"$f":"VLOOKUP(A:A,#REF!,2,FALSE)","v":{"$error":"#REF!"}},{"$f":"VLOOKUP(A:A,#REF!,3,FALSE)","v":{"$error":"#REF!"}},{"$error":"#REF!"},{"$error":"#REF!"}]
["ARR0411",3.6,3,{"$f":"VLOOKUP(A:A,#REF!,2,FALSE)","v":{"$error":"#REF!"}},{"$f":"VLOOKUP(A:A,#REF!,3,FALSE)","v":{"$error":"#REF!"}},{"$error":"#REF!"},{"$error":"#REF!"}]
["ARR0414C",3.6,3,{"$f":"VLOOKUP(A:A,#REF!,2,FALSE)","v":{"$error":"#REF!"}},{"$f":"VLOOKUP(A:A,#REF!,3,FALSE)","v":{"$error":"#REF!"}},{"$error":"#REF!"},{"$error":"#REF!"}]
["ARR0940",3.6,3,{"$f":"VLOOKUP(A:A,#REF!,2,FALSE)","v":{"$error":"#REF!"}},{"$f":"VLOOKUP(A:A,#REF!,3,FALSE)","v":{"$error":"#REF!"}},{"$error":"#REF!"},{"$error":"#REF!"}]
["ARR0941",3.6,3,{"$f":"VLOOKUP(A:A,#REF!,2,FALSE)","v":{"$error":"#REF!"}},{"$f":"VLOOKUP(A:A,#REF!,3,FALSE)","v":{"$error":"#REF!"}},{"$error":"#REF!"},{"$error":"#REF!"}]
["ARR0949",8,6.67,{"$f":"VLOOKUP(A:A,#REF!,2,FALSE)","v":{"$error":"#REF!"}},{"$f":"VLOOKUP(A:A,#REF!,3,FALSE)","v":{"$error":"#REF!"}},{"$error":"#REF!"},{"$error":"#REF!"}]
["ART1201C",6,4,{"$f":"VLOOKUP(A:A,#REF!,2,FALSE)","v":{"$error":"#REF!"}},{"$f":"VLOOKUP(A:A,#REF!,3,FALSE)","v":{"$error":"#REF!"}},{"$error":"#REF!"},{"$error":"#REF!"}]
["ART1300C",6,4,{"$f":"VLOOKUP(A:A,#REF!,2,FALSE)","v":{"$error":"#REF!"}},{"$f":"VLOOKUP(A:A,#REF!,3,FALSE)","v":{"$error":"#REF!"}},{"$error":"#REF!"},{"$error":"#REF!"}]
["ART1301C",6,4,{"$f":"VLOOKUP(A:A,#REF!,2,FALSE)","v":{"$error":"#REF!"}},{"$f":"VLOOKUP(A:A,#REF!,3,FALSE)","v":{"$error":"#REF!"}},{"$error":"#REF!"},{"$error":"#REF!"}]
["ART2203C",6,4,{"$f":"VLOOKUP(A:A,#REF!,2,FALSE)","v":{"$error":"#REF!"}},{"$f":"VLOOKUP(A:A,#REF!,3,FALSE)","v":{"$error":"#REF!"}},{"$error":"#REF!"},{"$error":"#REF!"}]
["ART2330C",6,4,{"$f":"VLOOKUP(A:A,#REF!,2,FALSE)","v":{"$error":"#REF!"}},{"$f":"VLOOKUP(A:A,#REF!,3,FALSE)","v":{"$error":"#REF!"}},{"$error":"#REF!"},{"$error":"#REF!"}]
["ART2400C",6,4,{"$f":"VLOOKUP(A:A,#REF!,2,FALSE)","v":{"$error":"#REF!"}},{"$f":"VLOOKUP(A:A,#REF!,3,FALSE)","v":{"$error":"#REF!"}},{"$error":"#REF!"},{"$error":"#REF!"}]
["ART2401C",6,4,{"$f":"VLOOKUP(A:A,#REF!,2,FALSE)","v":{"$error":"#REF!"}},{"$f":"VLOOKUP(A:A,#REF!,3,FALSE)","v":{"$error":"#REF!"}},{"$error":"#REF!"},{"$error":"#REF!"}]
["ART2500C",6,4,{"$f":"VLOOKUP(A:A,#REF!,2,FALSE)","v":{"$error":"#REF!"}},{"$f":"VLOOKUP(A:A,#REF!,3,FALSE)","v":{"$error":"#REF!"}},{"$error":"#REF!"},{"$error":"#REF!"}]
["ART2501C",6,4,{"$f":"VLOOKUP(A:A,#REF!,2,FALSE)","v":{"$error":"#REF!"}},{"$f":"VLOOKUP(A:A,#REF!,3,FALSE)","v":{"$error":"#REF!"}},{"$error":"#REF!"},{"$error":"#REF!"}]
["ART2540C",6,4,{"$f":"VLOOKUP(A:A,#REF!,2,FALSE)","v":{"$error":"#REF!"}},{"$f":"VLOOKUP(A:A,#REF!,3,FALSE)","v":{"$error":"#REF!"}},{"$error":"#REF!"},{"$error":"#REF!"}]
["ART2600C",6,4,{"$f":"VLOOKUP(A:A,#REF!,2,FALSE)","v":{"$error":"#REF!"}},{"$f":"VLOOKUP(A:A,#REF!,3,FALSE)","v":{"$error":"#REF!"}},{"$error":"#REF!"},{"$error":"#REF!"}]
["ART2701C",6,4,{"$f":"VLOOKUP(A:A,#REF!,2,FALSE)","v":{"$error":"#REF!"}},{"$f":"VLOOKUP(A:A,#REF!,3,FALSE)","v":{"$error":"#REF!"}},{"$error":"#REF!"},{"$error":"#REF!"}]
["ART2702C",6,4,{"$f":"VLOOKUP(A:A,#REF!,2,FALSE)","v":{"$error":"#REF!"}},{"$f":"VLOOKUP(A:A,#REF!,3,FALSE)","v":{"$error":"#REF!"}},{"$error":"#REF!"},{"$error":"#REF!"}]
["ART2750C",6,4,{"$f":"VLOOKUP(A:A,#REF!,2,FALSE)","v":{"$error":"#REF!"}},{"$f":"VLOOKUP(A:A,#REF!,3,FALSE)","v":{"$error":"#REF!"}},{"$error":"#REF!"},{"$error":"#REF!"}]
["ART2752C",6,4,{"$f":"VLOOKUP(A:A,#REF!,2,FALSE)","v":{"$error":"#REF!"}},{"$f":"VLOOKUP(A:A,#REF!,3,FALSE)","v":{"$error":"#REF!"}},{"$error":"#REF!"},{"$error":"#REF!"}]
["ART2753C",6,4,{"$f":"VLOOKUP(A:A,#REF!,2,FALSE)","v":{"$error":"#REF!"}},{"$f":"VLOOKUP(A:A,#REF!,3,FALSE)","v":{"$error":"#REF!"}},{"$error":"#REF!"},{"$error":"#REF!"}]
["ART2755C",6,4,{"$f":"VLOOKUP(A:A,#REF!,2,FALSE)","v":{"$error":"#REF!"}},{"$f":"VLOOKUP(A:A,#REF!,3,FALSE)","v":{"$error":"#REF!"}},{"$error":"#REF!"},{"$error":"#REF!"}]
["ART2808C",6,4,{"$f":"VLOOKUP(A:A,#REF!,2,FALSE)","v":{"$error":"#REF!"}},{"$f":"VLOOKUP(A:A,#REF!,3,FALSE)","v":{"$error":"#REF!"}},{"$error":"#REF!"},{"$error":"#REF!"}]
["ART2930C",6,4,{"$f":"VLOOKUP(A:A,#REF!,2,FALSE)","v":{"$error":"#REF!"}},{"$f":"VLOOKUP(A:A,#REF!,3,FALSE)","v":{"$error":"#REF!"}},{"$error":"#REF!"},{"$error":"#REF!"}]
["ART2955",3,3,{"$f":"VLOOKUP(A:A,#REF!,2,FALSE)","v":{"$error":"#REF!"}},{"$f":"VLOOKUP(A:A,#REF!,3,FALSE)","v":{"$error":"#REF!"}},{"$error":"#REF!"},{"$error":"#REF!"}]
["ASC1010",3,3,{"$f":"VLOOKUP(A:A,#REF!,2,FALSE)","v":{"$error":"#REF!"}},{"$f":"VLOOKUP(A:A,#REF!,3,FALSE)","v":{"$error":"#REF!"}},{"$error":"#REF!"},{"$error":"#REF!"}]
["ASC1210",3,3,{"$f":"VLOOKUP(A:A,#REF!,2,FALSE)","v":{"$error":"#REF!"}},{"$f":"VLOOKUP(A:A,#REF!,3,FALSE)","v":{"$error":"#REF!"}},{"$error":"#REF!"},{"$error":"#REF!"}]
["ASC1310",3,3,{"$f":"VLOOKUP(A:A,#REF!,2,FALSE)","v":{"$error":"#REF!"}},{"$f":"VLOOKUP(A:A,#REF!,3,FALSE)","v":{"$error":"#REF!"}},{"$error":"#REF!"},{"$error":"#REF!"}]
["ASC1610",3,3,{"$f":"VLOOKUP(A:A,#REF!,2,FALSE)","v":{"$error":"#REF!"}},{"$f":"VLOOKUP(A:A,#REF!,3,FALSE)","v":{"$error":"#REF!"}},{"$error":"#REF!"},{"$error":"#REF!"}]
["ASC2560",3,3,{"$f":"VLOOKUP(A:A,#REF!,2,FALSE)","v":{"$error":"#REF!"}},{"$f":"VLOOKUP(A:A,#REF!,3,FALSE)","v":{"$error":"#REF!"}},{"$error":"#REF!"},{"$error":"#REF!"}]
["ASC2561",3,3,{"$f":"VLOOKUP(A:A,#REF!,2,FALSE)","v":{"$error":"#REF!"}},{"$f":"VLOOKUP(A:A,#REF!,3,FALSE)","v":{"$error":"#REF!"}},{"$error":"#REF!"},{"$error":"#REF!"}]
["ASC2563C",3,2,{"$f":"VLOOKUP(A:A,#REF!,2,FALSE)","v":{"$error":"#REF!"}},{"$f":"VLOOKUP(A:A,#REF!,3,FALSE)","v":{"$error":"#REF!"}},{"$error":"#REF!"},{"$error":"#REF!"}]
["ASC2870",3,3,{"$f":"VLOOKUP(A:A,#REF!,2,FALSE)","v":{"$error":"#REF!"}},{"$f":"VLOOKUP(A:A,#REF!,3,FALSE)","v":{"$error":"#REF!"}},{"$error":"#REF!"},{"$error":"#REF!"}]
["ASE0075A",2.56,2.56,{"$f":"VLOOKUP(A:A,#REF!,2,FALSE)","v":{"$error":"#REF!"}},{"$f":"VLOOKUP(A:A,#REF!,3,FALSE)","v":{"$error":"#REF!"}},{"$error":"#REF!"},{"$error":"#REF!"}]
["ASE0075B",1.79,1.79,{"$f":"VLOOKUP(A:A,#REF!,2,FALSE)","v":{"$error":"#REF!"}},{"$f":"VLOOKUP(A:A,#REF!,3,FALSE)","v":{"$error":"#REF!"}},{"$error":"#REF!"},{"$error":"#REF!"}]
["ASE0075C",0.77,0.77,{"$f":"VLOOKUP(A:A,#REF!,2,FALSE)","v":{"$error":"#REF!"}},{"$f":"VLOOKUP(A:A,#REF!,3,FALSE)","v":{"$error":"#REF!"}},{"$error":"#REF!"},{"$error":"#REF!"}]
["ASE0075D",1.28,1.28,{"$f":"VLOOKUP(A:A,#REF!,2,FALSE)","v":{"$error":"#REF!"}},{"$f":"VLOOKUP(A:A,#REF!,3,FALSE)","v":{"$error":"#REF!"}},{"$error":"#REF!"},{"$error":"#REF!"}]
["ASE0075E",1.28,1.28,{"$f":"VLOOKUP(A:A,#REF!,2,FALSE)","v":{"$error":"#REF!"}},{"$f":"VLOOKUP(A:A,#REF!,3,FALSE)","v":{"$error":"#REF!"}},{"$error":"#REF!"},{"$error":"#REF!"}]
["ASE0075N",2.56,2.56,{"$f":"VLOOKUP(A:A,#REF!,2,FALSE)","v":{"$error":"#REF!"}},{"$f":"VLOOKUP(A:A,#REF!,3,FALSE)","v":{"$error":"#REF!"}},{"$error":"#REF!"},{"$error":"#REF!"}]
["ASE0076A",2.56,2.56,{"$f":"VLOOKUP(A:A,#REF!,2,FALSE)","v":{"$error":"#REF!"}},{"$f":"VLOOKUP(A:A,#REF!,3,FALSE)","v":{"$error":"#REF!"}},{"$error":"#REF!"},{"$error":"#REF!"}]
["ASE0076B",1.79,1.79,{"$f":"VLOOKUP(A:A,#REF!,2,FALSE)","v":{"$error":"#REF!"}},{"$f":"VLOOKUP(A:A,#REF!,3,FALSE)","v":{"$error":"#REF!"}},{"$error":"#REF!"},{"$error":"#REF!"}]
["ASE0076C",0.77,0.77,{"$f":"VLOOKUP(A:A,#REF!,2,FALSE)","v":{"$error":"#REF!"}},{"$f":"VLOOKUP(A:A,#REF!,3,FALSE)","v":{"$error":"#REF!"}},{"$error":"#REF!"},{"$error":"#REF!"}]
["ASE0076D",1.28,1.28,{"$f":"VLOOKUP(A:A,#REF!,2,FALSE)","v":{"$error":"#REF!"}},{"$f":"VLOOKUP(A:A,#REF!,3,FALSE)","v":{"$error":"#REF!"}},{"$error":"#REF!"},{"$error":"#REF!"}]
["ASE0076E",1.28,1.28,{"$f":"VLOOKUP(A:A,#REF!,2,FALSE)","v":{"$error":"#REF!"}},{"$f":"VLOOKUP(A:A,#REF!,3,FALSE)","v":{"$error":"#REF!"}},{"$error":"#REF!"},{"$error":"#REF!"}]
["ASE0076N",2.56,2.56,{"$f":"VLOOKUP(A:A,#REF!,2,FALSE)","v":{"$error":"#REF!"}},{"$f":"VLOOKUP(A:A,#REF!,3,FALSE)","v":{"$error":"#REF!"}},{"$error":"#REF!"},{"$error":"#REF!"}]
["ASE0077A",2.56,2.56,{"$f":"VLOOKUP(A:A,#REF!,2,FALSE)","v":{"$error":"#REF!"}},{"$f":"VLOOKUP(A:A,#REF!,3,FALSE)","v":{"$error":"#REF!"}},{"$error":"#REF!"},{"$error":"#REF!"}]
["ASE0077B",1.79,1.79,{"$f":"VLOOKUP(A:A,#REF!,2,FALSE)","v":{"$error":"#REF!"}},{"$f":"VLOOKUP(A:A,#REF!,3,FALSE)","v":{"$error":"#REF!"}},{"$error":"#REF!"},{"$error":"#REF!"}]
["ASE0077C",0.77,0.77,{"$f":"VLOOKUP(A:A,#REF!,2,FALSE)","v":{"$error":"#REF!"}},{"$f":"VLOOKUP(A:A,#REF!,3,FALSE)","v":{"$error":"#REF!"}},{"$error":"#REF!"},{"$error":"#REF!"}]
["ASE0077D",1.28,1.28,{"$f":"VLOOKUP(A:A,#REF!,2,FALSE)","v":{"$error":"#REF!"}},{"$f":"VLOOKUP(A:A,#REF!,3,FALSE)","v":{"$error":"#REF!"}},{"$error":"#REF!"},{"$error":"#REF!"}]
["ASE0077E",1.28,1.28,{"$f":"VLOOKUP(A:A,#REF!,2,FALSE)","v":{"$error":"#REF!"}},{"$f":"VLOOKUP(A:A,#REF!,3,FALSE)","v":{"$error":"#REF!"}},{"$error":"#REF!"},{"$error":"#REF!"}]
["ASE0077N",2.56,2.56,{"$f":"VLOOKUP(A:A,#REF!,2,FALSE)","v":{"$error":"#REF!"}},{"$f":"VLOOKUP(A:A,#REF!,3,FALSE)","v":{"$error":"#REF!"}},{"$error":"#REF!"},{"$error":"#REF!"}]
["ASE0078A",2.56,2.56,{"$f":"VLOOKUP(A:A,#REF!,2,FALSE)","v":{"$error":"#REF!"}},{"$f":"VLOOKUP(A:A,#REF!,3,FALSE)","v":{"$error":"#REF!"}},{"$error":"#REF!"},{"$error":"#REF!"}]
["ASE0078B",1.79,1.79,{"$f":"VLOOKUP(A:A,#REF!,2,FALSE)","v":{"$error":"#REF!"}},{"$f":"VLOOKUP(A:A,#REF!,3,FALSE)","v":{"$error":"#REF!"}},{"$error":"#REF!"},{"$error":"#REF!"}]
["ASE0078C",0.77,0.77,{"$f":"VLOOKUP(A:A,#REF!,2,FALSE)","v":{"$error":"#REF!"}},{"$f":"VLOOKUP(A:A,#REF!,3,FALSE)","v":{"$error":"#REF!"}},{"$error":"#REF!"},{"$error":"#REF!"}]
["ASE0078D",1.28,1.28,{"$f":"VLOOKUP(A:A,#REF!,2,FALSE)","v":{"$error":"#REF!"}},{"$f":"VLOOKUP(A:A,#REF!,3,FALSE)","v":{"$error":"#REF!"}},{"$error":"#REF!"},{"$error":"#REF!"}]
["ASE0078E",1.28,1.28,{"$f":"VLOOKUP(A:A,#REF!,2,FALSE)","v":{"$error":"#REF!"}},{"$f":"VLOOKUP(A:A,#REF!,3,FALSE)","v":{"$error":"#REF!"}},{"$error":"#REF!"},{"$error":"#REF!"}]
["ASE0078N",2.56,2.56,{"$f":"VLOOKUP(A:A,#REF!,2,FALSE)","v":{"$error":"#REF!"}},{"$f":"VLOOKUP(A:A,#REF!,3,FALSE)","v":{"$error":"#REF!"}},{"$error":"#REF!"},{"$error":"#REF!"}]
["ASE0079A",2.56,2.56,{"$f":"VLOOKUP(A:A,#REF!,2,FALSE)","v":{"$error":"#REF!"}},{"$f":"VLOOKUP(A:A,#REF!,3,FALSE)","v":{"$error":"#REF!"}},{"$error":"#REF!"},{"$error":"#REF!"}]
["ASE0079B",1.79,1.79,{"$f":"VLOOKUP(A:A,#REF!,2,FALSE)","v":{"$error":"#REF!"}},{"$f":"VLOOKUP(A:A,#REF!,3,FALSE)","v":{"$error":"#REF!"}},{"$error":"#REF!"},{"$error":"#REF!"}]
["ASE0079C",0.77,0.77,{"$f":"VLOOKUP(A:A,#REF!,2,FALSE)","v":{"$error":"#REF!"}},{"$f":"VLOOKUP(A:A,#REF!,3,FALSE)","v":{"$error":"#REF!"}},{"$error":"#REF!"},{"$error":"#REF!"}]
["ASE0079D",1.28,1.28,{"$f":"VLOOKUP(A:A,#REF!,2,FALSE)","v":{"$error":"#REF!"}},{"$f":"VLOOKUP(A:A,#REF!,3,FALSE)","v":{"$error":"#REF!"}},{"$error":"#REF!"},{"$error":"#REF!"}]
["ASE0079E",1.28,1.28,{"$f":"VLOOKUP(A:A,#REF!,2,FALSE)","v":{"$error":"#REF!"}},{"$f":"VLOOKUP(A:A,#REF!,3,FALSE)","v":{"$error":"#REF!"}},{"$f":"B579-D579","v":{"$error":"#REF!"}},{"$f":"C579-E579","v":{"$error":"#REF!"}}]
["ASE0079N",2.56,2.56,{"$f":"VLOOKUP(A:A,#REF!,2,FALSE)","v":{"$error":"#REF!"}},{"$f":"VLOOKUP(A:A,#REF!,3,FALSE)","v":{"$error":"#REF!"}},{"$error":"#REF!"},{"$error":"#REF!"}]
["ASL1130",3,3,{"$f":"VLOOKUP(A:A,#REF!,2,FALSE)","v":{"$error":"#REF!"}},{"$f":"VLOOKUP(A:A,#REF!,3,FALSE)","v":{"$error":"#REF!"}},{"$error":"#REF!"},{"$error":"#REF!"}]
["ASL1140",4,4,{"$f":"VLOOKUP(A:A,#REF!,2,FALSE)","v":{"$error":"#REF!"}},{"$f":"VLOOKUP(A:A,#REF!,3,FALSE)","v":{"$error":"#REF!"}},{"$error":"#REF!"},{"$error":"#REF!"}]
["ASL1150",4,4,{"$f":"VLOOKUP(A:A,#REF!,2,FALSE)","v":{"$error":"#REF!"}},{"$f":"VLOOKUP(A:A,#REF!,3,FALSE)","v":{"$error":"#REF!"}},{"$error":"#REF!"},{"$error":"#REF!"}]
["ASL1210",3,3,{"$f":"VLOOKUP(A:A,#REF!,2,FALSE)","v":{"$error":"#REF!"}},{"$f":"VLOOKUP(A:A,#REF!,3,FALSE)","v":{"$error":"#REF!"}},{"$error":"#REF!"},{"$error":"#REF!"}]
["ASL1300",3,3,{"$f":"VLOOKUP(A:A,#REF!,2,FALSE)","v":{"$error":"#REF!"}},{"$f":"VLOOKUP(A:A,#REF!,3,FALSE)","v":{"$error":"#REF!"}},{"$error":"#REF!"},{"$error":"#REF!"}]
["ASL1430",3,3,{"$f":"VLOOKUP(A:A,#REF!,2,FALSE)","v":{"$error":"#REF!"}},{"$f":"VLOOKUP(A:A,#REF!,3,FALSE)","v":{"$error":"#REF!"}},{"$error":"#REF!"},{"$error":"#REF!"}]
["ASL2212",3,3,{"$f":"VLOOKUP(A:A,#REF!,2,FALSE)","v":{"$error":"#REF!"}},{"$f":"VLOOKUP(A:A,#REF!,3,FALSE)","v":{"$error":"#REF!"}},{"$error":"#REF!"},{"$error":"#REF!"}]
["ASL2510",3,3,{"$f":"VLOOKUP(A:A,#REF!,2,FALSE)","v":{"$error":"#REF!"}},{"$f":"VLOOKUP(A:A,#REF!,3,FALSE)","v":{"$error":"#REF!"}},{"$error":"#REF!"},{"$error":"#REF!"}]
["AST1002",3,3,{"$f":"VLOOKUP(A:A,#REF!,2,FALSE)","v":{"$error":"#REF!"}},{"$f":"VLOOKUP(A:A,#REF!,3,FALSE)","v":{"$error":"#REF!"}},{"$error":"#REF!"},{"$error":"#REF!"}]
["AST1002L",2,1.4,{"$f":"VLOOKUP(A:A,#REF!,2,FALSE)","v":{"$error":"#REF!"}},{"$f":"VLOOKUP(A:A,#REF!,3,FALSE)","v":{"$error":"#REF!"}},{"$error":"#REF!"},{"$error":"#REF!"}]
["AST2037",3,3,{"$f":"VLOOKUP(A:A,#REF!,2,FALSE)","v":{"$error":"#REF!"}},{"$f":"VLOOKUP(A:A,#REF!,3,FALSE)","v":{"$error":"#REF!"}},{"$error":"#REF!"},{"$error":"#REF!"}]
["AST2932",2,2,{"$f":"VLOOKUP(A:A,#REF!,2,FALSE)","v":{"$error":"#REF!"}},{"$f":"VLOOKUP(A:A,#REF!,3,FALSE)","v":{"$error":"#REF!"}},{"$error":"#REF!"},{"$error":"#REF!"}]
["AST2933",3,3,{"$f":"VLOOKUP(A:A,#REF!,2,FALSE)","v":{"$error":"#REF!"}},{"$f":"VLOOKUP(A:A,#REF!,3,FALSE)","v":{"$error":"#REF!"}},{"$error":"#REF!"},{"$error":"#REF!"}]
["ATF1108L",2,1,{"$f":"VLOOKUP(A:A,#REF!,2,FALSE)","v":{"$error":"#REF!"}},{"$f":"VLOOKUP(A:A,#REF!,3,FALSE)","v":{"$error":"#REF!"}},{"$error":"#REF!"},{"$error":"#REF!"},"No Hours listed"]
["ATF1109L",2,1,{"$f":"VLOOKUP(A:A,#REF!,2,FALSE)","v":{"$error":"#REF!"}},{"$f":"VLOOKUP(A:A,#REF!,3,FALSE)","v":{"$error":"#REF!"}},{"$error":"#REF!"},{"$error":"#REF!"},"No Hours listed"]
["ATF1600C",1.5,1,{"$f":"VLOOKUP(A:A,#REF!,2,FALSE)","v":{"$error":"#REF!"}},{"$f":"VLOOKUP(A:A,#REF!,3,FALSE)","v":{"$error":"#REF!"}},{"$error":"#REF!"},{"$error":"#REF!"}]
["ATF1601C",1.5,1,{"$f":"VLOOKUP(A:A,#REF!,2,FALSE)","v":{"$error":"#REF!"}},{"$f":"VLOOKUP(A:A,#REF!,3,FALSE)","v":{"$error":"#REF!"}}]
["ATF2201",3,2,{"$f":"VLOOKUP(A:A,#REF!,2,FALSE)","v":{"$error":"#REF!"}},{"$f":"VLOOKUP(A:A,#REF!,3,FALSE)","v":{"$error":"#REF!"}},{"$error":"#REF!"},{"$error":"#REF!"}]
["ATF2202",3,2,{"$f":"VLOOKUP(A:A,#REF!,2,FALSE)","v":{"$error":"#REF!"}},{"$f":"VLOOKUP(A:A,#REF!,3,FALSE)","v":{"$error":"#REF!"}},{"$error":"#REF!"},{"$error":"#REF!"}]
["ATF2203",2,1.25,{"$f":"VLOOKUP(A:A,#REF!,2,FALSE)","v":{"$error":"#REF!"}},{"$f":"VLOOKUP(A:A,#REF!,3,FALSE)","v":{"$error":"#REF!"}},{"$error":"#REF!"},{"$error":"#REF!"}]
["ATF2305",3,2,{"$f":"VLOOKUP(A:A,#REF!,2,FALSE)","v":{"$error":"#REF!"}},{"$f":"VLOOKUP(A:A,#REF!,3,FALSE)","v":{"$error":"#REF!"}},{"$error":"#REF!"},{"$error":"#REF!"}]
["ATF2400",2,1.25,{"$f":"VLOOKUP(A:A,#REF!,2,FALSE)","v":{"$error":"#REF!"}},{"$f":"VLOOKUP(A:A,#REF!,3,FALSE)","v":{"$error":"#REF!"}},{"$error":"#REF!"},{"$error":"#REF!"}]
["ATF2500",3,2,{"$f":"VLOOKUP(A:A,#REF!,2,FALSE)","v":{"$error":"#REF!"}},{"$f":"VLOOKUP(A:A,#REF!,3,FALSE)","v":{"$error":"#REF!"}},{"$error":"#REF!"},{"$error":"#REF!"}]
["ATF2510",3,2,{"$f":"VLOOKUP(A:A,#REF!,2,FALSE)","v":{"$error":"#REF!"}},{"$f":"VLOOKUP(A:A,#REF!,3,FALSE)","v":{"$error":"#REF!"}},{"$error":"#REF!"},{"$error":"#REF!"}]
["ATF2620C",3,2,{"$f":"VLOOKUP(A:A,#REF!,2,FALSE)","v":{"$error":"#REF!"}},{"$f":"VLOOKUP(A:A,#REF!,3,FALSE)","v":{"$error":"#REF!"}},{"$error":"#REF!"},{"$error":"#REF!"}]
["ATT1100",3,3,{"$f":"VLOOKUP(A:A,#REF!,2,FALSE)","v":{"$error":"#REF!"}},{"$f":"VLOOKUP(A:A,#REF!,3,FALSE)","v":{"$error":"#REF!"}},{"$error":"#REF!"},{"$error":"#REF!"}]
["ATT1101",3,3,{"$f":"VLOOKUP(A:A,#REF!,2,FALSE)","v":{"$error":"#REF!"}},{"$f":"VLOOKUP(A:A,#REF!,3,FALSE)","v":{"$error":"#REF!"}},{"$error":"#REF!"},{"$error":"#REF!"}]
["ATT1110",3,3,{"$f":"VLOOKUP(A:A,#REF!,2,FALSE)","v":{"$error":"#REF!"}},{"$f":"VLOOKUP(A:A,#REF!,3,FALSE)","v":{"$error":"#REF!"}},{"$error":"#REF!"},{"$error":"#REF!"}]
["ATT1120",3,3,{"$f":"VLOOKUP(A:A,#REF!,2,FALSE)","v":{"$error":"#REF!"}},{"$f":"VLOOKUP(A:A,#REF!,3,FALSE)","v":{"$error":"#REF!"}},{"$error":"#REF!"},{"$error":"#REF!"}]
["ATT1810",3,3,{"$f":"VLOOKUP(A:A,#REF!,2,FALSE)","v":{"$error":"#REF!"}},{"$f":"VLOOKUP(A:A,#REF!,3,FALSE)","v":{"$error":"#REF!"}},{"$error":"#REF!"},{"$error":"#REF!"}]
["ATT2131",3,3,{"$f":"VLOOKUP(A:A,#REF!,2,FALSE)","v":{"$error":"#REF!"}},{"$f":"VLOOKUP(A:A,#REF!,3,FALSE)","v":{"$error":"#REF!"}},{"$error":"#REF!"},{"$error":"#REF!"}]
["ATT2640",3,3,{"$f":"VLOOKUP(A:A,#REF!,2,FALSE)","v":{"$error":"#REF!"}},{"$f":"VLOOKUP(A:A,#REF!,3,FALSE)","v":{"$error":"#REF!"}},{"$error":"#REF!"},{"$error":"#REF!"}]
["ATT2820",3,3,{"$f":"VLOOKUP(A:A,#REF!,2,FALSE)","v":{"$error":"#REF!"}},{"$f":"VLOOKUP(A:A,#REF!,3,FALSE)","v":{"$error":"#REF!"}},{"$error":"#REF!"},{"$error":"#REF!"}]
["AVM1010",3,3,{"$f":"VLOOKUP(A:A,#REF!,2,FALSE)","v":{"$error":"#REF!"}},{"$f":"VLOOKUP(A:A,#REF!,3,FALSE)","v":{"$error":"#REF!"}},{"$error":"#REF!"},{"$error":"#REF!"},"CWE/No PWH"]
["AVM1440",3,3,{"$f":"VLOOKUP(A:A,#REF!,2,FALSE)","v":{"$error":"#REF!"}},{"$f":"VLOOKUP(A:A,#REF!,3,FALSE)","v":{"$error":"#REF!"}},{"$error":"#REF!"},{"$error":"#REF!"}]
["AVM1931",2,2,{"$f":"VLOOKUP(A:A,#REF!,2,FALSE)","v":{"$error":"#REF!"}},{"$f":"VLOOKUP(A:A,#REF!,3,FALSE)","v":{"$error":"#REF!"}},{"$error":"#REF!"},{"$error":"#REF!"}]
["AVM1942",0.01,0.01,{"$f":"VLOOKUP(A:A,#REF!,2,FALSE)","v":{"$error":"#REF!"}},{"$f":"VLOOKUP(A:A,#REF!,3,FALSE)","v":{"$error":"#REF!"}},{"$error":"#REF!"},{"$error":"#REF!"}]
["AVM2022",3,3,{"$f":"VLOOKUP(A:A,#REF!,2,FALSE)","v":{"$error":"#REF!"}},{"$f":"VLOOKUP(A:A,#REF!,3,FALSE)","v":{"$error":"#REF!"}},{"$error":"#REF!"},{"$error":"#REF!"}]
["AVM2120",3,3,{"$f":"VLOOKUP(A:A,#REF!,2,FALSE)","v":{"$error":"#REF!"}},{"$f":"VLOOKUP(A:A,#REF!,3,FALSE)","v":{"$error":"#REF!"}},{"$error":"#REF!"},{"$error":"#REF!"}]
["AVM2132C",5,3,{"$f":"VLOOKUP(A:A,#REF!,2,FALSE)","v":{"$error":"#REF!"}},{"$f":"VLOOKUP(A:A,#REF!,3,FALSE)","v":{"$error":"#REF!"}},{"$error":"#REF!"},{"$error":"#REF!"}]
["AVM2134C",5,3,{"$f":"VLOOKUP(A:A,#REF!,2,FALSE)","v":{"$error":"#REF!"}},{"$f":"VLOOKUP(A:A,#REF!,3,FALSE)","v":{"$error":"#REF!"}},{"$error":"#REF!"},{"$error":"#REF!"}]
["AVM2410",3,3,{"$f":"VLOOKUP(A:A,#REF!,2,FALSE)","v":{"$error":"#REF!"}},{"$f":"VLOOKUP(A:A,#REF!,3,FALSE)","v":{"$error":"#REF!"}},{"$error":"#REF!"},{"$error":"#REF!"}]
["AVM2510",3,3,{"$f":"VLOOKUP(A:A,#REF!,2,FALSE)","v":{"$error":"#REF!"}},{"$f":"VLOOKUP(A:A,#REF!,3,FALSE)","v":{"$error":"#REF!"}},{"$error":"#REF!"},{"$error":"#REF!"}]
["AVM2930",0,0,{"$f":"VLOOKUP(A:A,#REF!,2,FALSE)","v":{"$error":"#REF!"}},{"$f":"VLOOKUP(A:A,#REF!,3,FALSE)","v":{"$error":"#REF!"}},{"$error":"#REF!"},{"$error":"#REF!"}]
["AVM2931",0,0,{"$f":"VLOOKUP(A:A,#REF!,2,FALSE)","v":{"$error":"#REF!"}},{"$f":"VLOOKUP(A:A,#REF!,3,FALSE)","v":{"$error":"#REF!"}},{"$error":"#REF!"},{"$error":"#REF!"},"CWE/No PWH"]
["AVM2941",0.01,0.01,{"$f":"VLOOKUP(A:A,#REF!,2,FALSE)","v":{"$error":"#REF!"}},{"$f":"VLOOKUP(A:A,#REF!,3,FALSE)","v":{"$error":"#REF!"}},{"$error":"#REF!"},{"$error":"#REF!"}]
["Bank",null,null,{"$f":"VLOOKUP(A:A,#REF!,2,FALSE)","v":{"$error":"#REF!"}},{"$f":"VLOOKUP(A:A,#REF!,3,FALSE)","v":{"$error":"#REF!"}},{"$error":"#REF!"},{"$error":"#REF!"}]
["BCH4024",4,4,{"$f":"VLOOKUP(A:A,#REF!,2,FALSE)","v":{"$error":"#REF!"}},{"$f":"VLOOKUP(A:A,#REF!,3,FALSE)","v":{"$error":"#REF!"}},{"$error":"#REF!"},{"$error":"#REF!"}]
["BCH4035C",6,5.0999999999999996,{"$f":"VLOOKUP(A:A,#REF!,2,FALSE)","v":{"$error":"#REF!"}},{"$f":"VLOOKUP(A:A,#REF!,3,FALSE)","v":{"$error":"#REF!"}},{"$error":"#REF!"},{"$error":"#REF!"}]
["BCN1210",3,3,{"$f":"VLOOKUP(A:A,#REF!,2,FALSE)","v":{"$error":"#REF!"}},{"$f":"VLOOKUP(A:A,#REF!,3,FALSE)","v":{"$error":"#REF!"}},{"$error":"#REF!"},{"$error":"#REF!"}]
["BCN1210L",0.5,0.5,{"$f":"VLOOKUP(A:A,#REF!,2,FALSE)","v":{"$error":"#REF!"}},{"$f":"VLOOKUP(A:A,#REF!,3,FALSE)","v":{"$error":"#REF!"}},{"$error":"#REF!"},{"$error":"#REF!"}]
["BCN1251",3,3,{"$f":"VLOOKUP(A:A,#REF!,2,FALSE)","v":{"$error":"#REF!"}},{"$f":"VLOOKUP(A:A,#REF!,3,FALSE)","v":{"$error":"#REF!"}},{"$error":"#REF!"},{"$error":"#REF!"}]
["BCN1943",0.01,0.01,{"$f":"VLOOKUP(A:A,#REF!,2,FALSE)","v":{"$error":"#REF!"}},{"$f":"VLOOKUP(A:A,#REF!,3,FALSE)","v":{"$error":"#REF!"}},{"$error":"#REF!"},{"$error":"#REF!"}]
["BCN2226",4,3.5,{"$f":"VLOOKUP(A:A,#REF!,2,FALSE)","v":{"$error":"#REF!"}},{"$f":"VLOOKUP(A:A,#REF!,3,FALSE)","v":{"$error":"#REF!"}},{"$error":"#REF!"},{"$error":"#REF!"}]
["BCN2280",4,3,{"$f":"VLOOKUP(A:A,#REF!,2,FALSE)","v":{"$error":"#REF!"}},{"$f":"VLOOKUP(A:A,#REF!,3,FALSE)","v":{"$error":"#REF!"}},{"$error":"#REF!"},{"$error":"#REF!"}]
["BCN2405",3,3,{"$f":"VLOOKUP(A:A,#REF!,2,FALSE)","v":{"$error":"#REF!"}},{"$f":"VLOOKUP(A:A,#REF!,3,FALSE)","v":{"$error":"#REF!"}},{"$error":"#REF!"},{"$error":"#REF!"}]
["BCN2563",2,2,{"$f":"VLOOKUP(A:A,#REF!,2,FALSE)","v":{"$error":"#REF!"}},{"$f":"VLOOKUP(A:A,#REF!,3,FALSE)","v":{"$error":"#REF!"}},{"$error":"#REF!"},{"$error":"#REF!"}]
["BCN2614",4,3,{"$f":"VLOOKUP(A:A,#REF!,2,FALSE)","v":{"$error":"#REF!"}},{"$f":"VLOOKUP(A:A,#REF!,3,FALSE)","v":{"$error":"#REF!"}},{"$error":"#REF!"},{"$error":"#REF!"}]
["BCN2721",3,3,{"$f":"VLOOKUP(A:A,#REF!,2,FALSE)","v":{"$error":"#REF!"}},{"$f":"VLOOKUP(A:A,#REF!,3,FALSE)","v":{"$error":"#REF!"}},{"$error":"#REF!"},{"$error":"#REF!"}]
["BCN2732",3,3,{"$f":"VLOOKUP(A:A,#REF!,2,FALSE)","v":{"$error":"#REF!"}},{"$f":"VLOOKUP(A:A,#REF!,3,FALSE)","v":{"$error":"#REF!"}},{"$error":"#REF!"},{"$error":"#REF!"}]
["BCN2760",3,3,{"$f":"VLOOKUP(A:A,#REF!,2,FALSE)","v":{"$error":"#REF!"}},{"$f":"VLOOKUP(A:A,#REF!,3,FALSE)","v":{"$error":"#REF!"}},{"$error":"#REF!"},{"$error":"#REF!"}]
["BCN2781",3,3,{"$f":"VLOOKUP(A:A,#REF!,2,FALSE)","v":{"$error":"#REF!"}},{"$f":"VLOOKUP(A:A,#REF!,3,FALSE)","v":{"$error":"#REF!"}},{"$error":"#REF!"},{"$error":"#REF!"}]
["BCN2793",3,3,{"$f":"VLOOKUP(A:A,#REF!,2,FALSE)","v":{"$error":"#REF!"}},{"$f":"VLOOKUP(A:A,#REF!,3,FALSE)","v":{"$error":"#REF!"}},{"$error":"#REF!"},{"$error":"#REF!"}]
["BCV0139",5,5,{"$f":"VLOOKUP(A:A,#REF!,2,FALSE)","v":{"$error":"#REF!"}},{"$f":"VLOOKUP(A:A,#REF!,3,FALSE)","v":{"$error":"#REF!"}},{"$f":"B644-D644","v":{"$error":"#REF!"}},{"$f":"C644-E644","v":{"$error":"#REF!"}}]
["BCV0600",6,5,{"$f":"VLOOKUP(A:A,#REF!,2,FALSE)","v":{"$error":"#REF!"}},{"$f":"VLOOKUP(A:A,#REF!,3,FALSE)","v":{"$error":"#REF!"}},{"$error":"#REF!"},{"$error":"#REF!"}]
["BCV0601",6,5,{"$f":"VLOOKUP(A:A,#REF!,2,FALSE)","v":{"$error":"#REF!"}},{"$f":"VLOOKUP(A:A,#REF!,3,FALSE)","v":{"$error":"#REF!"}},{"$error":"#REF!"},{"$error":"#REF!"}]
["BCV0603C",12,10,{"$f":"VLOOKUP(A:A,#REF!,2,FALSE)","v":{"$error":"#REF!"}},{"$f":"VLOOKUP(A:A,#REF!,3,FALSE)","v":{"$error":"#REF!"}},{"$error":"#REF!"},{"$error":"#REF!"}]
["BCV0610",6,5,{"$f":"VLOOKUP(A:A,#REF!,2,FALSE)","v":{"$error":"#REF!"}},{"$f":"VLOOKUP(A:A,#REF!,3,FALSE)","v":{"$error":"#REF!"}},{"$error":"#REF!"},{"$error":"#REF!"}]
["BCV0640C",18,15,{"$f":"VLOOKUP(A:A,#REF!,2,FALSE)","v":{"$error":"#REF!"}},{"$f":"VLOOKUP(A:A,#REF!,3,FALSE)","v":{"$error":"#REF!"}},{"$error":"#REF!"},{"$error":"#REF!"}]
["BCV0641",6,5,{"$f":"VLOOKUP(A:A,#REF!,2,FALSE)","v":{"$error":"#REF!"}},{"$f":"VLOOKUP(A:A,#REF!,3,FALSE)","v":{"$error":"#REF!"}},{"$error":"#REF!"},{"$error":"#REF!"}]
["BCV0642",6,5,{"$f":"VLOOKUP(A:A,#REF!,2,FALSE)","v":{"$error":"#REF!"}},{"$f":"VLOOKUP(A:A,#REF!,3,FALSE)","v":{"$error":"#REF!"}},{"$error":"#REF!"},{"$error":"#REF!"}]
["BCV0652C",18,15,{"$f":"VLOOKUP(A:A,#REF!,2,FALSE)","v":{"$error":"#REF!"}},{"$f":"VLOOKUP(A:A,#REF!,3,FALSE)","v":{"$error":"#REF!"}},{"$error":"#REF!"},{"$error":"#REF!"}]
["BCV0660",6,5,{"$f":"VLOOKUP(A:A,#REF!,2,FALSE)","v":{"$error":"#REF!"}},{"$f":"VLOOKUP(A:A,#REF!,3,FALSE)","v":{"$error":"#REF!"}},{"$error":"#REF!"},{"$error":"#REF!"}]
["BCV0661",6,5,{"$f":"VLOOKUP(A:A,#REF!,2,FALSE)","v":{"$error":"#REF!"}},{"$f":"VLOOKUP(A:A,#REF!,3,FALSE)","v":{"$error":"#REF!"}},{"$error":"#REF!"},{"$error":"#REF!"}]
["BCV0662",6,5,{"$f":"VLOOKUP(A:A,#REF!,2,FALSE)","v":{"$error":"#REF!"}},{"$f":"VLOOKUP(A:A,#REF!,3,FALSE)","v":{"$error":"#REF!"}},{"$error":"#REF!"},{"$error":"#REF!"}]
["BED0344",2.52,2.1,{"$f":"VLOOKUP(A:A,#REF!,2,FALSE)","v":{"$error":"#REF!"}},{"$f":"VLOOKUP(A:A,#REF!,3,FALSE)","v":{"$error":"#REF!"}},{"$error":"#REF!"},{"$error":"#REF!"}]
["BED0370",1,1,{"$f":"VLOOKUP(A:A,#REF!,2,FALSE)","v":{"$error":"#REF!"}},{"$f":"VLOOKUP(A:A,#REF!,3,FALSE)","v":{"$error":"#REF!"}},{"$error":"#REF!"},{"$error":"#REF!"},"CWE"]
["BED0379",0.06,0.05,{"$f":"VLOOKUP(A:A,#REF!,2,FALSE)","v":{"$error":"#REF!"}},{"$f":"VLOOKUP(A:A,#REF!,3,FALSE)","v":{"$error":"#REF!"}},{"$error":"#REF!"},{"$error":"#REF!"}]
["BED0760",0.8,8.8000000000000007,{"$f":"VLOOKUP(A:A,#REF!,2,FALSE)","v":{"$error":"#REF!"}},{"$f":"VLOOKUP(A:A,#REF!,3,FALSE)","v":{"$error":"#REF!"}},{"$error":"#REF!"},{"$error":"#REF!"}]
["BOT1010C",6,6,{"$f":"VLOOKUP(A:A,#REF!,2,FALSE)","v":{"$error":"#REF!"}},{"$f":"VLOOKUP(A:A,#REF!,3,FALSE)","v":{"$error":"#REF!"}},{"$error":"#REF!"},{"$error":"#REF!"},"CWE"]
["BRC3203",3,3,{"$f":"VLOOKUP(A:A,#REF!,2,FALSE)","v":{"$error":"#REF!"}},{"$f":"VLOOKUP(A:A,#REF!,3,FALSE)","v":{"$error":"#REF!"}},{"$error":"#REF!"},{"$error":"#REF!"},"CWE"]
["BSC1005",3,3,{"$f":"VLOOKUP(A:A,#REF!,2,FALSE)","v":{"$error":"#REF!"}},{"$f":"VLOOKUP(A:A,#REF!,3,FALSE)","v":{"$error":"#REF!"}},{"$error":"#REF!"},{"$error":"#REF!"},"CWE"]
["BSC1005L",2,1.4,{"$f":"VLOOKUP(A:A,#REF!,2,FALSE)","v":{"$error":"#REF!"}},{"$f":"VLOOKUP(A:A,#REF!,3,FALSE)","v":{"$error":"#REF!"}},{"$error":"#REF!"},{"$error":"#REF!"},"CWE/Came in as 1.80"]
["BSC1421C",5,4.4000000000000004,{"$f":"VLOOKUP(A:A,#REF!,2,FALSE)","v":{"$error":"#REF!"}},{"$f":"VLOOKUP(A:A,#REF!,3,FALSE)","v":{"$error":"#REF!"}},{"$error":"#REF!"},{"$error":"#REF!"}]
["BSC1942",0.01,0.01,{"$f":"VLOOKUP(A:A,#REF!,2,FALSE)","v":{"$error":"#REF!"}},{"$f":"VLOOKUP(A:A,#REF!,3,FALSE)","v":{"$error":"#REF!"}},{"$error":"#REF!"},{"$error":"#REF!"}]
["BSC1943",0.01,0.01,{"$f":"VLOOKUP(A:A,#REF!,2,FALSE)","v":{"$error":"#REF!"}},{"$f":"VLOOKUP(A:A,#REF!,3,FALSE)","v":{"$error":"#REF!"}},{"$error":"#REF!"},{"$error":"#REF!"}]
["BSC2010C",5,5,{"$f":"VLOOKUP(A:A,#REF!,2,FALSE)","v":{"$error":"#REF!"}},{"$f":"VLOOKUP(A:A,#REF!,3,FALSE)","v":{"$error":"#REF!"}},{"$error":"#REF!"},{"$error":"#REF!"}]
["BSC2011C",5,5,{"$f":"VLOOKUP(A:A,#REF!,2,FALSE)","v":{"$error":"#REF!"}},{"$f":"VLOOKUP(A:A,#REF!,3,FALSE)","v":{"$error":"#REF!"}},{"$error":"#REF!"},{"$error":"#REF!"},"CWE"]
["BSC2020C",5,5,{"$f":"VLOOKUP(A:A,#REF!,2,FALSE)","v":{"$error":"#REF!"}},{"$f":"VLOOKUP(A:A,#REF!,3,FALSE)","v":{"$error":"#REF!"}},{"$error":"#REF!"},{"$error":"#REF!"},"CWE"]
["BSC2050",3,3,{"$f":"VLOOKUP(A:A,#REF!,2,FALSE)","v":{"$error":"#REF!"}},{"$f":"VLOOKUP(A:A,#REF!,3,FALSE)","v":{"$error":"#REF!"}},{"$error":"#REF!"},{"$error":"#REF!"},"CWE"]
["BSC2060C",4,3.4,{"$f":"VLOOKUP(A:A,#REF!,2,FALSE)","v":{"$error":"#REF!"}},{"$f":"VLOOKUP(A:A,#REF!,3,FALSE)","v":{"$error":"#REF!"}},{"$error":"#REF!"},{"$error":"#REF!"}]
["BSC2085C",5,5,{"$f":"VLOOKUP(A:A,#REF!,2,FALSE)","v":{"$error":"#REF!"}},{"$f":"VLOOKUP(A:A,#REF!,3,FALSE)","v":{"$error":"#REF!"}},{"$error":"#REF!"},{"$error":"#REF!"},"CWE"]
["BSC2086C",5,5,{"$f":"VLOOKUP(A:A,#REF!,2,FALSE)","v":{"$error":"#REF!"}},{"$f":"VLOOKUP(A:A,#REF!,3,FALSE)","v":{"$error":"#REF!"}},{"$error":"#REF!"},{"$error":"#REF!"}]
["BSC2093C",5,4.4000000000000004,{"$f":"VLOOKUP(A:A,#REF!,2,FALSE)","v":{"$error":"#REF!"}},{"$f":"VLOOKUP(A:A,#REF!,3,FALSE)","v":{"$error":"#REF!"}},{"$error":"#REF!"},{"$error":"#REF!"},"CWE"]
["BSC2094C",5,4.4000000000000004,{"$f":"VLOOKUP(A:A,#REF!,2,FALSE)","v":{"$error":"#REF!"}},{"$f":"VLOOKUP(A:A,#REF!,3,FALSE)","v":{"$error":"#REF!"}},{"$error":"#REF!"},{"$error":"#REF!"}]
["BSC2250C",4,3.4,{"$f":"VLOOKUP(A:A,#REF!,2,FALSE)","v":{"$error":"#REF!"}},{"$f":"VLOOKUP(A:A,#REF!,3,FALSE)","v":{"$error":"#REF!"}},{"$error":"#REF!"},{"$error":"#REF!"},"CWE/Came in as .13"]
["BSC2419C",5,4.4000000000000004,{"$f":"VLOOKUP(A:A,#REF!,2,FALSE)","v":{"$error":"#REF!"}},{"$f":"VLOOKUP(A:A,#REF!,3,FALSE)","v":{"$error":"#REF!"}},{"$error":"#REF!"},{"$error":"#REF!"},"CWE/came in as .06"]
["BSC2420C",5,4.4000000000000004,{"$f":"VLOOKUP(A:A,#REF!,2,FALSE)","v":{"$error":"#REF!"}},{"$f":"VLOOKUP(A:A,#REF!,3,FALSE)","v":{"$error":"#REF!"}},{"$error":"#REF!"},{"$error":"#REF!"},"CWE"]
["BSC2427C",5,4.4000000000000004,{"$f":"VLOOKUP(A:A,#REF!,2,FALSE)","v":{"$error":"#REF!"}},{"$f":"VLOOKUP(A:A,#REF!,3,FALSE)","v":{"$error":"#REF!"}},{"$error":"#REF!"},{"$error":"#REF!"},"CWE/.33"]
["BSC2435",3,3,{"$f":"VLOOKUP(A:A,#REF!,2,FALSE)","v":{"$error":"#REF!"}},{"$f":"VLOOKUP(A:A,#REF!,3,FALSE)","v":{"$error":"#REF!"}},{"$error":"#REF!"},{"$error":"#REF!"},"CWE/.20"]
["BSC2931",1,1,{"$f":"VLOOKUP(A:A,#REF!,2,FALSE)","v":{"$error":"#REF!"}},{"$f":"VLOOKUP(A:A,#REF!,3,FALSE)","v":{"$error":"#REF!"}},{"$error":"#REF!"},{"$error":"#REF!"}]
["BSC2933",3,3,{"$f":"VLOOKUP(A:A,#REF!,2,FALSE)","v":{"$error":"#REF!"}},{"$f":"VLOOKUP(A:A,#REF!,3,FALSE)","v":{"$error":"#REF!"}},{"$error":"#REF!"},{"$error":"#REF!"},"CWE/.20"]
["BUL2131",3,3,{"$f":"VLOOKUP(A:A,#REF!,2,FALSE)","v":{"$error":"#REF!"}},{"$f":"VLOOKUP(A:A,#REF!,3,FALSE)","v":{"$error":"#REF!"}},{"$error":"#REF!"},{"$error":"#REF!"},"CWE/.26"]
["BUL3130",3,3,{"$f":"VLOOKUP(A:A,#REF!,2,FALSE)","v":{"$error":"#REF!"}},{"$f":"VLOOKUP(A:A,#REF!,3,FALSE)","v":{"$error":"#REF!"}},{"$error":"#REF!"},{"$error":"#REF!"},"CWE/.13"]
["CAP1120C",4,3.4,{"$f":"VLOOKUP(A:A,#REF!,2,FALSE)","v":{"$error":"#REF!"}},{"$f":"VLOOKUP(A:A,#REF!,3,FALSE)","v":{"$error":"#REF!"}},{"$error":"#REF!"},{"$error":"#REF!"},"CWE"]
["CAP2140",4,3.5,{"$f":"VLOOKUP(A:A,#REF!,2,FALSE)","v":{"$error":"#REF!"}},{"$f":"VLOOKUP(A:A,#REF!,3,FALSE)","v":{"$error":"#REF!"}},{"$error":"#REF!"},{"$error":"#REF!"},"CWE"]
["CAP2141",4,4,{"$f":"VLOOKUP(A:A,#REF!,2,FALSE)","v":{"$error":"#REF!"}},{"$f":"VLOOKUP(A:A,#REF!,3,FALSE)","v":{"$error":"#REF!"}},{"$error":"#REF!"},{"$error":"#REF!"},"CWE"]
["CAP2741C",3,3,{"$f":"VLOOKUP(A:A,#REF!,2,FALSE)","v":{"$error":"#REF!"}},{"$f":"VLOOKUP(A:A,#REF!,3,FALSE)","v":{"$error":"#REF!"}},{"$error":"#REF!"},{"$error":"#REF!"}]
["CAP2787C",4,3.7,{"$f":"VLOOKUP(A:A,#REF!,2,FALSE)","v":{"$error":"#REF!"}},{"$f":"VLOOKUP(A:A,#REF!,3,FALSE)","v":{"$error":"#REF!"}},{"$error":"#REF!"},{"$error":"#REF!"}]
["CCE0001",1.8,1.5,{"$f":"VLOOKUP(A:A,#REF!,2,FALSE)","v":{"$error":"#REF!"}},{"$f":"VLOOKUP(A:A,#REF!,3,FALSE)","v":{"$error":"#REF!"}},{"$error":"#REF!"},{"$error":"#REF!"},"CWE"]
["CCE0007",1.8,1.5,{"$f":"VLOOKUP(A:A,#REF!,2,FALSE)","v":{"$error":"#REF!"}},{"$f":"VLOOKUP(A:A,#REF!,3,FALSE)","v":{"$error":"#REF!"}},{"$error":"#REF!"},{"$error":"#REF!"}]
["CCE0008",1.8,1.5,{"$f":"VLOOKUP(A:A,#REF!,2,FALSE)","v":{"$error":"#REF!"}},{"$f":"VLOOKUP(A:A,#REF!,3,FALSE)","v":{"$error":"#REF!"}},{"$error":"#REF!"},{"$error":"#REF!"}]
["CCE0009",1.8,1.5,{"$f":"VLOOKUP(A:A,#REF!,2,FALSE)","v":{"$error":"#REF!"}},{"$f":"VLOOKUP(A:A,#REF!,3,FALSE)","v":{"$error":"#REF!"}},{"$error":"#REF!"},{"$error":"#REF!"}]
["CCE0010",1.8,1.5,{"$f":"VLOOKUP(A:A,#REF!,2,FALSE)","v":{"$error":"#REF!"}},{"$f":"VLOOKUP(A:A,#REF!,3,FALSE)","v":{"$error":"#REF!"}},{"$error":"#REF!"},{"$error":"#REF!"}]
["CCE0011",1.8,1.5,{"$f":"VLOOKUP(A:A,#REF!,2,FALSE)","v":{"$error":"#REF!"}},{"$f":"VLOOKUP(A:A,#REF!,3,FALSE)","v":{"$error":"#REF!"}},{"$error":"#REF!"},{"$error":"#REF!"}]
["CCE0012",1.8,1.5,{"$f":"VLOOKUP(A:A,#REF!,2,FALSE)","v":{"$error":"#REF!"}},{"$f":"VLOOKUP(A:A,#REF!,3,FALSE)","v":{"$error":"#REF!"}},{"$error":"#REF!"},{"$error":"#REF!"}]
["CCE0013",1.8,1.5,{"$f":"VLOOKUP(A:A,#REF!,2,FALSE)","v":{"$error":"#REF!"}},{"$f":"VLOOKUP(A:A,#REF!,3,FALSE)","v":{"$error":"#REF!"}},{"$error":"#REF!"},{"$error":"#REF!"}]
["CCE0014",2.4,2,{"$f":"VLOOKUP(A:A,#REF!,2,FALSE)","v":{"$error":"#REF!"}},{"$f":"VLOOKUP(A:A,#REF!,3,FALSE)","v":{"$error":"#REF!"}},{"$error":"#REF!"},{"$error":"#REF!"}]
["CCE0015",1.8,1.5,{"$f":"VLOOKUP(A:A,#REF!,2,FALSE)","v":{"$error":"#REF!"}},{"$f":"VLOOKUP(A:A,#REF!,3,FALSE)","v":{"$error":"#REF!"}},{"$error":"#REF!"},{"$error":"#REF!"}]
["CCE0016",2.4,2,{"$f":"VLOOKUP(A:A,#REF!,2,FALSE)","v":{"$error":"#REF!"}},{"$f":"VLOOKUP(A:A,#REF!,3,FALSE)","v":{"$error":"#REF!"}},{"$error":"#REF!"},{"$error":"#REF!"}]
["CCE0017",2.4,2,{"$f":"VLOOKUP(A:A,#REF!,2,FALSE)","v":{"$error":"#REF!"}},{"$f":"VLOOKUP(A:A,#REF!,3,FALSE)","v":{"$error":"#REF!"}},{"$error":"#REF!"},{"$error":"#REF!"}]
["CCE0018",1.8,1.5,{"$f":"VLOOKUP(A:A,#REF!,2,FALSE)","v":{"$error":"#REF!"}},{"$f":"VLOOKUP(A:A,#REF!,3,FALSE)","v":{"$error":"#REF!"}},{"$error":"#REF!"},{"$error":"#REF!"}]
["CCE0039",9.6,9.6,{"$f":"VLOOKUP(A:A,#REF!,2,FALSE)","v":{"$error":"#REF!"}},{"$f":"VLOOKUP(A:A,#REF!,3,FALSE)","v":{"$error":"#REF!"}},{"$error":"#REF!"},{"$error":"#REF!"}]
["CCE0040",28,28,{"$f":"VLOOKUP(A:A,#REF!,2,FALSE)","v":{"$error":"#REF!"}},{"$f":"VLOOKUP(A:A,#REF!,3,FALSE)","v":{"$error":"#REF!"}},{"$error":"#REF!"},{"$error":"#REF!"}]
["CCE0041",2.88,2.88,{"$f":"VLOOKUP(A:A,#REF!,2,FALSE)","v":{"$error":"#REF!"}},{"$f":"VLOOKUP(A:A,#REF!,3,FALSE)","v":{"$error":"#REF!"}},{"$error":"#REF!"},{"$error":"#REF!"}]
["CCE0046",0.13,0.13,{"$f":"VLOOKUP(A:A,#REF!,2,FALSE)","v":{"$error":"#REF!"}},{"$f":"VLOOKUP(A:A,#REF!,3,FALSE)","v":{"$error":"#REF!"}},{"$error":"#REF!"},{"$error":"#REF!"}]
["CCE0058",0.24,0.2,{"$f":"VLOOKUP(A:A,#REF!,2,FALSE)","v":{"$error":"#REF!"}},{"$f":"VLOOKUP(A:A,#REF!,3,FALSE)","v":{"$error":"#REF!"}},{"$error":"#REF!"},{"$error":"#REF!"}]
["CCE0076",0.48,0.4,{"$f":"VLOOKUP(A:A,#REF!,2,FALSE)","v":{"$error":"#REF!"}},{"$f":"VLOOKUP(A:A,#REF!,3,FALSE)","v":{"$error":"#REF!"}},{"$f":"B708-D708","v":{"$error":"#REF!"}},{"$f":"C708-E708","v":{"$error":"#REF!"}},"CWE"]
["CCE0080",0.16,0.13,{"$f":"VLOOKUP(A:A,#REF!,2,FALSE)","v":{"$error":"#REF!"}},{"$f":"VLOOKUP(A:A,#REF!,3,FALSE)","v":{"$error":"#REF!"}},{"$error":"#REF!"},{"$error":"#REF!"},"CWE"]
["CCE0081",0.32,0.27,{"$f":"VLOOKUP(A:A,#REF!,2,FALSE)","v":{"$error":"#REF!"}},{"$f":"VLOOKUP(A:A,#REF!,3,FALSE)","v":{"$error":"#REF!"}},{"$error":"#REF!"},{"$error":"#REF!"},"CWE"]
["CCE0082",0.32,0.26,{"$f":"VLOOKUP(A:A,#REF!,2,FALSE)","v":{"$error":"#REF!"}},{"$f":"VLOOKUP(A:A,#REF!,3,FALSE)","v":{"$error":"#REF!"}},{"$error":"#REF!"},{"$error":"#REF!"},"CWE"]
["CCE0147",13.4,13.4,{"$f":"VLOOKUP(A:A,#REF!,2,FALSE)","v":{"$error":"#REF!"}},{"$f":"VLOOKUP(A:A,#REF!,3,FALSE)","v":{"$error":"#REF!"}},{"$error":"#REF!"},{"$error":"#REF!"},"CWE"]
["CCE0155",2.16,2.16,{"$f":"VLOOKUP(A:A,#REF!,2,FALSE)","v":{"$error":"#REF!"}},{"$f":"VLOOKUP(A:A,#REF!,3,FALSE)","v":{"$error":"#REF!"}},{"$error":"#REF!"},{"$error":"#REF!"}]
["CCE0163",0.26,0.26,{"$f":"VLOOKUP(A:A,#REF!,2,FALSE)","v":{"$error":"#REF!"}},{"$f":"VLOOKUP(A:A,#REF!,3,FALSE)","v":{"$error":"#REF!"}},{"$error":"#REF!"},{"$error":"#REF!"}]
["CCE0166",1.2,1.2,{"$f":"VLOOKUP(A:A,#REF!,2,FALSE)","v":{"$error":"#REF!"}},{"$f":"VLOOKUP(A:A,#REF!,3,FALSE)","v":{"$error":"#REF!"}},{"$error":"#REF!"},{"$error":"#REF!"}]
["CCE0198",0.08,7.0000000000000007E-2,{"$f":"VLOOKUP(A:A,#REF!,2,FALSE)","v":{"$error":"#REF!"}},{"$f":"VLOOKUP(A:A,#REF!,3,FALSE)","v":{"$error":"#REF!"}},{"$error":"#REF!"},{"$error":"#REF!"},"CWE"]
["CCE0199",0.08,7.0000000000000007E-2,{"$f":"VLOOKUP(A:A,#REF!,2,FALSE)","v":{"$error":"#REF!"}},{"$f":"VLOOKUP(A:A,#REF!,3,FALSE)","v":{"$error":"#REF!"}},{"$error":"#REF!"},{"$error":"#REF!"}]
["CCE0202",0.32,0.27,{"$f":"VLOOKUP(A:A,#REF!,2,FALSE)","v":{"$error":"#REF!"}},{"$f":"VLOOKUP(A:A,#REF!,3,FALSE)","v":{"$error":"#REF!"}},{"$error":"#REF!"},{"$error":"#REF!"}]
["CCE0213",0.32,0.27,{"$f":"VLOOKUP(A:A,#REF!,2,FALSE)","v":{"$error":"#REF!"}},{"$f":"VLOOKUP(A:A,#REF!,3,FALSE)","v":{"$error":"#REF!"}},{"$error":"#REF!"},{"$error":"#REF!"}]
["CCE0220",0.08,7.0000000000000007E-2,{"$f":"VLOOKUP(A:A,#REF!,2,FALSE)","v":{"$error":"#REF!"}},{"$f":"VLOOKUP(A:A,#REF!,3,FALSE)","v":{"$error":"#REF!"}},{"$error":"#REF!"},{"$error":"#REF!"},"CWE"]
["CCE0224",0.08,7.0000000000000007E-2,{"$f":"VLOOKUP(A:A,#REF!,2,FALSE)","v":{"$error":"#REF!"}},{"$f":"VLOOKUP(A:A,#REF!,3,FALSE)","v":{"$error":"#REF!"}},{"$error":"#REF!"},{"$error":"#REF!"}]
["CCE0265",0.24,0.2,{"$f":"VLOOKUP(A:A,#REF!,2,FALSE)","v":{"$error":"#REF!"}},{"$f":"VLOOKUP(A:A,#REF!,3,FALSE)","v":{"$error":"#REF!"}},{"$error":"#REF!"},{"$error":"#REF!"},"CWE"]
["CCE0281",0.08,7.0000000000000007E-2,{"$f":"VLOOKUP(A:A,#REF!,2,FALSE)","v":{"$error":"#REF!"}},{"$f":"VLOOKUP(A:A,#REF!,3,FALSE)","v":{"$error":"#REF!"}},{"$error":"#REF!"},{"$error":"#REF!"},"CWE"]
["CCE0302",0.12,0.1,{"$f":"VLOOKUP(A:A,#REF!,2,FALSE)","v":{"$error":"#REF!"}},{"$f":"VLOOKUP(A:A,#REF!,3,FALSE)","v":{"$error":"#REF!"}},{"$error":"#REF!"},{"$error":"#REF!"}]
["CCE0320",0.12,0.1,{"$f":"VLOOKUP(A:A,#REF!,2,FALSE)","v":{"$error":"#REF!"}},{"$f":"VLOOKUP(A:A,#REF!,3,FALSE)","v":{"$error":"#REF!"}},{"$error":"#REF!"},{"$error":"#REF!"}]
["CCE0321",0.12,0.13,{"$f":"VLOOKUP(A:A,#REF!,2,FALSE)","v":{"$error":"#REF!"}},{"$f":"VLOOKUP(A:A,#REF!,3,FALSE)","v":{"$error":"#REF!"}},{"$error":"#REF!"},{"$error":"#REF!"}]
["CCE0322",0.08,0.06,{"$f":"VLOOKUP(A:A,#REF!,2,FALSE)","v":{"$error":"#REF!"}},{"$f":"VLOOKUP(A:A,#REF!,3,FALSE)","v":{"$error":"#REF!"}},{"$error":"#REF!"},{"$error":"#REF!"}]
["CCE0323",0.16,0.13,{"$f":"VLOOKUP(A:A,#REF!,2,FALSE)","v":{"$error":"#REF!"}},{"$f":"VLOOKUP(A:A,#REF!,3,FALSE)","v":{"$error":"#REF!"}},{"$error":"#REF!"},{"$error":"#REF!"},"CWE"]
["CCE0328",1.8,1.5,{"$f":"VLOOKUP(A:A,#REF!,2,FALSE)","v":{"$error":"#REF!"}},{"$f":"VLOOKUP(A:A,#REF!,3,FALSE)","v":{"$error":"#REF!"}},{"$error":"#REF!"},{"$error":"#REF!"}]
["CCE0329",1.8,1.5,{"$f":"VLOOKUP(A:A,#REF!,2,FALSE)","v":{"$error":"#REF!"}},{"$f":"VLOOKUP(A:A,#REF!,3,FALSE)","v":{"$error":"#REF!"}},{"$error":"#REF!"},{"$error":"#REF!"},"CWE"]
["CCE0381",1.44,1.2,{"$f":"VLOOKUP(A:A,#REF!,2,FALSE)","v":{"$error":"#REF!"}},{"$f":"VLOOKUP(A:A,#REF!,3,FALSE)","v":{"$error":"#REF!"}},{"$error":"#REF!"},{"$error":"#REF!"},"CWE"]
["CCE0387",6,5,{"$f":"VLOOKUP(A:A,#REF!,2,FALSE)","v":{"$error":"#REF!"}},{"$f":"VLOOKUP(A:A,#REF!,3,FALSE)","v":{"$error":"#REF!"}},{"$error":"#REF!"},{"$error":"#REF!"},"CWE"]
["CCE0388",6,5,{"$f":"VLOOKUP(A:A,#REF!,2,FALSE)","v":{"$error":"#REF!"}},{"$f":"VLOOKUP(A:A,#REF!,3,FALSE)","v":{"$error":"#REF!"}},{"$error":"#REF!"},{"$error":"#REF!"}]
["CCE0389",6,5,{"$f":"VLOOKUP(A:A,#REF!,2,FALSE)","v":{"$error":"#REF!"}},{"$f":"VLOOKUP(A:A,#REF!,3,FALSE)","v":{"$error":"#REF!"}},{"$error":"#REF!"},{"$error":"#REF!"},"CWE"]
["CCE0390",0.96,0.8,{"$f":"VLOOKUP(A:A,#REF!,2,FALSE)","v":{"$error":"#REF!"}},{"$f":"VLOOKUP(A:A,#REF!,3,FALSE)","v":{"$error":"#REF!"}},{"$error":"#REF!"},{"$error":"#REF!"}]
["CCE0397",0.32,0.26,{"$f":"VLOOKUP(A:A,#REF!,2,FALSE)","v":{"$error":"#REF!"}},{"$f":"VLOOKUP(A:A,#REF!,3,FALSE)","v":{"$error":"#REF!"}},{"$error":"#REF!"},{"$error":"#REF!"}]
["CCE0398",0.32,0.26,{"$f":"VLOOKUP(A:A,#REF!,2,FALSE)","v":{"$error":"#REF!"}},{"$f":"VLOOKUP(A:A,#REF!,3,FALSE)","v":{"$error":"#REF!"}},{"$error":"#REF!"},{"$error":"#REF!"},"CWE"]
["CCE0399",0.32,0.26,{"$f":"VLOOKUP(A:A,#REF!,2,FALSE)","v":{"$error":"#REF!"}},{"$f":"VLOOKUP(A:A,#REF!,3,FALSE)","v":{"$error":"#REF!"}},{"$error":"#REF!"},{"$error":"#REF!"}]
["CCE0400",0.64,0.53,{"$f":"VLOOKUP(A:A,#REF!,2,FALSE)","v":{"$error":"#REF!"}},{"$f":"VLOOKUP(A:A,#REF!,3,FALSE)","v":{"$error":"#REF!"}},{"$error":"#REF!"},{"$error":"#REF!"},"CWE"]
["CCE0402",0.96,0.8,{"$f":"VLOOKUP(A:A,#REF!,2,FALSE)","v":{"$error":"#REF!"}},{"$f":"VLOOKUP(A:A,#REF!,3,FALSE)","v":{"$error":"#REF!"}},{"$error":"#REF!"},{"$error":"#REF!"}]
["CCE0404",0.96,0.8,{"$f":"VLOOKUP(A:A,#REF!,2,FALSE)","v":{"$error":"#REF!"}},{"$f":"VLOOKUP(A:A,#REF!,3,FALSE)","v":{"$error":"#REF!"}},{"$error":"#REF!"},{"$error":"#REF!"},"CWE"]
["CCE0405",0.96,0.8,{"$f":"VLOOKUP(A:A,#REF!,2,FALSE)","v":{"$error":"#REF!"}},{"$f":"VLOOKUP(A:A,#REF!,3,FALSE)","v":{"$error":"#REF!"}},{"$error":"#REF!"},{"$error":"#REF!"}]
["CCE0406",0.16,0.13,{"$f":"VLOOKUP(A:A,#REF!,2,FALSE)","v":{"$error":"#REF!"}},{"$f":"VLOOKUP(A:A,#REF!,3,FALSE)","v":{"$error":"#REF!"}},{"$error":"#REF!"},{"$error":"#REF!"},"CWE"]
["CCE0407",0.16,0.13,{"$f":"VLOOKUP(A:A,#REF!,2,FALSE)","v":{"$error":"#REF!"}},{"$f":"VLOOKUP(A:A,#REF!,3,FALSE)","v":{"$error":"#REF!"}},{"$error":"#REF!"},{"$error":"#REF!"}]
["CCE0409",0.16,0.13,{"$f":"VLOOKUP(A:A,#REF!,2,FALSE)","v":{"$error":"#REF!"}},{"$f":"VLOOKUP(A:A,#REF!,3,FALSE)","v":{"$error":"#REF!"}},{"$error":"#REF!"},{"$error":"#REF!"},"CWE"]
["CCE0412",0.08,0.06,{"$f":"VLOOKUP(A:A,#REF!,2,FALSE)","v":{"$error":"#REF!"}},{"$f":"VLOOKUP(A:A,#REF!,3,FALSE)","v":{"$error":"#REF!"}},{"$error":"#REF!"},{"$error":"#REF!"}]
["CCE0413",0.16,0.13,{"$f":"VLOOKUP(A:A,#REF!,2,FALSE)","v":{"$error":"#REF!"}},{"$f":"VLOOKUP(A:A,#REF!,3,FALSE)","v":{"$error":"#REF!"}},{"$error":"#REF!"},{"$error":"#REF!"},"CWE"]
["CCE0414",0.24,0.2,{"$f":"VLOOKUP(A:A,#REF!,2,FALSE)","v":{"$error":"#REF!"}},{"$f":"VLOOKUP(A:A,#REF!,3,FALSE)","v":{"$error":"#REF!"}},{"$error":"#REF!"},{"$error":"#REF!"},"CWE"]
["CCE0433",0.12,0.1,{"$f":"VLOOKUP(A:A,#REF!,2,FALSE)","v":{"$error":"#REF!"}},{"$f":"VLOOKUP(A:A,#REF!,3,FALSE)","v":{"$error":"#REF!"}},{"$error":"#REF!"},{"$error":"#REF!"}]
["CCE0434",0.12,0.1,{"$f":"VLOOKUP(A:A,#REF!,2,FALSE)","v":{"$error":"#REF!"}},{"$f":"VLOOKUP(A:A,#REF!,3,FALSE)","v":{"$error":"#REF!"}},{"$error":"#REF!"},{"$error":"#REF!"}]
["CCE0440",0.8,0.67,{"$f":"VLOOKUP(A:A,#REF!,2,FALSE)","v":{"$error":"#REF!"}},{"$f":"VLOOKUP(A:A,#REF!,3,FALSE)","v":{"$error":"#REF!"}},{"$error":"#REF!"},{"$error":"#REF!"},"CWE"]
["CCE0444",2.4,2,{"$f":"VLOOKUP(A:A,#REF!,2,FALSE)","v":{"$error":"#REF!"}},{"$f":"VLOOKUP(A:A,#REF!,3,FALSE)","v":{"$error":"#REF!"}},{"$error":"#REF!"},{"$error":"#REF!"}]
["CCE0463",0.2,0.17,{"$f":"VLOOKUP(A:A,#REF!,2,FALSE)","v":{"$error":"#REF!"}},{"$f":"VLOOKUP(A:A,#REF!,3,FALSE)","v":{"$error":"#REF!"}},{"$error":"#REF!"},{"$error":"#REF!"}]
["CCE0499",0.64,0.53,{"$f":"VLOOKUP(A:A,#REF!,2,FALSE)","v":{"$error":"#REF!"}},{"$f":"VLOOKUP(A:A,#REF!,3,FALSE)","v":{"$error":"#REF!"}},{"$error":"#REF!"},{"$error":"#REF!"}]
["CCE0500",0.96,0.8,{"$f":"VLOOKUP(A:A,#REF!,2,FALSE)","v":{"$error":"#REF!"}},{"$f":"VLOOKUP(A:A,#REF!,3,FALSE)","v":{"$error":"#REF!"}},{"$error":"#REF!"},{"$error":"#REF!"},"CWE"]
["CCE0501",0.64,0.53,{"$f":"VLOOKUP(A:A,#REF!,2,FALSE)","v":{"$error":"#REF!"}},{"$f":"VLOOKUP(A:A,#REF!,3,FALSE)","v":{"$error":"#REF!"}},{"$error":"#REF!"},{"$error":"#REF!"},"CWE"]
["CCE0519",0.56000000000000005,0.47,{"$f":"VLOOKUP(A:A,#REF!,2,FALSE)","v":{"$error":"#REF!"}},{"$f":"VLOOKUP(A:A,#REF!,3,FALSE)","v":{"$error":"#REF!"}},{"$error":"#REF!"},{"$error":"#REF!"}]
["CCE0522",0.8,0.8,{"$f":"VLOOKUP(A:A,#REF!,2,FALSE)","v":{"$error":"#REF!"}},{"$f":"VLOOKUP(A:A,#REF!,3,FALSE)","v":{"$error":"#REF!"}},{"$error":"#REF!"},{"$error":"#REF!"}]
["CCE0523",2.16,1.8,{"$f":"VLOOKUP(A:A,#REF!,2,FALSE)","v":{"$error":"#REF!"}},{"$f":"VLOOKUP(A:A,#REF!,3,FALSE)","v":{"$error":"#REF!"}},{"$error":"#REF!"},{"$error":"#REF!"}]
["CCE0524",2.16,1.8,{"$f":"VLOOKUP(A:A,#REF!,2,FALSE)","v":{"$error":"#REF!"}},{"$f":"VLOOKUP(A:A,#REF!,3,FALSE)","v":{"$error":"#REF!"}},{"$error":"#REF!"},{"$error":"#REF!"}]
["CCE0525",2.16,1.8,{"$f":"VLOOKUP(A:A,#REF!,2,FALSE)","v":{"$error":"#REF!"}},{"$f":"VLOOKUP(A:A,#REF!,3,FALSE)","v":{"$error":"#REF!"}},{"$error":"#REF!"},{"$error":"#REF!"},"CWE"]
["CCE0527",0.72,0.6,{"$f":"VLOOKUP(A:A,#REF!,2,FALSE)","v":{"$error":"#REF!"}},{"$f":"VLOOKUP(A:A,#REF!,3,FALSE)","v":{"$error":"#REF!"}},{"$error":"#REF!"},{"$error":"#REF!"},"CWE"]
["CCE0542",0.4,0.33,{"$f":"VLOOKUP(A:A,#REF!,2,FALSE)","v":{"$error":"#REF!"}},{"$f":"VLOOKUP(A:A,#REF!,3,FALSE)","v":{"$error":"#REF!"}},{"$error":"#REF!"},{"$error":"#REF!"},"CWE"]
["CCE0573",0.12,0.1,{"$f":"VLOOKUP(A:A,#REF!,2,FALSE)","v":{"$error":"#REF!"}},{"$f":"VLOOKUP(A:A,#REF!,3,FALSE)","v":{"$error":"#REF!"}},{"$error":"#REF!"},{"$error":"#REF!"},"CWE"]
["CCE0574",0.32,0.27,{"$f":"VLOOKUP(A:A,#REF!,2,FALSE)","v":{"$error":"#REF!"}},{"$f":"VLOOKUP(A:A,#REF!,3,FALSE)","v":{"$error":"#REF!"}},{"$error":"#REF!"},{"$error":"#REF!"},"CWE"]
["CCE0575",0.24,0.2,{"$f":"VLOOKUP(A:A,#REF!,2,FALSE)","v":{"$error":"#REF!"}},{"$f":"VLOOKUP(A:A,#REF!,3,FALSE)","v":{"$error":"#REF!"}},{"$error":"#REF!"},{"$error":"#REF!"},"CWE"]
["CCE0576",1.2,1,{"$f":"VLOOKUP(A:A,#REF!,2,FALSE)","v":{"$error":"#REF!"}},{"$f":"VLOOKUP(A:A,#REF!,3,FALSE)","v":{"$error":"#REF!"}},{"$error":"#REF!"},{"$error":"#REF!"},"CWE"]
["CCE0577",0.32,0.26,{"$f":"VLOOKUP(A:A,#REF!,2,FALSE)","v":{"$error":"#REF!"}},{"$f":"VLOOKUP(A:A,#REF!,3,FALSE)","v":{"$error":"#REF!"}},{"$error":"#REF!"},{"$error":"#REF!"}]
["CCE0578",0.96,0.8,{"$f":"VLOOKUP(A:A,#REF!,2,FALSE)","v":{"$error":"#REF!"}},{"$f":"VLOOKUP(A:A,#REF!,3,FALSE)","v":{"$error":"#REF!"}},{"$error":"#REF!"},{"$error":"#REF!"}]
["CCE0596",0.12,0.1,{"$f":"VLOOKUP(A:A,#REF!,2,FALSE)","v":{"$error":"#REF!"}},{"$f":"VLOOKUP(A:A,#REF!,3,FALSE)","v":{"$error":"#REF!"}},{"$error":"#REF!"},{"$error":"#REF!"}]
["CCE0609",0.96,0.8,{"$f":"VLOOKUP(A:A,#REF!,2,FALSE)","v":{"$error":"#REF!"}},{"$f":"VLOOKUP(A:A,#REF!,3,FALSE)","v":{"$error":"#REF!"}},{"$error":"#REF!"},{"$error":"#REF!"}]
["CCE0614",2.8,2.2999999999999998,{"$f":"VLOOKUP(A:A,#REF!,2,FALSE)","v":{"$error":"#REF!"}},{"$f":"VLOOKUP(A:A,#REF!,3,FALSE)","v":{"$error":"#REF!"}},{"$f":"B772-D772","v":{"$error":"#REF!"}},{"$f":"C772-E772","v":{"$error":"#REF!"}}]
["CCE0615",0.48,0.4,{"$f":"VLOOKUP(A:A,#REF!,2,FALSE)","v":{"$error":"#REF!"}},{"$f":"VLOOKUP(A:A,#REF!,3,FALSE)","v":{"$error":"#REF!"}},{"$error":"#REF!"},{"$error":"#REF!"}]
["CCE0621",0.96,0.8,{"$f":"VLOOKUP(A:A,#REF!,2,FALSE)","v":{"$error":"#REF!"}},{"$f":"VLOOKUP(A:A,#REF!,3,FALSE)","v":{"$error":"#REF!"}},{"$error":"#REF!"},{"$error":"#REF!"}]
["CCE0653",0.16,0.13,{"$f":"VLOOKUP(A:A,#REF!,2,FALSE)","v":{"$error":"#REF!"}},{"$f":"VLOOKUP(A:A,#REF!,3,FALSE)","v":{"$error":"#REF!"}},{"$error":"#REF!"},{"$error":"#REF!"}]
["CCE0654",0.2,0.17,{"$f":"VLOOKUP(A:A,#REF!,2,FALSE)","v":{"$error":"#REF!"}},{"$f":"VLOOKUP(A:A,#REF!,3,FALSE)","v":{"$error":"#REF!"}},{"$error":"#REF!"},{"$error":"#REF!"}]
["CCE0657",4.8,4,{"$f":"VLOOKUP(A:A,#REF!,2,FALSE)","v":{"$error":"#REF!"}},{"$f":"VLOOKUP(A:A,#REF!,3,FALSE)","v":{"$error":"#REF!"}},{"$error":"#REF!"},{"$error":"#REF!"}]
["CCE0662",0.96,0.8,{"$f":"VLOOKUP(A:A,#REF!,2,FALSE)","v":{"$error":"#REF!"}},{"$f":"VLOOKUP(A:A,#REF!,3,FALSE)","v":{"$error":"#REF!"}},{"$error":"#REF!"},{"$error":"#REF!"}]
["CCE0674",1.44,1.2,{"$f":"VLOOKUP(A:A,#REF!,2,FALSE)","v":{"$error":"#REF!"}},{"$f":"VLOOKUP(A:A,#REF!,3,FALSE)","v":{"$error":"#REF!"}},{"$error":"#REF!"},{"$error":"#REF!"}]
["CCE0685",6.24,5.2,{"$f":"VLOOKUP(A:A,#REF!,2,FALSE)","v":{"$error":"#REF!"}},{"$f":"VLOOKUP(A:A,#REF!,3,FALSE)","v":{"$error":"#REF!"}},{"$error":"#REF!"},{"$error":"#REF!"}]
["CCE0689",0.48,0.4,{"$f":"VLOOKUP(A:A,#REF!,2,FALSE)","v":{"$error":"#REF!"}},{"$f":"VLOOKUP(A:A,#REF!,3,FALSE)","v":{"$error":"#REF!"}},{"$error":"#REF!"},{"$error":"#REF!"}]
["CCE0693",1.4,1.1599999999999999,{"$f":"VLOOKUP(A:A,#REF!,2,FALSE)","v":{"$error":"#REF!"}},{"$f":"VLOOKUP(A:A,#REF!,3,FALSE)","v":{"$error":"#REF!"}},{"$error":"#REF!"},{"$error":"#REF!"}]
["CCE0695",0.64,0.53,{"$f":"VLOOKUP(A:A,#REF!,2,FALSE)","v":{"$error":"#REF!"}},{"$f":"VLOOKUP(A:A,#REF!,3,FALSE)","v":{"$error":"#REF!"}},{"$error":"#REF!"},{"$error":"#REF!"}]
["CCE0696",0.48,0.4,{"$f":"VLOOKUP(A:A,#REF!,2,FALSE)","v":{"$error":"#REF!"}},{"$f":"VLOOKUP(A:A,#REF!,3,FALSE)","v":{"$error":"#REF!"}},{"$error":"#REF!"},{"$error":"#REF!"}]
["CCE0697",0.4,0.3,{"$f":"VLOOKUP(A:A,#REF!,2,FALSE)","v":{"$error":"#REF!"}},{"$f":"VLOOKUP(A:A,#REF!,3,FALSE)","v":{"$error":"#REF!"}},{"$error":"#REF!"},{"$error":"#REF!"}]
["CCE0699",0.04,0.03,{"$f":"VLOOKUP(A:A,#REF!,2,FALSE)","v":{"$error":"#REF!"}},{"$f":"VLOOKUP(A:A,#REF!,3,FALSE)","v":{"$error":"#REF!"}},{"$error":"#REF!"},{"$error":"#REF!"}]
["CCE0701",7.04,5.86,{"$f":"VLOOKUP(A:A,#REF!,2,FALSE)","v":{"$error":"#REF!"}},{"$f":"VLOOKUP(A:A,#REF!,3,FALSE)","v":{"$error":"#REF!"}},{"$error":"#REF!"},{"$error":"#REF!"}]
["CCE0705",7.04,5.87,{"$f":"VLOOKUP(A:A,#REF!,2,FALSE)","v":{"$error":"#REF!"}},{"$f":"VLOOKUP(A:A,#REF!,3,FALSE)","v":{"$error":"#REF!"}},{"$error":"#REF!"},{"$error":"#REF!"}]
["CCE0731",4.8,4,{"$f":"VLOOKUP(A:A,#REF!,2,FALSE)","v":{"$error":"#REF!"}},{"$f":"VLOOKUP(A:A,#REF!,3,FALSE)","v":{"$error":"#REF!"}},{"$error":"#REF!"},{"$error":"#REF!"}]
["CCE0735",7.2,6,{"$f":"VLOOKUP(A:A,#REF!,2,FALSE)","v":{"$error":"#REF!"}},{"$f":"VLOOKUP(A:A,#REF!,3,FALSE)","v":{"$error":"#REF!"}},{"$error":"#REF!"},{"$error":"#REF!"}]
["CCE0744",1.1200000000000001,0.93,{"$f":"VLOOKUP(A:A,#REF!,2,FALSE)","v":{"$error":"#REF!"}},{"$f":"VLOOKUP(A:A,#REF!,3,FALSE)","v":{"$error":"#REF!"}},{"$error":"#REF!"},{"$error":"#REF!"}]
["CCE0786",1.28,1.06,{"$f":"VLOOKUP(A:A,#REF!,2,FALSE)","v":{"$error":"#REF!"}},{"$f":"VLOOKUP(A:A,#REF!,3,FALSE)","v":{"$error":"#REF!"}},{"$error":"#REF!"},{"$error":"#REF!"}]
["CCE0795",0.64,0.53,{"$f":"VLOOKUP(A:A,#REF!,2,FALSE)","v":{"$error":"#REF!"}},{"$f":"VLOOKUP(A:A,#REF!,3,FALSE)","v":{"$error":"#REF!"}},{"$error":"#REF!"},{"$error":"#REF!"}]
["CCE0796",3.6,3,{"$f":"VLOOKUP(A:A,#REF!,2,FALSE)","v":{"$error":"#REF!"}},{"$f":"VLOOKUP(A:A,#REF!,3,FALSE)","v":{"$error":"#REF!"}},{"$error":"#REF!"},{"$error":"#REF!"}]
["CCE0801",4,3.33,{"$f":"VLOOKUP(A:A,#REF!,2,FALSE)","v":{"$error":"#REF!"}},{"$f":"VLOOKUP(A:A,#REF!,3,FALSE)","v":{"$error":"#REF!"}},{"$error":"#REF!"},{"$error":"#REF!"}]
["CCE0804",4.8,4,{"$f":"VLOOKUP(A:A,#REF!,2,FALSE)","v":{"$error":"#REF!"}},{"$f":"VLOOKUP(A:A,#REF!,3,FALSE)","v":{"$error":"#REF!"}},{"$error":"#REF!"},{"$error":"#REF!"}]
["CCE0805",3.84,3.2,{"$f":"VLOOKUP(A:A,#REF!,2,FALSE)","v":{"$error":"#REF!"}},{"$f":"VLOOKUP(A:A,#REF!,3,FALSE)","v":{"$error":"#REF!"}},{"$error":"#REF!"},{"$error":"#REF!"}]
["CCE0810",0.32,0.27,{"$f":"VLOOKUP(A:A,#REF!,2,FALSE)","v":{"$error":"#REF!"}},{"$f":"VLOOKUP(A:A,#REF!,3,FALSE)","v":{"$error":"#REF!"}},{"$error":"#REF!"},{"$error":"#REF!"}]
["CCE0811",0.32,0.27,{"$f":"VLOOKUP(A:A,#REF!,2,FALSE)","v":{"$error":"#REF!"}},{"$f":"VLOOKUP(A:A,#REF!,3,FALSE)","v":{"$error":"#REF!"}},{"$error":"#REF!"},{"$error":"#REF!"}]
["CCE0825",0.64,0.53,{"$f":"VLOOKUP(A:A,#REF!,2,FALSE)","v":{"$error":"#REF!"}},{"$f":"VLOOKUP(A:A,#REF!,3,FALSE)","v":{"$error":"#REF!"}},{"$error":"#REF!"},{"$error":"#REF!"}]
["CCE0826",0.64,0.53,{"$f":"VLOOKUP(A:A,#REF!,2,FALSE)","v":{"$error":"#REF!"}},{"$f":"VLOOKUP(A:A,#REF!,3,FALSE)","v":{"$error":"#REF!"}},{"$error":"#REF!"},{"$error":"#REF!"}]
["CCE0827",0.64,0.53,{"$f":"VLOOKUP(A:A,#REF!,2,FALSE)","v":{"$error":"#REF!"}},{"$f":"VLOOKUP(A:A,#REF!,3,FALSE)","v":{"$error":"#REF!"}},{"$error":"#REF!"},{"$error":"#REF!"}]
["CCE0828",0.64,0.53,{"$f":"VLOOKUP(A:A,#REF!,2,FALSE)","v":{"$error":"#REF!"}},{"$f":"VLOOKUP(A:A,#REF!,3,FALSE)","v":{"$error":"#REF!"}},{"$error":"#REF!"},{"$error":"#REF!"}]
["CCE0860",1.1200000000000001,0.93,{"$f":"VLOOKUP(A:A,#REF!,2,FALSE)","v":{"$error":"#REF!"}},{"$f":"VLOOKUP(A:A,#REF!,3,FALSE)","v":{"$error":"#REF!"}},{"$error":"#REF!"},{"$error":"#REF!"}]
["CCE0861",1.1200000000000001,0.93,{"$f":"VLOOKUP(A:A,#REF!,2,FALSE)","v":{"$error":"#REF!"}},{"$f":"VLOOKUP(A:A,#REF!,3,FALSE)","v":{"$error":"#REF!"}},{"$error":"#REF!"},{"$error":"#REF!"}]
["CCE0862",1.1200000000000001,0.93,{"$f":"VLOOKUP(A:A,#REF!,2,FALSE)","v":{"$error":"#REF!"}},{"$f":"VLOOKUP(A:A,#REF!,3,FALSE)","v":{"$error":"#REF!"}},{"$error":"#REF!"},{"$error":"#REF!"}]
["CCE0863",1.1200000000000001,0.93,{"$f":"VLOOKUP(A:A,#REF!,2,FALSE)","v":{"$error":"#REF!"}},{"$f":"VLOOKUP(A:A,#REF!,3,FALSE)","v":{"$error":"#REF!"}},{"$error":"#REF!"},{"$error":"#REF!"}]
["CCE0864",1.1200000000000001,0.93,{"$f":"VLOOKUP(A:A,#REF!,2,FALSE)","v":{"$error":"#REF!"}},{"$f":"VLOOKUP(A:A,#REF!,3,FALSE)","v":{"$error":"#REF!"}},{"$error":"#REF!"},{"$error":"#REF!"}]
["CCE0865",1.1200000000000001,0.93,{"$f":"VLOOKUP(A:A,#REF!,2,FALSE)","v":{"$error":"#REF!"}},{"$f":"VLOOKUP(A:A,#REF!,3,FALSE)","v":{"$error":"#REF!"}},{"$error":"#REF!"},{"$error":"#REF!"}]
["CCE0867",1.1200000000000001,0.93,{"$f":"VLOOKUP(A:A,#REF!,2,FALSE)","v":{"$error":"#REF!"}},{"$f":"VLOOKUP(A:A,#REF!,3,FALSE)","v":{"$error":"#REF!"}},{"$error":"#REF!"},{"$error":"#REF!"}]
["CCJ1020",3,3,{"$f":"VLOOKUP(A:A,#REF!,2,FALSE)","v":{"$error":"#REF!"}},{"$f":"VLOOKUP(A:A,#REF!,3,FALSE)","v":{"$error":"#REF!"}},{"$error":"#REF!"},{"$error":"#REF!"}]
["CCJ2010",3,3,{"$f":"VLOOKUP(A:A,#REF!,2,FALSE)","v":{"$error":"#REF!"}},{"$f":"VLOOKUP(A:A,#REF!,3,FALSE)","v":{"$error":"#REF!"}},{"$error":"#REF!"},{"$error":"#REF!"}]
["CCJ2030",3,3,{"$f":"VLOOKUP(A:A,#REF!,2,FALSE)","v":{"$error":"#REF!"}},{"$f":"VLOOKUP(A:A,#REF!,3,FALSE)","v":{"$error":"#REF!"}},{"$error":"#REF!"},{"$error":"#REF!"}]
["CCJ2053",3,3,{"$f":"VLOOKUP(A:A,#REF!,2,FALSE)","v":{"$error":"#REF!"}},{"$f":"VLOOKUP(A:A,#REF!,3,FALSE)","v":{"$error":"#REF!"}},{"$error":"#REF!"},{"$error":"#REF!"}]
["CCJ2687",3,3,{"$f":"VLOOKUP(A:A,#REF!,2,FALSE)","v":{"$error":"#REF!"}},{"$f":"VLOOKUP(A:A,#REF!,3,FALSE)","v":{"$error":"#REF!"}},{"$error":"#REF!"},{"$error":"#REF!"}]
["CCJ2930",3,3,{"$f":"VLOOKUP(A:A,#REF!,2,FALSE)","v":{"$error":"#REF!"}},{"$f":"VLOOKUP(A:A,#REF!,3,FALSE)","v":{"$error":"#REF!"}},{"$error":"#REF!"},{"$error":"#REF!"}]
["CCJ4700",3,3,{"$f":"VLOOKUP(A:A,#REF!,2,FALSE)","v":{"$error":"#REF!"}},{"$f":"VLOOKUP(A:A,#REF!,3,FALSE)","v":{"$error":"#REF!"}},{"$error":"#REF!"},{"$error":"#REF!"}]
["CEN2071C",4,3.7,{"$f":"VLOOKUP(A:A,#REF!,2,FALSE)","v":{"$error":"#REF!"}},{"$f":"VLOOKUP(A:A,#REF!,3,FALSE)","v":{"$error":"#REF!"}},{"$error":"#REF!"},{"$error":"#REF!"}]
["CEN3024C",4,4,{"$f":"VLOOKUP(A:A,#REF!,2,FALSE)","v":{"$error":"#REF!"}},{"$f":"VLOOKUP(A:A,#REF!,3,FALSE)","v":{"$error":"#REF!"}},{"$error":"#REF!"},{"$error":"#REF!"}]
["CEN3083C",4,4,{"$f":"VLOOKUP(A:A,#REF!,2,FALSE)","v":{"$error":"#REF!"}},{"$f":"VLOOKUP(A:A,#REF!,3,FALSE)","v":{"$error":"#REF!"}},{"$error":"#REF!"},{"$error":"#REF!"}]
["CEN4025C",4,4,{"$f":"VLOOKUP(A:A,#REF!,2,FALSE)","v":{"$error":"#REF!"}},{"$f":"VLOOKUP(A:A,#REF!,3,FALSE)","v":{"$error":"#REF!"}},{"$error":"#REF!"},{"$error":"#REF!"}]
["CEN4802C",4,4,{"$f":"VLOOKUP(A:A,#REF!,2,FALSE)","v":{"$error":"#REF!"}},{"$f":"VLOOKUP(A:A,#REF!,3,FALSE)","v":{"$error":"#REF!"}},{"$error":"#REF!"},{"$error":"#REF!"}]
["CEN4940",4,4,{"$f":"VLOOKUP(A:A,#REF!,2,FALSE)","v":{"$error":"#REF!"}},{"$f":"VLOOKUP(A:A,#REF!,3,FALSE)","v":{"$error":"#REF!"}},{"$error":"#REF!"},{"$error":"#REF!"}]
["CET1114C",4,3.7,{"$f":"VLOOKUP(A:A,#REF!,2,FALSE)","v":{"$error":"#REF!"}},{"$f":"VLOOKUP(A:A,#REF!,3,FALSE)","v":{"$error":"#REF!"}},{"$error":"#REF!"},{"$error":"#REF!"}]
["CET2588",2,2,{"$f":"VLOOKUP(A:A,#REF!,2,FALSE)","v":{"$error":"#REF!"}},{"$f":"VLOOKUP(A:A,#REF!,3,FALSE)","v":{"$error":"#REF!"}},{"$error":"#REF!"},{"$error":"#REF!"}]
["CET2600C",4,4,{"$f":"VLOOKUP(A:A,#REF!,2,FALSE)","v":{"$error":"#REF!"}},{"$f":"VLOOKUP(A:A,#REF!,3,FALSE)","v":{"$error":"#REF!"}},{"$error":"#REF!"},{"$error":"#REF!"}]
["CET2629",4,3.5,{"$f":"VLOOKUP(A:A,#REF!,2,FALSE)","v":{"$error":"#REF!"}},{"$f":"VLOOKUP(A:A,#REF!,3,FALSE)","v":{"$error":"#REF!"}},{"$error":"#REF!"},{"$error":"#REF!"}]
["CET2662",4,3.5,{"$f":"VLOOKUP(A:A,#REF!,2,FALSE)","v":{"$error":"#REF!"}},{"$f":"VLOOKUP(A:A,#REF!,3,FALSE)","v":{"$error":"#REF!"}},{"$error":"#REF!"},{"$error":"#REF!"}]
["CET2752",4,3.5,{"$f":"VLOOKUP(A:A,#REF!,2,FALSE)","v":{"$error":"#REF!"}},{"$f":"VLOOKUP(A:A,#REF!,3,FALSE)","v":{"$error":"#REF!"}},{"$error":"#REF!"},{"$error":"#REF!"}]
["CGS1060C",4,3.7,{"$f":"VLOOKUP(A:A,#REF!,2,FALSE)","v":{"$error":"#REF!"}},{"$f":"VLOOKUP(A:A,#REF!,3,FALSE)","v":{"$error":"#REF!"}},{"$error":"#REF!"},{"$error":"#REF!"}]
["CGS1100C",4,3.7,{"$f":"VLOOKUP(A:A,#REF!,2,FALSE)","v":{"$error":"#REF!"}},{"$f":"VLOOKUP(A:A,#REF!,3,FALSE)","v":{"$error":"#REF!"}},{"$error":"#REF!"},{"$error":"#REF!"}]
["CGS2470",5,4.7,{"$f":"VLOOKUP(A:A,#REF!,2,FALSE)","v":{"$error":"#REF!"}},{"$f":"VLOOKUP(A:A,#REF!,3,FALSE)","v":{"$error":"#REF!"}},{"$error":"#REF!"},{"$error":"#REF!"}]
["CGS2512C",4,3.7,{"$f":"VLOOKUP(A:A,#REF!,2,FALSE)","v":{"$error":"#REF!"}},{"$f":"VLOOKUP(A:A,#REF!,3,FALSE)","v":{"$error":"#REF!"}},{"$error":"#REF!"},{"$error":"#REF!"}]
["CGS2542",4,3.7,{"$f":"VLOOKUP(A:A,#REF!,2,FALSE)","v":{"$error":"#REF!"}},{"$f":"VLOOKUP(A:A,#REF!,3,FALSE)","v":{"$error":"#REF!"}},{"$error":"#REF!"},{"$error":"#REF!"}]
["CGS2554",4,4,{"$f":"VLOOKUP(A:A,#REF!,2,FALSE)","v":{"$error":"#REF!"}},{"$f":"VLOOKUP(A:A,#REF!,3,FALSE)","v":{"$error":"#REF!"}},{"$error":"#REF!"},{"$error":"#REF!"}]
["CGS2555",4,4,{"$f":"VLOOKUP(A:A,#REF!,2,FALSE)","v":{"$error":"#REF!"}},{"$f":"VLOOKUP(A:A,#REF!,3,FALSE)","v":{"$error":"#REF!"}},{"$f":"B836-D836","v":{"$error":"#REF!"}},{"$f":"C836-E836","v":{"$error":"#REF!"}}]
["CGS2820",4,4,{"$f":"VLOOKUP(A:A,#REF!,2,FALSE)","v":{"$error":"#REF!"}},{"$f":"VLOOKUP(A:A,#REF!,3,FALSE)","v":{"$error":"#REF!"}},{"$error":"#REF!"},{"$error":"#REF!"}]
["CGS2821",4,4,{"$f":"VLOOKUP(A:A,#REF!,2,FALSE)","v":{"$error":"#REF!"}},{"$f":"VLOOKUP(A:A,#REF!,3,FALSE)","v":{"$error":"#REF!"}},{"$error":"#REF!"},{"$error":"#REF!"}]
["CHD1110",3,3,{"$f":"VLOOKUP(A:A,#REF!,2,FALSE)","v":{"$error":"#REF!"}},{"$f":"VLOOKUP(A:A,#REF!,3,FALSE)","v":{"$error":"#REF!"}},{"$error":"#REF!"},{"$error":"#REF!"}]
["CHD1220",3,3,{"$f":"VLOOKUP(A:A,#REF!,2,FALSE)","v":{"$error":"#REF!"}},{"$f":"VLOOKUP(A:A,#REF!,3,FALSE)","v":{"$error":"#REF!"}},{"$error":"#REF!"},{"$error":"#REF!"}]
["CHD1230",3,3,{"$f":"VLOOKUP(A:A,#REF!,2,FALSE)","v":{"$error":"#REF!"}},{"$f":"VLOOKUP(A:A,#REF!,3,FALSE)","v":{"$error":"#REF!"}},{"$error":"#REF!"},{"$error":"#REF!"}]
["CHD2120",3,3,{"$f":"VLOOKUP(A:A,#REF!,2,FALSE)","v":{"$error":"#REF!"}},{"$f":"VLOOKUP(A:A,#REF!,3,FALSE)","v":{"$error":"#REF!"}},{"$error":"#REF!"},{"$error":"#REF!"}]
["CHD2330",3,3,{"$f":"VLOOKUP(A:A,#REF!,2,FALSE)","v":{"$error":"#REF!"}},{"$f":"VLOOKUP(A:A,#REF!,3,FALSE)","v":{"$error":"#REF!"}},{"$error":"#REF!"},{"$error":"#REF!"}]
["CHI1120",4,4,{"$f":"VLOOKUP(A:A,#REF!,2,FALSE)","v":{"$error":"#REF!"}},{"$f":"VLOOKUP(A:A,#REF!,3,FALSE)","v":{"$error":"#REF!"}},{"$error":"#REF!"},{"$error":"#REF!"}]
["CHI1121",4,4,{"$f":"VLOOKUP(A:A,#REF!,2,FALSE)","v":{"$error":"#REF!"}},{"$f":"VLOOKUP(A:A,#REF!,3,FALSE)","v":{"$error":"#REF!"}},{"$error":"#REF!"},{"$error":"#REF!"}]
["CHI2200",3,3,{"$f":"VLOOKUP(A:A,#REF!,2,FALSE)","v":{"$error":"#REF!"}},{"$f":"VLOOKUP(A:A,#REF!,3,FALSE)","v":{"$error":"#REF!"}},{"$error":"#REF!"},{"$error":"#REF!"}]
["CHI2201",3,3,{"$f":"VLOOKUP(A:A,#REF!,2,FALSE)","v":{"$error":"#REF!"}},{"$f":"VLOOKUP(A:A,#REF!,3,FALSE)","v":{"$error":"#REF!"}},{"$error":"#REF!"},{"$error":"#REF!"}]
["CHM1020",3,3,{"$f":"VLOOKUP(A:A,#REF!,2,FALSE)","v":{"$error":"#REF!"}},{"$f":"VLOOKUP(A:A,#REF!,3,FALSE)","v":{"$error":"#REF!"}},{"$error":"#REF!"},{"$error":"#REF!"}]
["CHM1025C",6,6,{"$f":"VLOOKUP(A:A,#REF!,2,FALSE)","v":{"$error":"#REF!"}},{"$f":"VLOOKUP(A:A,#REF!,3,FALSE)","v":{"$error":"#REF!"}},{"$error":"#REF!"},{"$error":"#REF!"}]
["CHM1032C",6,6,{"$f":"VLOOKUP(A:A,#REF!,2,FALSE)","v":{"$error":"#REF!"}},{"$f":"VLOOKUP(A:A,#REF!,3,FALSE)","v":{"$error":"#REF!"}},{"$error":"#REF!"},{"$error":"#REF!"}]
["CHM2045C",6,6,{"$f":"VLOOKUP(A:A,#REF!,2,FALSE)","v":{"$error":"#REF!"}},{"$f":"VLOOKUP(A:A,#REF!,3,FALSE)","v":{"$error":"#REF!"}},{"$error":"#REF!"},{"$error":"#REF!"}]
["CHM2046C",6,6,{"$f":"VLOOKUP(A:A,#REF!,2,FALSE)","v":{"$error":"#REF!"}},{"$f":"VLOOKUP(A:A,#REF!,3,FALSE)","v":{"$error":"#REF!"}},{"$error":"#REF!"},{"$error":"#REF!"}]
["CHM2205C",6,6,{"$f":"VLOOKUP(A:A,#REF!,2,FALSE)","v":{"$error":"#REF!"}},{"$f":"VLOOKUP(A:A,#REF!,3,FALSE)","v":{"$error":"#REF!"}},{"$error":"#REF!"},{"$error":"#REF!"}]
["CHM2210C",6,6,{"$f":"VLOOKUP(A:A,#REF!,2,FALSE)","v":{"$error":"#REF!"}},{"$f":"VLOOKUP(A:A,#REF!,3,FALSE)","v":{"$error":"#REF!"}},{"$error":"#REF!"},{"$error":"#REF!"}]
["CHM2211C",6,6,{"$f":"VLOOKUP(A:A,#REF!,2,FALSE)","v":{"$error":"#REF!"}},{"$f":"VLOOKUP(A:A,#REF!,3,FALSE)","v":{"$error":"#REF!"}},{"$error":"#REF!"},{"$error":"#REF!"}]
["CHM2930",3,3,{"$f":"VLOOKUP(A:A,#REF!,2,FALSE)","v":{"$error":"#REF!"}},{"$f":"VLOOKUP(A:A,#REF!,3,FALSE)","v":{"$error":"#REF!"}},{"$error":"#REF!"},{"$error":"#REF!"}]
["CHM3120C",7,5.8,{"$f":"VLOOKUP(A:A,#REF!,2,FALSE)","v":{"$error":"#REF!"}},{"$f":"VLOOKUP(A:A,#REF!,3,FALSE)","v":{"$error":"#REF!"}},{"$error":"#REF!"},{"$error":"#REF!"}]
["CHM3130C",7,5.8,{"$f":"VLOOKUP(A:A,#REF!,2,FALSE)","v":{"$error":"#REF!"}},{"$f":"VLOOKUP(A:A,#REF!,3,FALSE)","v":{"$error":"#REF!"}},{"$error":"#REF!"},{"$error":"#REF!"}]
["CHM4253",3,3,{"$f":"VLOOKUP(A:A,#REF!,2,FALSE)","v":{"$error":"#REF!"}},{"$f":"VLOOKUP(A:A,#REF!,3,FALSE)","v":{"$error":"#REF!"}},{"$error":"#REF!"},{"$error":"#REF!"}]
["CHM4410",3,3,{"$f":"VLOOKUP(A:A,#REF!,2,FALSE)","v":{"$error":"#REF!"}},{"$f":"VLOOKUP(A:A,#REF!,3,FALSE)","v":{"$error":"#REF!"}},{"$error":"#REF!"},{"$error":"#REF!"}]
["CHM4411",3,3,{"$f":"VLOOKUP(A:A,#REF!,2,FALSE)","v":{"$error":"#REF!"}},{"$f":"VLOOKUP(A:A,#REF!,3,FALSE)","v":{"$error":"#REF!"}},{"$error":"#REF!"},{"$error":"#REF!"}]
["CIS1942",0.01,0.01,{"$f":"VLOOKUP(A:A,#REF!,2,FALSE)","v":{"$error":"#REF!"}},{"$f":"VLOOKUP(A:A,#REF!,3,FALSE)","v":{"$error":"#REF!"}},{"$error":"#REF!"},{"$error":"#REF!"}]
["CIS1943",0.01,0.01,{"$f":"VLOOKUP(A:A,#REF!,2,FALSE)","v":{"$error":"#REF!"}},{"$f":"VLOOKUP(A:A,#REF!,3,FALSE)","v":{"$error":"#REF!"}},{"$error":"#REF!"},{"$error":"#REF!"}]
["CIS2321",4,3.7,{"$f":"VLOOKUP(A:A,#REF!,2,FALSE)","v":{"$error":"#REF!"}},{"$f":"VLOOKUP(A:A,#REF!,3,FALSE)","v":{"$error":"#REF!"}},{"$error":"#REF!"},{"$error":"#REF!"}]
["CIS2349C",4,3.7,{"$f":"VLOOKUP(A:A,#REF!,2,FALSE)","v":{"$error":"#REF!"}},{"$f":"VLOOKUP(A:A,#REF!,3,FALSE)","v":{"$error":"#REF!"}},{"$error":"#REF!"},{"$error":"#REF!"}]
["CIS2930",4,3.7,{"$f":"VLOOKUP(A:A,#REF!,2,FALSE)","v":{"$error":"#REF!"}},{"$f":"VLOOKUP(A:A,#REF!,3,FALSE)","v":{"$error":"#REF!"}},{"$error":"#REF!"},{"$error":"#REF!"}]
["CIS3534C",4,4,{"$f":"VLOOKUP(A:A,#REF!,2,FALSE)","v":{"$error":"#REF!"}},{"$f":"VLOOKUP(A:A,#REF!,3,FALSE)","v":{"$error":"#REF!"}},{"$error":"#REF!"},{"$error":"#REF!"}]
["CJC2000",3,3,{"$f":"VLOOKUP(A:A,#REF!,2,FALSE)","v":{"$error":"#REF!"}},{"$f":"VLOOKUP(A:A,#REF!,3,FALSE)","v":{"$error":"#REF!"}},{"$error":"#REF!"},{"$error":"#REF!"}]
["CJC2162",3,3,{"$f":"VLOOKUP(A:A,#REF!,2,FALSE)","v":{"$error":"#REF!"}},{"$f":"VLOOKUP(A:A,#REF!,3,FALSE)","v":{"$error":"#REF!"}},{"$error":"#REF!"},{"$error":"#REF!"}]
["CJC3163",3,3,{"$f":"VLOOKUP(A:A,#REF!,2,FALSE)","v":{"$error":"#REF!"}},{"$f":"VLOOKUP(A:A,#REF!,3,FALSE)","v":{"$error":"#REF!"}},{"$error":"#REF!"},{"$error":"#REF!"}]
["CJC3311",3,3,{"$f":"VLOOKUP(A:A,#REF!,2,FALSE)","v":{"$error":"#REF!"}},{"$f":"VLOOKUP(A:A,#REF!,3,FALSE)","v":{"$error":"#REF!"}},{"$error":"#REF!"},{"$error":"#REF!"}]
["CJE1651",3,3,{"$f":"VLOOKUP(A:A,#REF!,2,FALSE)","v":{"$error":"#REF!"}},{"$f":"VLOOKUP(A:A,#REF!,3,FALSE)","v":{"$error":"#REF!"}},{"$error":"#REF!"},{"$error":"#REF!"}]
["CJE1680",3,3,{"$f":"VLOOKUP(A:A,#REF!,2,FALSE)","v":{"$error":"#REF!"}},{"$f":"VLOOKUP(A:A,#REF!,3,FALSE)","v":{"$error":"#REF!"}},{"$error":"#REF!"},{"$error":"#REF!"}]
["CJE1685",3,3,{"$f":"VLOOKUP(A:A,#REF!,2,FALSE)","v":{"$error":"#REF!"}},{"$f":"VLOOKUP(A:A,#REF!,3,FALSE)","v":{"$error":"#REF!"}},{"$error":"#REF!"},{"$error":"#REF!"}]
["CJE1686",3,3,{"$f":"VLOOKUP(A:A,#REF!,2,FALSE)","v":{"$error":"#REF!"}},{"$f":"VLOOKUP(A:A,#REF!,3,FALSE)","v":{"$error":"#REF!"}},{"$error":"#REF!"},{"$error":"#REF!"}]
["CJE2000",3,3,{"$f":"VLOOKUP(A:A,#REF!,2,FALSE)","v":{"$error":"#REF!"}},{"$f":"VLOOKUP(A:A,#REF!,3,FALSE)","v":{"$error":"#REF!"}},{"$error":"#REF!"},{"$error":"#REF!"}]
["CJE2300",3,3,{"$f":"VLOOKUP(A:A,#REF!,2,FALSE)","v":{"$error":"#REF!"}},{"$f":"VLOOKUP(A:A,#REF!,3,FALSE)","v":{"$error":"#REF!"}},{"$error":"#REF!"},{"$error":"#REF!"}]
["CJE2600",3,3,{"$f":"VLOOKUP(A:A,#REF!,2,FALSE)","v":{"$error":"#REF!"}},{"$f":"VLOOKUP(A:A,#REF!,3,FALSE)","v":{"$error":"#REF!"}},{"$error":"#REF!"},{"$error":"#REF!"}]
["CJE2603",3,3,{"$f":"VLOOKUP(A:A,#REF!,2,FALSE)","v":{"$error":"#REF!"}},{"$f":"VLOOKUP(A:A,#REF!,3,FALSE)","v":{"$error":"#REF!"}},{"$error":"#REF!"},{"$error":"#REF!"}]
["CJE2901",1,1,{"$f":"VLOOKUP(A:A,#REF!,2,FALSE)","v":{"$error":"#REF!"}},{"$f":"VLOOKUP(A:A,#REF!,3,FALSE)","v":{"$error":"#REF!"}},{"$error":"#REF!"},{"$error":"#REF!"}]
["CJE3341",3,3,{"$f":"VLOOKUP(A:A,#REF!,2,FALSE)","v":{"$error":"#REF!"}},{"$f":"VLOOKUP(A:A,#REF!,3,FALSE)","v":{"$error":"#REF!"}},{"$error":"#REF!"},{"$error":"#REF!"}]
["CJE3361",3,3,{"$f":"VLOOKUP(A:A,#REF!,2,FALSE)","v":{"$error":"#REF!"}},{"$f":"VLOOKUP(A:A,#REF!,3,FALSE)","v":{"$error":"#REF!"}},{"$error":"#REF!"},{"$error":"#REF!"}]
["CJJ2002",3,3,{"$f":"VLOOKUP(A:A,#REF!,2,FALSE)","v":{"$error":"#REF!"}},{"$f":"VLOOKUP(A:A,#REF!,3,FALSE)","v":{"$error":"#REF!"}},{"$error":"#REF!"},{"$error":"#REF!"}]
["CJK0002",0.48,0.4,{"$f":"VLOOKUP(A:A,#REF!,2,FALSE)","v":{"$error":"#REF!"}},{"$f":"VLOOKUP(A:A,#REF!,3,FALSE)","v":{"$error":"#REF!"}},{"$error":"#REF!"},{"$error":"#REF!"}]
["CJK0016",0.96,0.8,{"$f":"VLOOKUP(A:A,#REF!,2,FALSE)","v":{"$error":"#REF!"}},{"$f":"VLOOKUP(A:A,#REF!,3,FALSE)","v":{"$error":"#REF!"}},{"$error":"#REF!"},{"$error":"#REF!"}]
["CJK0018",2.56,2.13,{"$f":"VLOOKUP(A:A,#REF!,2,FALSE)","v":{"$error":"#REF!"}},{"$f":"VLOOKUP(A:A,#REF!,3,FALSE)","v":{"$error":"#REF!"}},{"$error":"#REF!"},{"$error":"#REF!"}]
["CJK0019",2.2400000000000002,1.86,{"$f":"VLOOKUP(A:A,#REF!,2,FALSE)","v":{"$error":"#REF!"}},{"$f":"VLOOKUP(A:A,#REF!,3,FALSE)","v":{"$error":"#REF!"}},{"$error":"#REF!"},{"$error":"#REF!"}]
["CJK0020",1.92,1.6,{"$f":"VLOOKUP(A:A,#REF!,2,FALSE)","v":{"$error":"#REF!"}},{"$f":"VLOOKUP(A:A,#REF!,3,FALSE)","v":{"$error":"#REF!"}},{"$error":"#REF!"},{"$error":"#REF!"}]
["CJK0021",1.36,1.1299999999999999,{"$f":"VLOOKUP(A:A,#REF!,2,FALSE)","v":{"$error":"#REF!"}},{"$f":"VLOOKUP(A:A,#REF!,3,FALSE)","v":{"$error":"#REF!"}},{"$error":"#REF!"},{"$error":"#REF!"}]
["CJK0031",1.6,1.33,{"$f":"VLOOKUP(A:A,#REF!,2,FALSE)","v":{"$error":"#REF!"}},{"$f":"VLOOKUP(A:A,#REF!,3,FALSE)","v":{"$error":"#REF!"}},{"$error":"#REF!"},{"$error":"#REF!"}]
["CJK0040",3.2,2.66,{"$f":"VLOOKUP(A:A,#REF!,2,FALSE)","v":{"$error":"#REF!"}},{"$f":"VLOOKUP(A:A,#REF!,3,FALSE)","v":{"$error":"#REF!"}},{"$error":"#REF!"},{"$error":"#REF!"}]
["CJK0051",3.2,2.66,{"$f":"VLOOKUP(A:A,#REF!,2,FALSE)","v":{"$error":"#REF!"}},{"$f":"VLOOKUP(A:A,#REF!,3,FALSE)","v":{"$error":"#REF!"}},{"$error":"#REF!"},{"$error":"#REF!"}]
["CJK0063",1.6,1.33,{"$f":"VLOOKUP(A:A,#REF!,2,FALSE)","v":{"$error":"#REF!"}},{"$f":"VLOOKUP(A:A,#REF!,3,FALSE)","v":{"$error":"#REF!"}},{"$error":"#REF!"},{"$error":"#REF!"}]
["CJK0072",1.92,1.6,{"$f":"VLOOKUP(A:A,#REF!,2,FALSE)","v":{"$error":"#REF!"}},{"$f":"VLOOKUP(A:A,#REF!,3,FALSE)","v":{"$error":"#REF!"}},{"$error":"#REF!"},{"$error":"#REF!"}]
["CJK0073",0.48,0.4,{"$f":"VLOOKUP(A:A,#REF!,2,FALSE)","v":{"$error":"#REF!"}},{"$f":"VLOOKUP(A:A,#REF!,3,FALSE)","v":{"$error":"#REF!"}},{"$error":"#REF!"},{"$error":"#REF!"}]
["CJK0079",1.36,1.1299999999999999,{"$f":"VLOOKUP(A:A,#REF!,2,FALSE)","v":{"$error":"#REF!"}},{"$f":"VLOOKUP(A:A,#REF!,3,FALSE)","v":{"$error":"#REF!"}},{"$error":"#REF!"},{"$error":"#REF!"}]
["CJK0093",1.76,1.46,{"$f":"VLOOKUP(A:A,#REF!,2,FALSE)","v":{"$error":"#REF!"}},{"$f":"VLOOKUP(A:A,#REF!,3,FALSE)","v":{"$error":"#REF!"}},{"$error":"#REF!"},{"$error":"#REF!"}]
["CJK0096",2.4,2,{"$f":"VLOOKUP(A:A,#REF!,2,FALSE)","v":{"$error":"#REF!"}},{"$f":"VLOOKUP(A:A,#REF!,3,FALSE)","v":{"$error":"#REF!"}},{"$error":"#REF!"},{"$error":"#REF!"}]
["CJK0300",1.28,1.06,{"$f":"VLOOKUP(A:A,#REF!,2,FALSE)","v":{"$error":"#REF!"}},{"$f":"VLOOKUP(A:A,#REF!,3,FALSE)","v":{"$error":"#REF!"}},{"$error":"#REF!"},{"$error":"#REF!"}]
["CJK0305",1.6,1.33,{"$f":"VLOOKUP(A:A,#REF!,2,FALSE)","v":{"$error":"#REF!"}},{"$f":"VLOOKUP(A:A,#REF!,3,FALSE)","v":{"$error":"#REF!"}},{"$f":"B900-D900","v":{"$error":"#REF!"}},{"$f":"C900-E900","v":{"$error":"#REF!"}}]
["CJK0310",0.64,0.53,{"$f":"VLOOKUP(A:A,#REF!,2,FALSE)","v":{"$error":"#REF!"}},{"$f":"VLOOKUP(A:A,#REF!,3,FALSE)","v":{"$error":"#REF!"}},{"$error":"#REF!"},{"$error":"#REF!"}]
["CJK0315",0.32,0.26,{"$f":"VLOOKUP(A:A,#REF!,2,FALSE)","v":{"$error":"#REF!"}},{"$f":"VLOOKUP(A:A,#REF!,3,FALSE)","v":{"$error":"#REF!"}},{"$error":"#REF!"},{"$error":"#REF!"}]
["CJK0320",0.72,0.6,{"$f":"VLOOKUP(A:A,#REF!,2,FALSE)","v":{"$error":"#REF!"}},{"$f":"VLOOKUP(A:A,#REF!,3,FALSE)","v":{"$error":"#REF!"}},{"$error":"#REF!"},{"$error":"#REF!"}]
["CJK0325",1.6,1.33,{"$f":"VLOOKUP(A:A,#REF!,2,FALSE)","v":{"$error":"#REF!"}},{"$f":"VLOOKUP(A:A,#REF!,3,FALSE)","v":{"$error":"#REF!"}},{"$error":"#REF!"},{"$error":"#REF!"}]
["CJK0330",0.8,0.66,{"$f":"VLOOKUP(A:A,#REF!,2,FALSE)","v":{"$error":"#REF!"}},{"$f":"VLOOKUP(A:A,#REF!,3,FALSE)","v":{"$error":"#REF!"}},{"$error":"#REF!"},{"$error":"#REF!"}]
["CJK0335",0.64,0.53,{"$f":"VLOOKUP(A:A,#REF!,2,FALSE)","v":{"$error":"#REF!"}},{"$f":"VLOOKUP(A:A,#REF!,3,FALSE)","v":{"$error":"#REF!"}},{"$error":"#REF!"},{"$error":"#REF!"}]
["CJK0340",1.2,1,{"$f":"VLOOKUP(A:A,#REF!,2,FALSE)","v":{"$error":"#REF!"}},{"$f":"VLOOKUP(A:A,#REF!,3,FALSE)","v":{"$error":"#REF!"}},{"$error":"#REF!"},{"$error":"#REF!"}]
["CJK0393",0.32,0.26,{"$f":"VLOOKUP(A:A,#REF!,2,FALSE)","v":{"$error":"#REF!"}},{"$f":"VLOOKUP(A:A,#REF!,3,FALSE)","v":{"$error":"#REF!"}},{"$error":"#REF!"},{"$error":"#REF!"}]
["CJK0400",0.48,0.4,{"$f":"VLOOKUP(A:A,#REF!,2,FALSE)","v":{"$error":"#REF!"}},{"$f":"VLOOKUP(A:A,#REF!,3,FALSE)","v":{"$error":"#REF!"}},{"$error":"#REF!"},{"$error":"#REF!"}]
["CJK0401",0.96,0.8,{"$f":"VLOOKUP(A:A,#REF!,2,FALSE)","v":{"$error":"#REF!"}},{"$f":"VLOOKUP(A:A,#REF!,3,FALSE)","v":{"$error":"#REF!"}},{"$error":"#REF!"},{"$error":"#REF!"}]
["CJK0402",1.2,1,{"$f":"VLOOKUP(A:A,#REF!,2,FALSE)","v":{"$error":"#REF!"}},{"$f":"VLOOKUP(A:A,#REF!,3,FALSE)","v":{"$error":"#REF!"}},{"$error":"#REF!"},{"$error":"#REF!"}]
["CJK0403",0.96,0.8,{"$f":"VLOOKUP(A:A,#REF!,2,FALSE)","v":{"$error":"#REF!"}},{"$f":"VLOOKUP(A:A,#REF!,3,FALSE)","v":{"$error":"#REF!"}},{"$error":"#REF!"},{"$error":"#REF!"}]
["CJK0421",0.26,0.13,{"$f":"VLOOKUP(A:A,#REF!,2,FALSE)","v":{"$error":"#REF!"}},{"$f":"VLOOKUP(A:A,#REF!,3,FALSE)","v":{"$error":"#REF!"}},{"$error":"#REF!"},{"$error":"#REF!"}]
["CJL1500",3,3,{"$f":"VLOOKUP(A:A,#REF!,2,FALSE)","v":{"$error":"#REF!"}},{"$f":"VLOOKUP(A:A,#REF!,3,FALSE)","v":{"$error":"#REF!"}},{"$error":"#REF!"},{"$error":"#REF!"}]
["CJL2062",3,3,{"$f":"VLOOKUP(A:A,#REF!,2,FALSE)","v":{"$error":"#REF!"}},{"$f":"VLOOKUP(A:A,#REF!,3,FALSE)","v":{"$error":"#REF!"}},{"$error":"#REF!"},{"$error":"#REF!"}]
["CJL2130",3,3,{"$f":"VLOOKUP(A:A,#REF!,2,FALSE)","v":{"$error":"#REF!"}},{"$f":"VLOOKUP(A:A,#REF!,3,FALSE)","v":{"$error":"#REF!"}},{"$error":"#REF!"},{"$error":"#REF!"}]
["CJL2400",3,3,{"$f":"VLOOKUP(A:A,#REF!,2,FALSE)","v":{"$error":"#REF!"}},{"$f":"VLOOKUP(A:A,#REF!,3,FALSE)","v":{"$error":"#REF!"}},{"$error":"#REF!"},{"$error":"#REF!"}]
["CLP1001",3,3,{"$f":"VLOOKUP(A:A,#REF!,2,FALSE)","v":{"$error":"#REF!"}},{"$f":"VLOOKUP(A:A,#REF!,3,FALSE)","v":{"$error":"#REF!"}},{"$error":"#REF!"},{"$error":"#REF!"}]
["CNT1015",4,3.7,{"$f":"VLOOKUP(A:A,#REF!,2,FALSE)","v":{"$error":"#REF!"}},{"$f":"VLOOKUP(A:A,#REF!,3,FALSE)","v":{"$error":"#REF!"}},{"$error":"#REF!"},{"$error":"#REF!"}]
["CNT2001C",4,3.7,{"$f":"VLOOKUP(A:A,#REF!,2,FALSE)","v":{"$error":"#REF!"}},{"$f":"VLOOKUP(A:A,#REF!,3,FALSE)","v":{"$error":"#REF!"}},{"$error":"#REF!"},{"$error":"#REF!"}]
["CNT2102C",4,4,{"$f":"VLOOKUP(A:A,#REF!,2,FALSE)","v":{"$error":"#REF!"}},{"$f":"VLOOKUP(A:A,#REF!,3,FALSE)","v":{"$error":"#REF!"}},{"$error":"#REF!"},{"$error":"#REF!"}]
["CNT2210",4,4,{"$f":"VLOOKUP(A:A,#REF!,2,FALSE)","v":{"$error":"#REF!"}},{"$f":"VLOOKUP(A:A,#REF!,3,FALSE)","v":{"$error":"#REF!"}},{"$error":"#REF!"},{"$error":"#REF!"}]
["CNT2404",4,4,{"$f":"VLOOKUP(A:A,#REF!,2,FALSE)","v":{"$error":"#REF!"}},{"$f":"VLOOKUP(A:A,#REF!,3,FALSE)","v":{"$error":"#REF!"}},{"$error":"#REF!"},{"$error":"#REF!"}]
["CNT2930",4,3.67,{"$f":"VLOOKUP(A:A,#REF!,2,FALSE)","v":{"$error":"#REF!"}},{"$f":"VLOOKUP(A:A,#REF!,3,FALSE)","v":{"$error":"#REF!"}},{"$error":"#REF!"},{"$error":"#REF!"}]
["CNT2941",0.01,0.01,{"$f":"VLOOKUP(A:A,#REF!,2,FALSE)","v":{"$error":"#REF!"}},{"$f":"VLOOKUP(A:A,#REF!,3,FALSE)","v":{"$error":"#REF!"}},{"$error":"#REF!"},{"$error":"#REF!"}]
["CNT2942",0.01,0.01,{"$f":"VLOOKUP(A:A,#REF!,2,FALSE)","v":{"$error":"#REF!"}},{"$f":"VLOOKUP(A:A,#REF!,3,FALSE)","v":{"$error":"#REF!"}},{"$error":"#REF!"},{"$error":"#REF!"}]
["CNT2943",0.01,0.01,{"$f":"VLOOKUP(A:A,#REF!,2,FALSE)","v":{"$error":"#REF!"}},{"$f":"VLOOKUP(A:A,#REF!,3,FALSE)","v":{"$error":"#REF!"}},{"$error":"#REF!"},{"$error":"#REF!"}]
["CNT3014C",4,4,{"$f":"VLOOKUP(A:A,#REF!,2,FALSE)","v":{"$error":"#REF!"}},{"$f":"VLOOKUP(A:A,#REF!,3,FALSE)","v":{"$error":"#REF!"}},{"$error":"#REF!"},{"$error":"#REF!"}]
["CNT3105C",4,4,{"$f":"VLOOKUP(A:A,#REF!,2,FALSE)","v":{"$error":"#REF!"}},{"$f":"VLOOKUP(A:A,#REF!,3,FALSE)","v":{"$error":"#REF!"}},{"$error":"#REF!"},{"$error":"#REF!"}]
["CNT3403C",4,4,{"$f":"VLOOKUP(A:A,#REF!,2,FALSE)","v":{"$error":"#REF!"}},{"$f":"VLOOKUP(A:A,#REF!,3,FALSE)","v":{"$error":"#REF!"}},{"$error":"#REF!"},{"$error":"#REF!"}]
["CNT4509C",4,4,{"$f":"VLOOKUP(A:A,#REF!,2,FALSE)","v":{"$error":"#REF!"}},{"$f":"VLOOKUP(A:A,#REF!,3,FALSE)","v":{"$error":"#REF!"}},{"$error":"#REF!"},{"$error":"#REF!"}]
["CNT4704",4,4,{"$f":"VLOOKUP(A:A,#REF!,2,FALSE)","v":{"$error":"#REF!"}},{"$f":"VLOOKUP(A:A,#REF!,3,FALSE)","v":{"$error":"#REF!"}},{"$error":"#REF!"},{"$error":"#REF!"}]
["CNT4708C",4,4,{"$f":"VLOOKUP(A:A,#REF!,2,FALSE)","v":{"$error":"#REF!"}},{"$f":"VLOOKUP(A:A,#REF!,3,FALSE)","v":{"$error":"#REF!"}},{"$error":"#REF!"},{"$error":"#REF!"}]
["CNT4931C",4,4,{"$f":"VLOOKUP(A:A,#REF!,2,FALSE)","v":{"$error":"#REF!"}},{"$f":"VLOOKUP(A:A,#REF!,3,FALSE)","v":{"$error":"#REF!"}},{"$error":"#REF!"},{"$error":"#REF!"}]
["CNT4940",0.01,0.01,{"$f":"VLOOKUP(A:A,#REF!,2,FALSE)","v":{"$error":"#REF!"}},{"$f":"VLOOKUP(A:A,#REF!,3,FALSE)","v":{"$error":"#REF!"}},{"$error":"#REF!"},{"$error":"#REF!"}]
["COM3332",3,3,{"$f":"VLOOKUP(A:A,#REF!,2,FALSE)","v":{"$error":"#REF!"}},{"$f":"VLOOKUP(A:A,#REF!,3,FALSE)","v":{"$error":"#REF!"}},{"$error":"#REF!"},{"$error":"#REF!"}]
["COM4603",3,3,{"$f":"VLOOKUP(A:A,#REF!,2,FALSE)","v":{"$error":"#REF!"}},{"$f":"VLOOKUP(A:A,#REF!,3,FALSE)","v":{"$error":"#REF!"}},{"$error":"#REF!"},{"$error":"#REF!"}]
["COM4945",0.01,0.01,{"$f":"VLOOKUP(A:A,#REF!,2,FALSE)","v":{"$error":"#REF!"}},{"$f":"VLOOKUP(A:A,#REF!,3,FALSE)","v":{"$error":"#REF!"}},{"$error":"#REF!"},{"$error":"#REF!"}]
["COM4946",0.01,0.01,{"$f":"VLOOKUP(A:A,#REF!,2,FALSE)","v":{"$error":"#REF!"}},{"$f":"VLOOKUP(A:A,#REF!,3,FALSE)","v":{"$error":"#REF!"}},{"$error":"#REF!"},{"$error":"#REF!"}]
["COP1000C",4,3.7,{"$f":"VLOOKUP(A:A,#REF!,2,FALSE)","v":{"$error":"#REF!"}},{"$f":"VLOOKUP(A:A,#REF!,3,FALSE)","v":{"$error":"#REF!"}},{"$error":"#REF!"},{"$error":"#REF!"}]
["COP2034C",4,4,{"$f":"VLOOKUP(A:A,#REF!,2,FALSE)","v":{"$error":"#REF!"}},{"$f":"VLOOKUP(A:A,#REF!,3,FALSE)","v":{"$error":"#REF!"}},{"$error":"#REF!"},{"$error":"#REF!"}]
["COP2073C",4,3.7,{"$f":"VLOOKUP(A:A,#REF!,2,FALSE)","v":{"$error":"#REF!"}},{"$f":"VLOOKUP(A:A,#REF!,3,FALSE)","v":{"$error":"#REF!"}},{"$error":"#REF!"},{"$error":"#REF!"}]
["COP2220C",4,3.7,{"$f":"VLOOKUP(A:A,#REF!,2,FALSE)","v":{"$error":"#REF!"}},{"$f":"VLOOKUP(A:A,#REF!,3,FALSE)","v":{"$error":"#REF!"}},{"$error":"#REF!"},{"$error":"#REF!"}]
["COP2334C",4,3.7,{"$f":"VLOOKUP(A:A,#REF!,2,FALSE)","v":{"$error":"#REF!"}},{"$f":"VLOOKUP(A:A,#REF!,3,FALSE)","v":{"$error":"#REF!"}},{"$error":"#REF!"},{"$error":"#REF!"}]
["COP2360C",4,3.7,{"$f":"VLOOKUP(A:A,#REF!,2,FALSE)","v":{"$error":"#REF!"}},{"$f":"VLOOKUP(A:A,#REF!,3,FALSE)","v":{"$error":"#REF!"}},{"$error":"#REF!"},{"$error":"#REF!"}]
["COP2551C",4,3.7,{"$f":"VLOOKUP(A:A,#REF!,2,FALSE)","v":{"$error":"#REF!"}},{"$f":"VLOOKUP(A:A,#REF!,3,FALSE)","v":{"$error":"#REF!"}},{"$error":"#REF!"},{"$error":"#REF!"}]
["COP2800C",4,3.7,{"$f":"VLOOKUP(A:A,#REF!,2,FALSE)","v":{"$error":"#REF!"}},{"$f":"VLOOKUP(A:A,#REF!,3,FALSE)","v":{"$error":"#REF!"}},{"$error":"#REF!"},{"$error":"#REF!"}]
["COP2805C",4,3.7,{"$f":"VLOOKUP(A:A,#REF!,2,FALSE)","v":{"$error":"#REF!"}},{"$f":"VLOOKUP(A:A,#REF!,3,FALSE)","v":{"$error":"#REF!"}},{"$error":"#REF!"},{"$error":"#REF!"}]
["COP2806C",4,3.7,{"$f":"VLOOKUP(A:A,#REF!,2,FALSE)","v":{"$error":"#REF!"}},{"$f":"VLOOKUP(A:A,#REF!,3,FALSE)","v":{"$error":"#REF!"}},{"$error":"#REF!"},{"$error":"#REF!"}]
["COP2822C",4,4,{"$f":"VLOOKUP(A:A,#REF!,2,FALSE)","v":{"$error":"#REF!"}},{"$f":"VLOOKUP(A:A,#REF!,3,FALSE)","v":{"$error":"#REF!"}},{"$error":"#REF!"},{"$error":"#REF!"}]
["COP2823C",4,3.7,{"$f":"VLOOKUP(A:A,#REF!,2,FALSE)","v":{"$error":"#REF!"}},{"$f":"VLOOKUP(A:A,#REF!,3,FALSE)","v":{"$error":"#REF!"}},{"$error":"#REF!"},{"$error":"#REF!"}]
["COP2837C",4,3.7,{"$f":"VLOOKUP(A:A,#REF!,2,FALSE)","v":{"$error":"#REF!"}},{"$f":"VLOOKUP(A:A,#REF!,3,FALSE)","v":{"$error":"#REF!"}},{"$error":"#REF!"},{"$error":"#REF!"}]
["COP2842C",4,4,{"$f":"VLOOKUP(A:A,#REF!,2,FALSE)","v":{"$error":"#REF!"}},{"$f":"VLOOKUP(A:A,#REF!,3,FALSE)","v":{"$error":"#REF!"}},{"$error":"#REF!"},{"$error":"#REF!"}]
["COP3330C",4,4,{"$f":"VLOOKUP(A:A,#REF!,2,FALSE)","v":{"$error":"#REF!"}},{"$f":"VLOOKUP(A:A,#REF!,3,FALSE)","v":{"$error":"#REF!"}},{"$error":"#REF!"},{"$error":"#REF!"}]
["COP3813C",4,4,{"$f":"VLOOKUP(A:A,#REF!,2,FALSE)","v":{"$error":"#REF!"}},{"$f":"VLOOKUP(A:A,#REF!,3,FALSE)","v":{"$error":"#REF!"}},{"$error":"#REF!"},{"$error":"#REF!"}]
["COP4655C",4,4,{"$f":"VLOOKUP(A:A,#REF!,2,FALSE)","v":{"$error":"#REF!"}},{"$f":"VLOOKUP(A:A,#REF!,3,FALSE)","v":{"$error":"#REF!"}},{"$error":"#REF!"},{"$error":"#REF!"}]
["COP4847C",4,4,{"$f":"VLOOKUP(A:A,#REF!,2,FALSE)","v":{"$error":"#REF!"}},{"$f":"VLOOKUP(A:A,#REF!,3,FALSE)","v":{"$error":"#REF!"}},{"$error":"#REF!"},{"$error":"#REF!"}]
["COS0001",9,7.5,{"$f":"VLOOKUP(A:A,#REF!,2,FALSE)","v":{"$error":"#REF!"}},{"$f":"VLOOKUP(A:A,#REF!,3,FALSE)","v":{"$error":"#REF!"}},{"$error":"#REF!"},{"$error":"#REF!"}]
["COS0001L",9,7.5,{"$f":"VLOOKUP(A:A,#REF!,2,FALSE)","v":{"$error":"#REF!"}},{"$f":"VLOOKUP(A:A,#REF!,3,FALSE)","v":{"$error":"#REF!"}},{"$error":"#REF!"},{"$error":"#REF!"}]
["COS0007",5.4,4.5,{"$f":"VLOOKUP(A:A,#REF!,2,FALSE)","v":{"$error":"#REF!"}},{"$f":"VLOOKUP(A:A,#REF!,3,FALSE)","v":{"$error":"#REF!"}},{"$error":"#REF!"},{"$error":"#REF!"}]
["COS0007L",12.6,10.5,{"$f":"VLOOKUP(A:A,#REF!,2,FALSE)","v":{"$error":"#REF!"}},{"$f":"VLOOKUP(A:A,#REF!,3,FALSE)","v":{"$error":"#REF!"}},{"$error":"#REF!"},{"$error":"#REF!"}]
["COS0008",3.2,2.67,{"$f":"VLOOKUP(A:A,#REF!,2,FALSE)","v":{"$error":"#REF!"}},{"$f":"VLOOKUP(A:A,#REF!,3,FALSE)","v":{"$error":"#REF!"}},{"$error":"#REF!"},{"$error":"#REF!"}]
["COS0008L",8.8000000000000007,7.33,{"$f":"VLOOKUP(A:A,#REF!,2,FALSE)","v":{"$error":"#REF!"}},{"$f":"VLOOKUP(A:A,#REF!,3,FALSE)","v":{"$error":"#REF!"}},{"$error":"#REF!"},{"$error":"#REF!"}]
["CPO2002",3,3,{"$f":"VLOOKUP(A:A,#REF!,2,FALSE)","v":{"$error":"#REF!"}},{"$f":"VLOOKUP(A:A,#REF!,3,FALSE)","v":{"$error":"#REF!"}},{"$f":"B964-D964","v":{"$error":"#REF!"}},{"$f":"C964-E964","v":{"$error":"#REF!"}}]
["CRW2001",3,3,{"$f":"VLOOKUP(A:A,#REF!,2,FALSE)","v":{"$error":"#REF!"}},{"$f":"VLOOKUP(A:A,#REF!,3,FALSE)","v":{"$error":"#REF!"}},{"$error":"#REF!"},{"$error":"#REF!"}]
["CRW2201",3,3,{"$f":"VLOOKUP(A:A,#REF!,2,FALSE)","v":{"$error":"#REF!"}},{"$f":"VLOOKUP(A:A,#REF!,3,FALSE)","v":{"$error":"#REF!"}},{"$error":"#REF!"},{"$error":"#REF!"}]
["CSP0266",8.8000000000000007,7.33,{"$f":"VLOOKUP(A:A,#REF!,2,FALSE)","v":{"$error":"#REF!"}},{"$f":"VLOOKUP(A:A,#REF!,3,FALSE)","v":{"$error":"#REF!"}},{"$error":"#REF!"},{"$error":"#REF!"}]
["CTS1101",1,1,{"$f":"VLOOKUP(A:A,#REF!,2,FALSE)","v":{"$error":"#REF!"}},{"$f":"VLOOKUP(A:A,#REF!,3,FALSE)","v":{"$error":"#REF!"}},{"$error":"#REF!"},{"$error":"#REF!"}]
["CTS1120C",4,3.7,{"$f":"VLOOKUP(A:A,#REF!,2,FALSE)","v":{"$error":"#REF!"}},{"$f":"VLOOKUP(A:A,#REF!,3,FALSE)","v":{"$error":"#REF!"}},{"$error":"#REF!"},{"$error":"#REF!"}]
["CTS1131C",4,3.7,{"$f":"VLOOKUP(A:A,#REF!,2,FALSE)","v":{"$error":"#REF!"}},{"$f":"VLOOKUP(A:A,#REF!,3,FALSE)","v":{"$error":"#REF!"}},{"$error":"#REF!"},{"$error":"#REF!"}]
["CTS1133C",4,3.7,{"$f":"VLOOKUP(A:A,#REF!,2,FALSE)","v":{"$error":"#REF!"}},{"$f":"VLOOKUP(A:A,#REF!,3,FALSE)","v":{"$error":"#REF!"}},{"$error":"#REF!"},{"$error":"#REF!"}]
["CTS1136",2,2,{"$f":"VLOOKUP(A:A,#REF!,2,FALSE)","v":{"$error":"#REF!"}},{"$f":"VLOOKUP(A:A,#REF!,3,FALSE)","v":{"$error":"#REF!"}},{"$error":"#REF!"},{"$error":"#REF!"}]
["CTS1154",4,3.7,{"$f":"VLOOKUP(A:A,#REF!,2,FALSE)","v":{"$error":"#REF!"}},{"$f":"VLOOKUP(A:A,#REF!,3,FALSE)","v":{"$error":"#REF!"}},{"$error":"#REF!"},{"$error":"#REF!"}]
["CTS1334",4,4,{"$f":"VLOOKUP(A:A,#REF!,2,FALSE)","v":{"$error":"#REF!"}},{"$f":"VLOOKUP(A:A,#REF!,3,FALSE)","v":{"$error":"#REF!"}},{"$error":"#REF!"},{"$error":"#REF!"}]
["CTS2149",3,3,{"$f":"VLOOKUP(A:A,#REF!,2,FALSE)","v":{"$error":"#REF!"}},{"$f":"VLOOKUP(A:A,#REF!,3,FALSE)","v":{"$error":"#REF!"}},{"$error":"#REF!"},{"$error":"#REF!"}]
["CTS2155",4,3.7,{"$f":"VLOOKUP(A:A,#REF!,2,FALSE)","v":{"$error":"#REF!"}},{"$f":"VLOOKUP(A:A,#REF!,3,FALSE)","v":{"$error":"#REF!"}},{"$error":"#REF!"},{"$error":"#REF!"}]
["CTS2302",4,4,{"$f":"VLOOKUP(A:A,#REF!,2,FALSE)","v":{"$error":"#REF!"}},{"$f":"VLOOKUP(A:A,#REF!,3,FALSE)","v":{"$error":"#REF!"}},{"$error":"#REF!"},{"$error":"#REF!"}]
["CTS2303",4,4,{"$f":"VLOOKUP(A:A,#REF!,2,FALSE)","v":{"$error":"#REF!"}},{"$f":"VLOOKUP(A:A,#REF!,3,FALSE)","v":{"$error":"#REF!"}},{"$error":"#REF!"},{"$error":"#REF!"}]
["CTS2304",4,4,{"$f":"VLOOKUP(A:A,#REF!,2,FALSE)","v":{"$error":"#REF!"}},{"$f":"VLOOKUP(A:A,#REF!,3,FALSE)","v":{"$error":"#REF!"}},{"$error":"#REF!"},{"$error":"#REF!"}]
["CTS2305",4,4,{"$f":"VLOOKUP(A:A,#REF!,2,FALSE)","v":{"$error":"#REF!"}},{"$f":"VLOOKUP(A:A,#REF!,3,FALSE)","v":{"$error":"#REF!"}},{"$error":"#REF!"},{"$error":"#REF!"}]
["CTS2314",4,4,{"$f":"VLOOKUP(A:A,#REF!,2,FALSE)","v":{"$error":"#REF!"}},{"$f":"VLOOKUP(A:A,#REF!,3,FALSE)","v":{"$error":"#REF!"}},{"$error":"#REF!"},{"$error":"#REF!"}]
["CTS2370",4,4,{"$f":"VLOOKUP(A:A,#REF!,2,FALSE)","v":{"$error":"#REF!"}},{"$f":"VLOOKUP(A:A,#REF!,3,FALSE)","v":{"$error":"#REF!"}},{"$error":"#REF!"},{"$error":"#REF!"}]
["CTS2371",4,4,{"$f":"VLOOKUP(A:A,#REF!,2,FALSE)","v":{"$error":"#REF!"}},{"$f":"VLOOKUP(A:A,#REF!,3,FALSE)","v":{"$error":"#REF!"}},{"$error":"#REF!"},{"$error":"#REF!"}]
["CTS2372",4,4,{"$f":"VLOOKUP(A:A,#REF!,2,FALSE)","v":{"$error":"#REF!"}},{"$f":"VLOOKUP(A:A,#REF!,3,FALSE)","v":{"$error":"#REF!"}},{"$error":"#REF!"},{"$error":"#REF!"}]
["CTS2411",4,4,{"$f":"VLOOKUP(A:A,#REF!,2,FALSE)","v":{"$error":"#REF!"}},{"$f":"VLOOKUP(A:A,#REF!,3,FALSE)","v":{"$error":"#REF!"}},{"$error":"#REF!"},{"$error":"#REF!"}]
["CTS2436C",4,4,{"$f":"VLOOKUP(A:A,#REF!,2,FALSE)","v":{"$error":"#REF!"}},{"$f":"VLOOKUP(A:A,#REF!,3,FALSE)","v":{"$error":"#REF!"}},{"$error":"#REF!"},{"$error":"#REF!"}]
["CTS2437C",4,3.7,{"$f":"VLOOKUP(A:A,#REF!,2,FALSE)","v":{"$error":"#REF!"}},{"$f":"VLOOKUP(A:A,#REF!,3,FALSE)","v":{"$error":"#REF!"}},{"$error":"#REF!"},{"$error":"#REF!"}]
["CTS2438C",4,3.7,{"$f":"VLOOKUP(A:A,#REF!,2,FALSE)","v":{"$error":"#REF!"}},{"$f":"VLOOKUP(A:A,#REF!,3,FALSE)","v":{"$error":"#REF!"}},{"$error":"#REF!"},{"$error":"#REF!"}]
["CTS2440",4,4,{"$f":"VLOOKUP(A:A,#REF!,2,FALSE)","v":{"$error":"#REF!"}},{"$f":"VLOOKUP(A:A,#REF!,3,FALSE)","v":{"$error":"#REF!"}},{"$error":"#REF!"},{"$error":"#REF!"}]
["CTS2441",4,4,{"$f":"VLOOKUP(A:A,#REF!,2,FALSE)","v":{"$error":"#REF!"}},{"$f":"VLOOKUP(A:A,#REF!,3,FALSE)","v":{"$error":"#REF!"}},{"$error":"#REF!"},{"$error":"#REF!"}]
["CTS2445",4,3.7,{"$f":"VLOOKUP(A:A,#REF!,2,FALSE)","v":{"$error":"#REF!"}},{"$f":"VLOOKUP(A:A,#REF!,3,FALSE)","v":{"$error":"#REF!"}},{"$error":"#REF!"},{"$error":"#REF!"}]
["CTS2456C",4,4,{"$f":"VLOOKUP(A:A,#REF!,2,FALSE)","v":{"$error":"#REF!"}},{"$f":"VLOOKUP(A:A,#REF!,3,FALSE)","v":{"$error":"#REF!"}},{"$error":"#REF!"},{"$error":"#REF!"}]
["CTS2655C",4,4,{"$f":"VLOOKUP(A:A,#REF!,2,FALSE)","v":{"$error":"#REF!"}},{"$f":"VLOOKUP(A:A,#REF!,3,FALSE)","v":{"$error":"#REF!"}},{"$error":"#REF!"},{"$error":"#REF!"}]
["CTS2656",2,2,{"$f":"VLOOKUP(A:A,#REF!,2,FALSE)","v":{"$error":"#REF!"}},{"$f":"VLOOKUP(A:A,#REF!,3,FALSE)","v":{"$error":"#REF!"}},{"$error":"#REF!"},{"$error":"#REF!"}]
["CTS2657",4,4,{"$f":"VLOOKUP(A:A,#REF!,2,FALSE)","v":{"$error":"#REF!"}},{"$f":"VLOOKUP(A:A,#REF!,3,FALSE)","v":{"$error":"#REF!"}},{"$error":"#REF!"},{"$error":"#REF!"}]
["CTS2659",4,4,{"$f":"VLOOKUP(A:A,#REF!,2,FALSE)","v":{"$error":"#REF!"}},{"$f":"VLOOKUP(A:A,#REF!,3,FALSE)","v":{"$error":"#REF!"}},{"$error":"#REF!"},{"$error":"#REF!"}]
["CTS2662",4,4,{"$f":"VLOOKUP(A:A,#REF!,2,FALSE)","v":{"$error":"#REF!"}},{"$f":"VLOOKUP(A:A,#REF!,3,FALSE)","v":{"$error":"#REF!"}},{"$error":"#REF!"},{"$error":"#REF!"}]
["CTS2960",4,3.7,{"$f":"VLOOKUP(A:A,#REF!,2,FALSE)","v":{"$error":"#REF!"}},{"$f":"VLOOKUP(A:A,#REF!,3,FALSE)","v":{"$error":"#REF!"}},{"$error":"#REF!"},{"$error":"#REF!"}]
["CVT1000",2,2,{"$f":"VLOOKUP(A:A,#REF!,2,FALSE)","v":{"$error":"#REF!"}},{"$f":"VLOOKUP(A:A,#REF!,3,FALSE)","v":{"$error":"#REF!"}},{"$error":"#REF!"},{"$error":"#REF!"}]
["CVT1200",2,1,{"$f":"VLOOKUP(A:A,#REF!,2,FALSE)","v":{"$error":"#REF!"}},{"$f":"VLOOKUP(A:A,#REF!,3,FALSE)","v":{"$error":"#REF!"}},{"$error":"#REF!"},{"$error":"#REF!"},"CWE"]
["CVT1261C",5,4.5999999999999996,{"$f":"VLOOKUP(A:A,#REF!,2,FALSE)","v":{"$error":"#REF!"}},{"$f":"VLOOKUP(A:A,#REF!,3,FALSE)","v":{"$error":"#REF!"}},{"$error":"#REF!"},{"$error":"#REF!"}]
["CVT1610",3,3,{"$f":"VLOOKUP(A:A,#REF!,2,FALSE)","v":{"$error":"#REF!"}},{"$f":"VLOOKUP(A:A,#REF!,3,FALSE)","v":{"$error":"#REF!"}},{"$error":"#REF!"},{"$error":"#REF!"},"CWE"]
["CVT2211C",4,3.6,{"$f":"VLOOKUP(A:A,#REF!,2,FALSE)","v":{"$error":"#REF!"}},{"$f":"VLOOKUP(A:A,#REF!,3,FALSE)","v":{"$error":"#REF!"}},{"$error":"#REF!"},{"$error":"#REF!"}]
["CVT2320C",4,3.6,{"$f":"VLOOKUP(A:A,#REF!,2,FALSE)","v":{"$error":"#REF!"}},{"$f":"VLOOKUP(A:A,#REF!,3,FALSE)","v":{"$error":"#REF!"}},{"$error":"#REF!"},{"$error":"#REF!"}]
["CVT2321C",5,4.5999999999999996,{"$f":"VLOOKUP(A:A,#REF!,2,FALSE)","v":{"$error":"#REF!"}},{"$f":"VLOOKUP(A:A,#REF!,3,FALSE)","v":{"$error":"#REF!"}},{"$error":"#REF!"},{"$error":"#REF!"},"CWE"]
["CVT2420C",5,4.5999999999999996,{"$f":"VLOOKUP(A:A,#REF!,2,FALSE)","v":{"$error":"#REF!"}},{"$f":"VLOOKUP(A:A,#REF!,3,FALSE)","v":{"$error":"#REF!"}},{"$error":"#REF!"},{"$error":"#REF!"},"CWE"]
["CVT2421C",5,4.5999999999999996,{"$f":"VLOOKUP(A:A,#REF!,2,FALSE)","v":{"$error":"#REF!"}},{"$f":"VLOOKUP(A:A,#REF!,3,FALSE)","v":{"$error":"#REF!"}},{"$error":"#REF!"},{"$error":"#REF!"},"CWE"]
["CVT2425C",5,4.5999999999999996,{"$f":"VLOOKUP(A:A,#REF!,2,FALSE)","v":{"$error":"#REF!"}},{"$f":"VLOOKUP(A:A,#REF!,3,FALSE)","v":{"$error":"#REF!"}},{"$error":"#REF!"},{"$error":"#REF!"},"CWE"]
["CVT2427C",4,3.6,{"$f":"VLOOKUP(A:A,#REF!,2,FALSE)","v":{"$error":"#REF!"}},{"$f":"VLOOKUP(A:A,#REF!,3,FALSE)","v":{"$error":"#REF!"}},{"$error":"#REF!"},{"$error":"#REF!"},"CWE"]
["CVT2500C",4,3.6,{"$f":"VLOOKUP(A:A,#REF!,2,FALSE)","v":{"$error":"#REF!"}},{"$f":"VLOOKUP(A:A,#REF!,3,FALSE)","v":{"$error":"#REF!"}},{"$error":"#REF!"},{"$error":"#REF!"}]
["CVT2620C",0,0,{"$f":"VLOOKUP(A:A,#REF!,2,FALSE)","v":{"$error":"#REF!"}},{"$f":"VLOOKUP(A:A,#REF!,3,FALSE)","v":{"$error":"#REF!"}},{"$error":"#REF!"},{"$error":"#REF!"},"CWE"]
["CVT2621C",5,4.5999999999999996,{"$f":"VLOOKUP(A:A,#REF!,2,FALSE)","v":{"$error":"#REF!"}},{"$f":"VLOOKUP(A:A,#REF!,3,FALSE)","v":{"$error":"#REF!"}},{"$error":"#REF!"},{"$error":"#REF!"}]
["CVT2800",1,1,{"$f":"VLOOKUP(A:A,#REF!,2,FALSE)","v":{"$error":"#REF!"}},{"$f":"VLOOKUP(A:A,#REF!,3,FALSE)","v":{"$error":"#REF!"}},{"$error":"#REF!"},{"$error":"#REF!"}]
["CVT2840L",0.01,0.01,{"$f":"VLOOKUP(A:A,#REF!,2,FALSE)","v":{"$error":"#REF!"}},{"$f":"VLOOKUP(A:A,#REF!,3,FALSE)","v":{"$error":"#REF!"}},{"$error":"#REF!"},{"$error":"#REF!"}]
["CVT2841L",0.01,0.01,{"$f":"VLOOKUP(A:A,#REF!,2,FALSE)","v":{"$error":"#REF!"}},{"$f":"VLOOKUP(A:A,#REF!,3,FALSE)","v":{"$error":"#REF!"}},{"$error":"#REF!"},{"$error":"#REF!"}]
["CVT2842L",0.01,0.01,{"$f":"VLOOKUP(A:A,#REF!,2,FALSE)","v":{"$error":"#REF!"}},{"$f":"VLOOKUP(A:A,#REF!,3,FALSE)","v":{"$error":"#REF!"}},{"$error":"#REF!"},{"$error":"#REF!"}]
["CVT2920",2,2,{"$f":"VLOOKUP(A:A,#REF!,2,FALSE)","v":{"$error":"#REF!"}},{"$f":"VLOOKUP(A:A,#REF!,3,FALSE)","v":{"$error":"#REF!"}},{"$error":"#REF!"},{"$error":"#REF!"}]
["CVT2930",2,2,{"$f":"VLOOKUP(A:A,#REF!,2,FALSE)","v":{"$error":"#REF!"}},{"$f":"VLOOKUP(A:A,#REF!,3,FALSE)","v":{"$error":"#REF!"}},{"$error":"#REF!"},{"$error":"#REF!"}]
["CWA0001",3,2.5,{"$f":"VLOOKUP(A:A,#REF!,2,FALSE)","v":{"$error":"#REF!"}},{"$f":"VLOOKUP(A:A,#REF!,3,FALSE)","v":{"$error":"#REF!"}},{"$error":"#REF!"},{"$error":"#REF!"}]
["CWA0002",4.9000000000000004,4.08,{"$f":"VLOOKUP(A:A,#REF!,2,FALSE)","v":{"$error":"#REF!"}},{"$f":"VLOOKUP(A:A,#REF!,3,FALSE)","v":{"$error":"#REF!"}},{"$error":"#REF!"},{"$error":"#REF!"}]
["CWA0003",6.4,5.33,{"$f":"VLOOKUP(A:A,#REF!,2,FALSE)","v":{"$error":"#REF!"}},{"$f":"VLOOKUP(A:A,#REF!,3,FALSE)","v":{"$error":"#REF!"}},{"$error":"#REF!"},{"$error":"#REF!"}]
["CWA0004",7.3,6.08,{"$f":"VLOOKUP(A:A,#REF!,2,FALSE)","v":{"$error":"#REF!"}},{"$f":"VLOOKUP(A:A,#REF!,3,FALSE)","v":{"$error":"#REF!"}},{"$error":"#REF!"},{"$error":"#REF!"}]
["CWA0005",5.8,4.83,{"$f":"VLOOKUP(A:A,#REF!,2,FALSE)","v":{"$error":"#REF!"}},{"$f":"VLOOKUP(A:A,#REF!,3,FALSE)","v":{"$error":"#REF!"}},{"$error":"#REF!"},{"$error":"#REF!"},"CWE"]
["CWA0027",0.8,0.67,{"$f":"VLOOKUP(A:A,#REF!,2,FALSE)","v":{"$error":"#REF!"}},{"$f":"VLOOKUP(A:A,#REF!,3,FALSE)","v":{"$error":"#REF!"}},{"$error":"#REF!"},{"$error":"#REF!"},"CWE"]
["CWA0028",1.6,1.33,{"$f":"VLOOKUP(A:A,#REF!,2,FALSE)","v":{"$error":"#REF!"}},{"$f":"VLOOKUP(A:A,#REF!,3,FALSE)","v":{"$error":"#REF!"}},{"$error":"#REF!"},{"$error":"#REF!"},"CWE"]
["CWC0005",0.8,0.66,{"$f":"VLOOKUP(A:A,#REF!,2,FALSE)","v":{"$error":"#REF!"}},{"$f":"VLOOKUP(A:A,#REF!,3,FALSE)","v":{"$error":"#REF!"}},{"$error":"#REF!"},{"$error":"#REF!"},"CWE"]
["CWC0011",3.2,2.66,{"$f":"VLOOKUP(A:A,#REF!,2,FALSE)","v":{"$error":"#REF!"}},{"$f":"VLOOKUP(A:A,#REF!,3,FALSE)","v":{"$error":"#REF!"}},{"$error":"#REF!"},{"$error":"#REF!"},"CWE"]
["CWC0018",1.6,1.33,{"$f":"VLOOKUP(A:A,#REF!,2,FALSE)","v":{"$error":"#REF!"}},{"$f":"VLOOKUP(A:A,#REF!,3,FALSE)","v":{"$error":"#REF!"}},{"$f":"B1028-D1028","v":{"$error":"#REF!"}},{"$f":"C1028-E1028","v":{"$error":"#REF!"}},"CWE"]
["CWC0019",0.12,0.1,{"$f":"VLOOKUP(A:A,#REF!,2,FALSE)","v":{"$error":"#REF!"}},{"$f":"VLOOKUP(A:A,#REF!,3,FALSE)","v":{"$error":"#REF!"}},{"$error":"#REF!"},{"$error":"#REF!"},"CWE"]
["CWC0020",2.4,2,{"$f":"VLOOKUP(A:A,#REF!,2,FALSE)","v":{"$error":"#REF!"}},{"$f":"VLOOKUP(A:A,#REF!,3,FALSE)","v":{"$error":"#REF!"}},{"$error":"#REF!"},{"$error":"#REF!"},"CWE"]
["CWC0021",1,0.83,{"$f":"VLOOKUP(A:A,#REF!,2,FALSE)","v":{"$error":"#REF!"}},{"$f":"VLOOKUP(A:A,#REF!,3,FALSE)","v":{"$error":"#REF!"}},{"$error":"#REF!"},{"$error":"#REF!"}]
["CWC0027",0.72,0.6,{"$f":"VLOOKUP(A:A,#REF!,2,FALSE)","v":{"$error":"#REF!"}},{"$f":"VLOOKUP(A:A,#REF!,3,FALSE)","v":{"$error":"#REF!"}},{"$error":"#REF!"},{"$error":"#REF!"}]
["CWC0031",0.8,0.66,{"$f":"VLOOKUP(A:A,#REF!,2,FALSE)","v":{"$error":"#REF!"}},{"$f":"VLOOKUP(A:A,#REF!,3,FALSE)","v":{"$error":"#REF!"}},{"$error":"#REF!"},{"$error":"#REF!"}]
["CWC0032",2.52,2.1,{"$f":"VLOOKUP(A:A,#REF!,2,FALSE)","v":{"$error":"#REF!"}},{"$f":"VLOOKUP(A:A,#REF!,3,FALSE)","v":{"$error":"#REF!"}},{"$error":"#REF!"},{"$error":"#REF!"}]
["CWC0034",3.36,2.8,{"$f":"VLOOKUP(A:A,#REF!,2,FALSE)","v":{"$error":"#REF!"}},{"$f":"VLOOKUP(A:A,#REF!,3,FALSE)","v":{"$error":"#REF!"}},{"$error":"#REF!"},{"$error":"#REF!"}]
["CWC0035",1.6,1.33,{"$f":"VLOOKUP(A:A,#REF!,2,FALSE)","v":{"$error":"#REF!"}},{"$f":"VLOOKUP(A:A,#REF!,3,FALSE)","v":{"$error":"#REF!"}},{"$error":"#REF!"},{"$error":"#REF!"}]
["CWD0006",4.8,4,{"$f":"VLOOKUP(A:A,#REF!,2,FALSE)","v":{"$error":"#REF!"}},{"$f":"VLOOKUP(A:A,#REF!,3,FALSE)","v":{"$error":"#REF!"}},{"$error":"#REF!"},{"$error":"#REF!"}]
["CWD0007",0.64,0.53,{"$f":"VLOOKUP(A:A,#REF!,2,FALSE)","v":{"$error":"#REF!"}},{"$f":"VLOOKUP(A:A,#REF!,3,FALSE)","v":{"$error":"#REF!"}},{"$error":"#REF!"},{"$error":"#REF!"}]
["CWD0008",0.64,0.53,{"$f":"VLOOKUP(A:A,#REF!,2,FALSE)","v":{"$error":"#REF!"}},{"$f":"VLOOKUP(A:A,#REF!,3,FALSE)","v":{"$error":"#REF!"}},{"$error":"#REF!"},{"$error":"#REF!"}]
["CWD0009",0.64,0.53,{"$f":"VLOOKUP(A:A,#REF!,2,FALSE)","v":{"$error":"#REF!"}},{"$f":"VLOOKUP(A:A,#REF!,3,FALSE)","v":{"$error":"#REF!"}},{"$error":"#REF!"},{"$error":"#REF!"}]
["CWD0016",0.64,0.53,{"$f":"VLOOKUP(A:A,#REF!,2,FALSE)","v":{"$error":"#REF!"}},{"$f":"VLOOKUP(A:A,#REF!,3,FALSE)","v":{"$error":"#REF!"}},{"$error":"#REF!"},{"$error":"#REF!"}]
["CWD0019",0.76,0.63,{"$f":"VLOOKUP(A:A,#REF!,2,FALSE)","v":{"$error":"#REF!"}},{"$f":"VLOOKUP(A:A,#REF!,3,FALSE)","v":{"$error":"#REF!"}},{"$error":"#REF!"},{"$error":"#REF!"}]
["CWD0021",0.32,0.27,{"$f":"VLOOKUP(A:A,#REF!,2,FALSE)","v":{"$error":"#REF!"}},{"$f":"VLOOKUP(A:A,#REF!,3,FALSE)","v":{"$error":"#REF!"}},{"$error":"#REF!"},{"$error":"#REF!"}]
["CWD0022",0.64,0.53,{"$f":"VLOOKUP(A:A,#REF!,2,FALSE)","v":{"$error":"#REF!"}},{"$f":"VLOOKUP(A:A,#REF!,3,FALSE)","v":{"$error":"#REF!"}},{"$error":"#REF!"},{"$error":"#REF!"}]
["CWD0043",1.6,1.33,{"$f":"VLOOKUP(A:A,#REF!,2,FALSE)","v":{"$error":"#REF!"}},{"$f":"VLOOKUP(A:A,#REF!,3,FALSE)","v":{"$error":"#REF!"}},{"$error":"#REF!"},{"$error":"#REF!"}]
["CWD0057",1.5,1.5,{"$f":"VLOOKUP(A:A,#REF!,2,FALSE)","v":{"$error":"#REF!"}},{"$f":"VLOOKUP(A:A,#REF!,3,FALSE)","v":{"$error":"#REF!"}},{"$error":"#REF!"},{"$error":"#REF!"}]
["CWD0058",0.03,0.03,{"$f":"VLOOKUP(A:A,#REF!,2,FALSE)","v":{"$error":"#REF!"}},{"$f":"VLOOKUP(A:A,#REF!,3,FALSE)","v":{"$error":"#REF!"}},{"$error":"#REF!"},{"$error":"#REF!"}]
["CWD0059",0.4,0.4,{"$f":"VLOOKUP(A:A,#REF!,2,FALSE)","v":{"$error":"#REF!"}},{"$f":"VLOOKUP(A:A,#REF!,3,FALSE)","v":{"$error":"#REF!"}},{"$error":"#REF!"},{"$error":"#REF!"}]
["CWD0065",0.4,0.4,{"$f":"VLOOKUP(A:A,#REF!,2,FALSE)","v":{"$error":"#REF!"}},{"$f":"VLOOKUP(A:A,#REF!,3,FALSE)","v":{"$error":"#REF!"}},{"$error":"#REF!"},{"$error":"#REF!"}]
["CWD0069",0.8,0.66,{"$f":"VLOOKUP(A:A,#REF!,2,FALSE)","v":{"$error":"#REF!"}},{"$f":"VLOOKUP(A:A,#REF!,3,FALSE)","v":{"$error":"#REF!"}},{"$error":"#REF!"},{"$error":"#REF!"},"CWE"]
["CWD0098",1.6,1.33,{"$f":"VLOOKUP(A:A,#REF!,2,FALSE)","v":{"$error":"#REF!"}},{"$f":"VLOOKUP(A:A,#REF!,3,FALSE)","v":{"$error":"#REF!"}},{"$error":"#REF!"},{"$error":"#REF!"}]
["CWD0115",1.6,1.33,{"$f":"VLOOKUP(A:A,#REF!,2,FALSE)","v":{"$error":"#REF!"}},{"$f":"VLOOKUP(A:A,#REF!,3,FALSE)","v":{"$error":"#REF!"}},{"$error":"#REF!"},{"$error":"#REF!"}]
["CWD0118",1.6,1.33,{"$f":"VLOOKUP(A:A,#REF!,2,FALSE)","v":{"$error":"#REF!"}},{"$f":"VLOOKUP(A:A,#REF!,3,FALSE)","v":{"$error":"#REF!"}},{"$error":"#REF!"},{"$error":"#REF!"}]
["CWD0119",1.6,1.33,{"$f":"VLOOKUP(A:A,#REF!,2,FALSE)","v":{"$error":"#REF!"}},{"$f":"VLOOKUP(A:A,#REF!,3,FALSE)","v":{"$error":"#REF!"}},{"$error":"#REF!"},{"$error":"#REF!"},"CWE"]
["CWD0130",1.6,1.33,{"$f":"VLOOKUP(A:A,#REF!,2,FALSE)","v":{"$error":"#REF!"}},{"$f":"VLOOKUP(A:A,#REF!,3,FALSE)","v":{"$error":"#REF!"}},{"$error":"#REF!"},{"$error":"#REF!"}]
["CWD0131",1.6,1.33,{"$f":"VLOOKUP(A:A,#REF!,2,FALSE)","v":{"$error":"#REF!"}},{"$f":"VLOOKUP(A:A,#REF!,3,FALSE)","v":{"$error":"#REF!"}},{"$error":"#REF!"},{"$error":"#REF!"}]
["CWD0177",0.4,0.33,{"$f":"VLOOKUP(A:A,#REF!,2,FALSE)","v":{"$error":"#REF!"}},{"$f":"VLOOKUP(A:A,#REF!,3,FALSE)","v":{"$error":"#REF!"}},{"$error":"#REF!"},{"$error":"#REF!"}]
["CWD0179",0.4,0.33,{"$f":"VLOOKUP(A:A,#REF!,2,FALSE)","v":{"$error":"#REF!"}},{"$f":"VLOOKUP(A:A,#REF!,3,FALSE)","v":{"$error":"#REF!"}},{"$error":"#REF!"},{"$error":"#REF!"}]
["CWD0213",0.48,0.4,{"$f":"VLOOKUP(A:A,#REF!,2,FALSE)","v":{"$error":"#REF!"}},{"$f":"VLOOKUP(A:A,#REF!,3,FALSE)","v":{"$error":"#REF!"}},{"$error":"#REF!"},{"$error":"#REF!"}]
["CWD0214",0.48,0.4,{"$f":"VLOOKUP(A:A,#REF!,2,FALSE)","v":{"$error":"#REF!"}},{"$f":"VLOOKUP(A:A,#REF!,3,FALSE)","v":{"$error":"#REF!"}},{"$error":"#REF!"},{"$error":"#REF!"}]
["CWD0215",0.48,0.4,{"$f":"VLOOKUP(A:A,#REF!,2,FALSE)","v":{"$error":"#REF!"}},{"$f":"VLOOKUP(A:A,#REF!,3,FALSE)","v":{"$error":"#REF!"}},{"$error":"#REF!"},{"$error":"#REF!"}]
["CWD0216",0.48,0.4,{"$f":"VLOOKUP(A:A,#REF!,2,FALSE)","v":{"$error":"#REF!"}},{"$f":"VLOOKUP(A:A,#REF!,3,FALSE)","v":{"$error":"#REF!"}},{"$error":"#REF!"},{"$error":"#REF!"}]
["CWD0217",0.48,0.4,{"$f":"VLOOKUP(A:A,#REF!,2,FALSE)","v":{"$error":"#REF!"}},{"$f":"VLOOKUP(A:A,#REF!,3,FALSE)","v":{"$error":"#REF!"}},{"$error":"#REF!"},{"$error":"#REF!"}]
["CWD0218",0.48,0.4,{"$f":"VLOOKUP(A:A,#REF!,2,FALSE)","v":{"$error":"#REF!"}},{"$f":"VLOOKUP(A:A,#REF!,3,FALSE)","v":{"$error":"#REF!"}},{"$error":"#REF!"},{"$error":"#REF!"},"CWE"]
["CWD0219",0.48,0.4,{"$f":"VLOOKUP(A:A,#REF!,2,FALSE)","v":{"$error":"#REF!"}},{"$f":"VLOOKUP(A:A,#REF!,3,FALSE)","v":{"$error":"#REF!"}},{"$error":"#REF!"},{"$error":"#REF!"}]
["CWD0220",0.48,0.4,{"$f":"VLOOKUP(A:A,#REF!,2,FALSE)","v":{"$error":"#REF!"}},{"$f":"VLOOKUP(A:A,#REF!,3,FALSE)","v":{"$error":"#REF!"}},{"$error":"#REF!"},{"$error":"#REF!"}]
["CWD0230",1.6,1.33,{"$f":"VLOOKUP(A:A,#REF!,2,FALSE)","v":{"$error":"#REF!"}},{"$f":"VLOOKUP(A:A,#REF!,3,FALSE)","v":{"$error":"#REF!"}},{"$error":"#REF!"},{"$error":"#REF!"}]
["CWD0235",4.16,3.47,{"$f":"VLOOKUP(A:A,#REF!,2,FALSE)","v":{"$error":"#REF!"}},{"$f":"VLOOKUP(A:A,#REF!,3,FALSE)","v":{"$error":"#REF!"}},{"$error":"#REF!"},{"$error":"#REF!"}]
["CWD0237",6.24,5.2,{"$f":"VLOOKUP(A:A,#REF!,2,FALSE)","v":{"$error":"#REF!"}},{"$f":"VLOOKUP(A:A,#REF!,3,FALSE)","v":{"$error":"#REF!"}},{"$error":"#REF!"},{"$error":"#REF!"}]
["CWD0246",0.64,0.53,{"$f":"VLOOKUP(A:A,#REF!,2,FALSE)","v":{"$error":"#REF!"}},{"$f":"VLOOKUP(A:A,#REF!,3,FALSE)","v":{"$error":"#REF!"}},{"$error":"#REF!"},{"$error":"#REF!"}]
["CWD0252",2,1.67,{"$f":"VLOOKUP(A:A,#REF!,2,FALSE)","v":{"$error":"#REF!"}},{"$f":"VLOOKUP(A:A,#REF!,3,FALSE)","v":{"$error":"#REF!"}},{"$error":"#REF!"},{"$error":"#REF!"}]
["CWD0253",2,1.67,{"$f":"VLOOKUP(A:A,#REF!,2,FALSE)","v":{"$error":"#REF!"}},{"$f":"VLOOKUP(A:A,#REF!,3,FALSE)","v":{"$error":"#REF!"}},{"$error":"#REF!"},{"$error":"#REF!"}]
["CWD0254",2,1.8,{"$f":"VLOOKUP(A:A,#REF!,2,FALSE)","v":{"$error":"#REF!"}},{"$f":"VLOOKUP(A:A,#REF!,3,FALSE)","v":{"$error":"#REF!"}},{"$error":"#REF!"},{"$error":"#REF!"}]
["CWD0255",4.16,3.47,{"$f":"VLOOKUP(A:A,#REF!,2,FALSE)","v":{"$error":"#REF!"}},{"$f":"VLOOKUP(A:A,#REF!,3,FALSE)","v":{"$error":"#REF!"}},{"$error":"#REF!"},{"$error":"#REF!"}]
["CWD0266",0.48,0.4,{"$f":"VLOOKUP(A:A,#REF!,2,FALSE)","v":{"$error":"#REF!"}},{"$f":"VLOOKUP(A:A,#REF!,3,FALSE)","v":{"$error":"#REF!"}},{"$error":"#REF!"},{"$error":"#REF!"}]
["CWD0292",4.8,4,{"$f":"VLOOKUP(A:A,#REF!,2,FALSE)","v":{"$error":"#REF!"}},{"$f":"VLOOKUP(A:A,#REF!,3,FALSE)","v":{"$error":"#REF!"}},{"$error":"#REF!"},{"$error":"#REF!"}]
["CWD0293",4.8,4.8,{"$f":"VLOOKUP(A:A,#REF!,2,FALSE)","v":{"$error":"#REF!"}},{"$f":"VLOOKUP(A:A,#REF!,3,FALSE)","v":{"$error":"#REF!"}},{"$error":"#REF!"},{"$error":"#REF!"}]
["CWD0327",0.32,0.26,{"$f":"VLOOKUP(A:A,#REF!,2,FALSE)","v":{"$error":"#REF!"}},{"$f":"VLOOKUP(A:A,#REF!,3,FALSE)","v":{"$error":"#REF!"}},{"$error":"#REF!"},{"$error":"#REF!"}]
["CWD0339",0.32,0.27,{"$f":"VLOOKUP(A:A,#REF!,2,FALSE)","v":{"$error":"#REF!"}},{"$f":"VLOOKUP(A:A,#REF!,3,FALSE)","v":{"$error":"#REF!"}},{"$error":"#REF!"},{"$error":"#REF!"}]
["CWD0340",1.28,1.06,{"$f":"VLOOKUP(A:A,#REF!,2,FALSE)","v":{"$error":"#REF!"}},{"$f":"VLOOKUP(A:A,#REF!,3,FALSE)","v":{"$error":"#REF!"}},{"$error":"#REF!"},{"$error":"#REF!"}]
["CWD0356",0.8,0.66,{"$f":"VLOOKUP(A:A,#REF!,2,FALSE)","v":{"$error":"#REF!"}},{"$f":"VLOOKUP(A:A,#REF!,3,FALSE)","v":{"$error":"#REF!"}},{"$error":"#REF!"},{"$error":"#REF!"}]
["CWD0357",0.8,0.66,{"$f":"VLOOKUP(A:A,#REF!,2,FALSE)","v":{"$error":"#REF!"}},{"$f":"VLOOKUP(A:A,#REF!,3,FALSE)","v":{"$error":"#REF!"}},{"$error":"#REF!"},{"$error":"#REF!"}]
["CWD0370",0.64,0.53,{"$f":"VLOOKUP(A:A,#REF!,2,FALSE)","v":{"$error":"#REF!"}},{"$f":"VLOOKUP(A:A,#REF!,3,FALSE)","v":{"$error":"#REF!"}},{"$error":"#REF!"},{"$error":"#REF!"}]
["CWD0374",2.4,2,{"$f":"VLOOKUP(A:A,#REF!,2,FALSE)","v":{"$error":"#REF!"}},{"$f":"VLOOKUP(A:A,#REF!,3,FALSE)","v":{"$error":"#REF!"}},{"$error":"#REF!"},{"$error":"#REF!"}]
["CWD0382",0.32,0.26,{"$f":"VLOOKUP(A:A,#REF!,2,FALSE)","v":{"$error":"#REF!"}},{"$f":"VLOOKUP(A:A,#REF!,3,FALSE)","v":{"$error":"#REF!"}},{"$error":"#REF!"},{"$error":"#REF!"}]
["CWD0386",0.32,0.27,{"$f":"VLOOKUP(A:A,#REF!,2,FALSE)","v":{"$error":"#REF!"}},{"$f":"VLOOKUP(A:A,#REF!,3,FALSE)","v":{"$error":"#REF!"}},{"$error":"#REF!"},{"$error":"#REF!"}]
["CWD0394",0.8,0.66,{"$f":"VLOOKUP(A:A,#REF!,2,FALSE)","v":{"$error":"#REF!"}},{"$f":"VLOOKUP(A:A,#REF!,3,FALSE)","v":{"$error":"#REF!"}},{"$error":"#REF!"},{"$error":"#REF!"}]
["CWD0396",4.8,4,{"$f":"VLOOKUP(A:A,#REF!,2,FALSE)","v":{"$error":"#REF!"}},{"$f":"VLOOKUP(A:A,#REF!,3,FALSE)","v":{"$error":"#REF!"}},{"$error":"#REF!"},{"$error":"#REF!"}]
["CWD0397",0.24,0.2,{"$f":"VLOOKUP(A:A,#REF!,2,FALSE)","v":{"$error":"#REF!"}},{"$f":"VLOOKUP(A:A,#REF!,3,FALSE)","v":{"$error":"#REF!"}},{"$error":"#REF!"},{"$error":"#REF!"}]
["CWD0398",4.8,4,{"$f":"VLOOKUP(A:A,#REF!,2,FALSE)","v":{"$error":"#REF!"}},{"$f":"VLOOKUP(A:A,#REF!,3,FALSE)","v":{"$error":"#REF!"}},{"$error":"#REF!"},{"$error":"#REF!"},"CWE"]
["CWD0399",0.16,0.13,{"$f":"VLOOKUP(A:A,#REF!,2,FALSE)","v":{"$error":"#REF!"}},{"$f":"VLOOKUP(A:A,#REF!,3,FALSE)","v":{"$error":"#REF!"}},{"$error":"#REF!"},{"$error":"#REF!"},"CWE"]
["CWD0400",0.24,0.2,{"$f":"VLOOKUP(A:A,#REF!,2,FALSE)","v":{"$error":"#REF!"}},{"$f":"VLOOKUP(A:A,#REF!,3,FALSE)","v":{"$error":"#REF!"}},{"$f":"B1092-D1092","v":{"$error":"#REF!"}},{"$f":"C1092-E1092","v":{"$error":"#REF!"}},"CWE"]
["CWD0401",0.32,0.26,{"$f":"VLOOKUP(A:A,#REF!,2,FALSE)","v":{"$error":"#REF!"}},{"$f":"VLOOKUP(A:A,#REF!,3,FALSE)","v":{"$error":"#REF!"}},{"$error":"#REF!"},{"$error":"#REF!"}]
["CWD0402",0.24,0.2,{"$f":"VLOOKUP(A:A,#REF!,2,FALSE)","v":{"$error":"#REF!"}},{"$f":"VLOOKUP(A:A,#REF!,3,FALSE)","v":{"$error":"#REF!"}},{"$error":"#REF!"},{"$error":"#REF!"}]
["CWD0403",0.24,0.2,{"$f":"VLOOKUP(A:A,#REF!,2,FALSE)","v":{"$error":"#REF!"}},{"$f":"VLOOKUP(A:A,#REF!,3,FALSE)","v":{"$error":"#REF!"}},{"$error":"#REF!"},{"$error":"#REF!"},"CWE"]
["CWD0404",0.2,0.16,{"$f":"VLOOKUP(A:A,#REF!,2,FALSE)","v":{"$error":"#REF!"}},{"$f":"VLOOKUP(A:A,#REF!,3,FALSE)","v":{"$error":"#REF!"}},{"$error":"#REF!"},{"$error":"#REF!"},"CWE"]
["CWD0405",0.2,0.16,{"$f":"VLOOKUP(A:A,#REF!,2,FALSE)","v":{"$error":"#REF!"}},{"$f":"VLOOKUP(A:A,#REF!,3,FALSE)","v":{"$error":"#REF!"}},{"$error":"#REF!"},{"$error":"#REF!"}]
["CWD0406",0.2,0.16,{"$f":"VLOOKUP(A:A,#REF!,2,FALSE)","v":{"$error":"#REF!"}},{"$f":"VLOOKUP(A:A,#REF!,3,FALSE)","v":{"$error":"#REF!"}},{"$error":"#REF!"},{"$error":"#REF!"}]
["CWD0407",0.2,0.16,{"$f":"VLOOKUP(A:A,#REF!,2,FALSE)","v":{"$error":"#REF!"}},{"$f":"VLOOKUP(A:A,#REF!,3,FALSE)","v":{"$error":"#REF!"}},{"$error":"#REF!"},{"$error":"#REF!"},"CWE"]
["CWD0408",1.8,1.5,{"$f":"VLOOKUP(A:A,#REF!,2,FALSE)","v":{"$error":"#REF!"}},{"$f":"VLOOKUP(A:A,#REF!,3,FALSE)","v":{"$error":"#REF!"}},{"$error":"#REF!"},{"$error":"#REF!"},"CWE"]
["CWD0409",0.4,0.33,{"$f":"VLOOKUP(A:A,#REF!,2,FALSE)","v":{"$error":"#REF!"}},{"$f":"VLOOKUP(A:A,#REF!,3,FALSE)","v":{"$error":"#REF!"}},{"$error":"#REF!"},{"$error":"#REF!"}]
["CWD0410",0.2,0.16,{"$f":"VLOOKUP(A:A,#REF!,2,FALSE)","v":{"$error":"#REF!"}},{"$f":"VLOOKUP(A:A,#REF!,3,FALSE)","v":{"$error":"#REF!"}},{"$error":"#REF!"},{"$error":"#REF!"}]
["CWD0411",1.6,1.33,{"$f":"VLOOKUP(A:A,#REF!,2,FALSE)","v":{"$error":"#REF!"}},{"$f":"VLOOKUP(A:A,#REF!,3,FALSE)","v":{"$error":"#REF!"}},{"$error":"#REF!"},{"$error":"#REF!"}]
["CWD0412",1.8,1.5,{"$f":"VLOOKUP(A:A,#REF!,2,FALSE)","v":{"$error":"#REF!"}},{"$f":"VLOOKUP(A:A,#REF!,3,FALSE)","v":{"$error":"#REF!"}},{"$error":"#REF!"},{"$error":"#REF!"}]
["CWD0413",1.2,1,{"$f":"VLOOKUP(A:A,#REF!,2,FALSE)","v":{"$error":"#REF!"}},{"$f":"VLOOKUP(A:A,#REF!,3,FALSE)","v":{"$error":"#REF!"}},{"$error":"#REF!"},{"$error":"#REF!"}]
["CWD0414",1.6,1.33,{"$f":"VLOOKUP(A:A,#REF!,2,FALSE)","v":{"$error":"#REF!"}},{"$f":"VLOOKUP(A:A,#REF!,3,FALSE)","v":{"$error":"#REF!"}},{"$error":"#REF!"},{"$error":"#REF!"}]
["CWD0420",2,1.66,{"$f":"VLOOKUP(A:A,#REF!,2,FALSE)","v":{"$error":"#REF!"}},{"$f":"VLOOKUP(A:A,#REF!,3,FALSE)","v":{"$error":"#REF!"}},{"$error":"#REF!"},{"$error":"#REF!"}]
["CWD0421",2,1.66,{"$f":"VLOOKUP(A:A,#REF!,2,FALSE)","v":{"$error":"#REF!"}},{"$f":"VLOOKUP(A:A,#REF!,3,FALSE)","v":{"$error":"#REF!"}},{"$error":"#REF!"},{"$error":"#REF!"}]
["CWD0422",2,1.66,{"$f":"VLOOKUP(A:A,#REF!,2,FALSE)","v":{"$error":"#REF!"}},{"$f":"VLOOKUP(A:A,#REF!,3,FALSE)","v":{"$error":"#REF!"}},{"$error":"#REF!"},{"$error":"#REF!"}]
["CWD0423",2,1.66,{"$f":"VLOOKUP(A:A,#REF!,2,FALSE)","v":{"$error":"#REF!"}},{"$f":"VLOOKUP(A:A,#REF!,3,FALSE)","v":{"$error":"#REF!"}},{"$error":"#REF!"},{"$error":"#REF!"}]
["CWD0425",2,1.66,{"$f":"VLOOKUP(A:A,#REF!,2,FALSE)","v":{"$error":"#REF!"}},{"$f":"VLOOKUP(A:A,#REF!,3,FALSE)","v":{"$error":"#REF!"}},{"$error":"#REF!"},{"$error":"#REF!"}]
["CWD0426",2,1.66,{"$f":"VLOOKUP(A:A,#REF!,2,FALSE)","v":{"$error":"#REF!"}},{"$f":"VLOOKUP(A:A,#REF!,3,FALSE)","v":{"$error":"#REF!"}},{"$error":"#REF!"},{"$error":"#REF!"}]
["CWD0427",4.16,3.46,{"$f":"VLOOKUP(A:A,#REF!,2,FALSE)","v":{"$error":"#REF!"}},{"$f":"VLOOKUP(A:A,#REF!,3,FALSE)","v":{"$error":"#REF!"}},{"$error":"#REF!"},{"$error":"#REF!"},"CWE"]
["CWD0428",0.08,0.06,{"$f":"VLOOKUP(A:A,#REF!,2,FALSE)","v":{"$error":"#REF!"}},{"$f":"VLOOKUP(A:A,#REF!,3,FALSE)","v":{"$error":"#REF!"}},{"$error":"#REF!"},{"$error":"#REF!"},"CWE"]
["CWK0027",1,0.83,{"$f":"VLOOKUP(A:A,#REF!,2,FALSE)","v":{"$error":"#REF!"}},{"$f":"VLOOKUP(A:A,#REF!,3,FALSE)","v":{"$error":"#REF!"}},{"$error":"#REF!"},{"$error":"#REF!"}]
["CWK0028",1,0.83,{"$f":"VLOOKUP(A:A,#REF!,2,FALSE)","v":{"$error":"#REF!"}},{"$f":"VLOOKUP(A:A,#REF!,3,FALSE)","v":{"$error":"#REF!"}},{"$error":"#REF!"},{"$error":"#REF!"},"CWE"]
["CWK0029",1,0.83,{"$f":"VLOOKUP(A:A,#REF!,2,FALSE)","v":{"$error":"#REF!"}},{"$f":"VLOOKUP(A:A,#REF!,3,FALSE)","v":{"$error":"#REF!"}},{"$error":"#REF!"},{"$error":"#REF!"}]
["CWK0030",1,0.83,{"$f":"VLOOKUP(A:A,#REF!,2,FALSE)","v":{"$error":"#REF!"}},{"$f":"VLOOKUP(A:A,#REF!,3,FALSE)","v":{"$error":"#REF!"}},{"$error":"#REF!"},{"$error":"#REF!"}]
["CWK0031",1,0.83,{"$f":"VLOOKUP(A:A,#REF!,2,FALSE)","v":{"$error":"#REF!"}},{"$f":"VLOOKUP(A:A,#REF!,3,FALSE)","v":{"$error":"#REF!"}},{"$error":"#REF!"},{"$error":"#REF!"}]
["CWK0032",1,0.83,{"$f":"VLOOKUP(A:A,#REF!,2,FALSE)","v":{"$error":"#REF!"}},{"$f":"VLOOKUP(A:A,#REF!,3,FALSE)","v":{"$error":"#REF!"}},{"$error":"#REF!"},{"$error":"#REF!"}]
["CWK0033",1,0.83,{"$f":"VLOOKUP(A:A,#REF!,2,FALSE)","v":{"$error":"#REF!"}},{"$f":"VLOOKUP(A:A,#REF!,3,FALSE)","v":{"$error":"#REF!"}},{"$error":"#REF!"},{"$error":"#REF!"}]
["CWK0034",1,0.83,{"$f":"VLOOKUP(A:A,#REF!,2,FALSE)","v":{"$error":"#REF!"}},{"$f":"VLOOKUP(A:A,#REF!,3,FALSE)","v":{"$error":"#REF!"}},{"$error":"#REF!"},{"$error":"#REF!"}]
["CWK0035",1,0.83,{"$f":"VLOOKUP(A:A,#REF!,2,FALSE)","v":{"$error":"#REF!"}},{"$f":"VLOOKUP(A:A,#REF!,3,FALSE)","v":{"$error":"#REF!"}},{"$error":"#REF!"},{"$error":"#REF!"}]
["CWK0036",1,0.83,{"$f":"VLOOKUP(A:A,#REF!,2,FALSE)","v":{"$error":"#REF!"}},{"$f":"VLOOKUP(A:A,#REF!,3,FALSE)","v":{"$error":"#REF!"}},{"$error":"#REF!"},{"$error":"#REF!"}]
["CWK0037",1,0.83,{"$f":"VLOOKUP(A:A,#REF!,2,FALSE)","v":{"$error":"#REF!"}},{"$f":"VLOOKUP(A:A,#REF!,3,FALSE)","v":{"$error":"#REF!"}},{"$error":"#REF!"},{"$error":"#REF!"}]
["CWK0038",1,0.83,{"$f":"VLOOKUP(A:A,#REF!,2,FALSE)","v":{"$error":"#REF!"}},{"$f":"VLOOKUP(A:A,#REF!,3,FALSE)","v":{"$error":"#REF!"}},{"$error":"#REF!"},{"$error":"#REF!"}]
["CWK0162",0.28000000000000003,0.23,{"$f":"VLOOKUP(A:A,#REF!,2,FALSE)","v":{"$error":"#REF!"}},{"$f":"VLOOKUP(A:A,#REF!,3,FALSE)","v":{"$error":"#REF!"}},{"$error":"#REF!"},{"$error":"#REF!"}]
["CWK0179",1,0.83,{"$f":"VLOOKUP(A:A,#REF!,2,FALSE)","v":{"$error":"#REF!"}},{"$f":"VLOOKUP(A:A,#REF!,3,FALSE)","v":{"$error":"#REF!"}},{"$error":"#REF!"},{"$error":"#REF!"}]
["CWN0081",0.32,0.26,{"$f":"VLOOKUP(A:A,#REF!,2,FALSE)","v":{"$error":"#REF!"}},{"$f":"VLOOKUP(A:A,#REF!,3,FALSE)","v":{"$error":"#REF!"}},{"$error":"#REF!"},{"$error":"#REF!"}]
["CWN0098",14.4,12,{"$f":"VLOOKUP(A:A,#REF!,2,FALSE)","v":{"$error":"#REF!"}},{"$f":"VLOOKUP(A:A,#REF!,3,FALSE)","v":{"$error":"#REF!"}},{"$error":"#REF!"},{"$error":"#REF!"}]
["CWN0107",0.8,0.66,{"$f":"VLOOKUP(A:A,#REF!,2,FALSE)","v":{"$error":"#REF!"}},{"$f":"VLOOKUP(A:A,#REF!,3,FALSE)","v":{"$error":"#REF!"}},{"$error":"#REF!"},{"$error":"#REF!"}]
["CWN0110",1.92,1.6,{"$f":"VLOOKUP(A:A,#REF!,2,FALSE)","v":{"$error":"#REF!"}},{"$f":"VLOOKUP(A:A,#REF!,3,FALSE)","v":{"$error":"#REF!"}},{"$error":"#REF!"},{"$error":"#REF!"}]
["CWN0113",0.72,0.6,{"$f":"VLOOKUP(A:A,#REF!,2,FALSE)","v":{"$error":"#REF!"}},{"$f":"VLOOKUP(A:A,#REF!,3,FALSE)","v":{"$error":"#REF!"}},{"$error":"#REF!"},{"$error":"#REF!"}]
["CWN0154",3.2,2.7,{"$f":"VLOOKUP(A:A,#REF!,2,FALSE)","v":{"$error":"#REF!"}},{"$f":"VLOOKUP(A:A,#REF!,3,FALSE)","v":{"$error":"#REF!"}},{"$error":"#REF!"},{"$error":"#REF!"}]
["CWN0181",0.8,0.66,{"$f":"VLOOKUP(A:A,#REF!,2,FALSE)","v":{"$error":"#REF!"}},{"$f":"VLOOKUP(A:A,#REF!,3,FALSE)","v":{"$error":"#REF!"}},{"$error":"#REF!"},{"$error":"#REF!"}]
["CWN0182",0.32,0.23,{"$f":"VLOOKUP(A:A,#REF!,2,FALSE)","v":{"$error":"#REF!"}},{"$f":"VLOOKUP(A:A,#REF!,3,FALSE)","v":{"$error":"#REF!"}},{"$error":"#REF!"},{"$error":"#REF!"}]
["CWN0232",0.64,0.53,{"$f":"VLOOKUP(A:A,#REF!,2,FALSE)","v":{"$error":"#REF!"}},{"$f":"VLOOKUP(A:A,#REF!,3,FALSE)","v":{"$error":"#REF!"}},{"$error":"#REF!"},{"$error":"#REF!"}]
["CWN0234",0.96,0.8,{"$f":"VLOOKUP(A:A,#REF!,2,FALSE)","v":{"$error":"#REF!"}},{"$f":"VLOOKUP(A:A,#REF!,3,FALSE)","v":{"$error":"#REF!"}},{"$error":"#REF!"},{"$error":"#REF!"}]
["CWN0250",9.2799999999999994,7.73,{"$f":"VLOOKUP(A:A,#REF!,2,FALSE)","v":{"$error":"#REF!"}},{"$f":"VLOOKUP(A:A,#REF!,3,FALSE)","v":{"$error":"#REF!"}},{"$error":"#REF!"},{"$error":"#REF!"}]
["CWN0261",0.64,0.53,{"$f":"VLOOKUP(A:A,#REF!,2,FALSE)","v":{"$error":"#REF!"}},{"$f":"VLOOKUP(A:A,#REF!,3,FALSE)","v":{"$error":"#REF!"}},{"$error":"#REF!"},{"$error":"#REF!"}]
["CWN0263",0.08,0.06,{"$f":"VLOOKUP(A:A,#REF!,2,FALSE)","v":{"$error":"#REF!"}},{"$f":"VLOOKUP(A:A,#REF!,3,FALSE)","v":{"$error":"#REF!"}},{"$error":"#REF!"},{"$error":"#REF!"}]
["CWN0273",2.2400000000000002,1.86,{"$f":"VLOOKUP(A:A,#REF!,2,FALSE)","v":{"$error":"#REF!"}},{"$f":"VLOOKUP(A:A,#REF!,3,FALSE)","v":{"$error":"#REF!"}},{"$error":"#REF!"},{"$error":"#REF!"}]
["CWO0007",0.6,0.5,{"$f":"VLOOKUP(A:A,#REF!,2,FALSE)","v":{"$error":"#REF!"}},{"$f":"VLOOKUP(A:A,#REF!,3,FALSE)","v":{"$error":"#REF!"}},{"$error":"#REF!"},{"$error":"#REF!"}]
["CWO0032",0.6,0.5,{"$f":"VLOOKUP(A:A,#REF!,2,FALSE)","v":{"$error":"#REF!"}},{"$f":"VLOOKUP(A:A,#REF!,3,FALSE)","v":{"$error":"#REF!"}},{"$error":"#REF!"},{"$error":"#REF!"}]
["CWO0253",0.12,0.1,{"$f":"VLOOKUP(A:A,#REF!,2,FALSE)","v":{"$error":"#REF!"}},{"$f":"VLOOKUP(A:A,#REF!,3,FALSE)","v":{"$error":"#REF!"}},{"$error":"#REF!"},{"$error":"#REF!"}]
["CWO0261",0.64,0.53,{"$f":"VLOOKUP(A:A,#REF!,2,FALSE)","v":{"$error":"#REF!"}},{"$f":"VLOOKUP(A:A,#REF!,3,FALSE)","v":{"$error":"#REF!"}},{"$error":"#REF!"},{"$error":"#REF!"}]
["CWO0669",2.52,2.1,{"$f":"VLOOKUP(A:A,#REF!,2,FALSE)","v":{"$error":"#REF!"}},{"$f":"VLOOKUP(A:A,#REF!,3,FALSE)","v":{"$error":"#REF!"}},{"$error":"#REF!"},{"$error":"#REF!"}]
["CWO0753",1.2,1,{"$f":"VLOOKUP(A:A,#REF!,2,FALSE)","v":{"$error":"#REF!"}},{"$f":"VLOOKUP(A:A,#REF!,3,FALSE)","v":{"$error":"#REF!"}},{"$error":"#REF!"},{"$error":"#REF!"}]
["CWO0754",1.2,1,{"$f":"VLOOKUP(A:A,#REF!,2,FALSE)","v":{"$error":"#REF!"}},{"$f":"VLOOKUP(A:A,#REF!,3,FALSE)","v":{"$error":"#REF!"}},{"$error":"#REF!"},{"$error":"#REF!"}]
["CWO0755",1.2,1,{"$f":"VLOOKUP(A:A,#REF!,2,FALSE)","v":{"$error":"#REF!"}},{"$f":"VLOOKUP(A:A,#REF!,3,FALSE)","v":{"$error":"#REF!"}},{"$error":"#REF!"},{"$error":"#REF!"}]
["CWO0756",1.2,1,{"$f":"VLOOKUP(A:A,#REF!,2,FALSE)","v":{"$error":"#REF!"}},{"$f":"VLOOKUP(A:A,#REF!,3,FALSE)","v":{"$error":"#REF!"}},{"$error":"#REF!"},{"$error":"#REF!"}]
["CWO0760",1.6,1.3,{"$f":"VLOOKUP(A:A,#REF!,2,FALSE)","v":{"$error":"#REF!"}},{"$f":"VLOOKUP(A:A,#REF!,3,FALSE)","v":{"$error":"#REF!"}},{"$error":"#REF!"},{"$error":"#REF!"}]
["CWO0773",1.2,1,{"$f":"VLOOKUP(A:A,#REF!,2,FALSE)","v":{"$error":"#REF!"}},{"$f":"VLOOKUP(A:A,#REF!,3,FALSE)","v":{"$error":"#REF!"}},{"$error":"#REF!"},{"$error":"#REF!"}]
["CWO0777",1.6,1.33,{"$f":"VLOOKUP(A:A,#REF!,2,FALSE)","v":{"$error":"#REF!"}},{"$f":"VLOOKUP(A:A,#REF!,3,FALSE)","v":{"$error":"#REF!"}},{"$error":"#REF!"},{"$error":"#REF!"}]
["CWO0860",0.06,0.06,{"$f":"VLOOKUP(A:A,#REF!,2,FALSE)","v":{"$error":"#REF!"}},{"$f":"VLOOKUP(A:A,#REF!,3,FALSE)","v":{"$error":"#REF!"}},{"$error":"#REF!"},{"$error":"#REF!"}]
["CWO0862",0.08,0.06,{"$f":"VLOOKUP(A:A,#REF!,2,FALSE)","v":{"$error":"#REF!"}},{"$f":"VLOOKUP(A:A,#REF!,3,FALSE)","v":{"$error":"#REF!"}},{"$f":"B1156-D1156","v":{"$error":"#REF!"}},{"$f":"C1156-E1156","v":{"$error":"#REF!"}}]
["CWO0875",0.3,0.3,{"$f":"VLOOKUP(A:A,#REF!,2,FALSE)","v":{"$error":"#REF!"}},{"$f":"VLOOKUP(A:A,#REF!,3,FALSE)","v":{"$error":"#REF!"}},{"$error":"#REF!"},{"$error":"#REF!"}]
["CWS0011",0.64,0.53,{"$f":"VLOOKUP(A:A,#REF!,2,FALSE)","v":{"$error":"#REF!"}},{"$f":"VLOOKUP(A:A,#REF!,3,FALSE)","v":{"$error":"#REF!"}},{"$error":"#REF!"},{"$error":"#REF!"}]
["CWS0015",1.6,1.33,{"$f":"VLOOKUP(A:A,#REF!,2,FALSE)","v":{"$error":"#REF!"}},{"$f":"VLOOKUP(A:A,#REF!,3,FALSE)","v":{"$error":"#REF!"}},{"$error":"#REF!"},{"$error":"#REF!"}]
["CWS0016",1.6,1.33,{"$f":"VLOOKUP(A:A,#REF!,2,FALSE)","v":{"$error":"#REF!"}},{"$f":"VLOOKUP(A:A,#REF!,3,FALSE)","v":{"$error":"#REF!"}},{"$error":"#REF!"},{"$error":"#REF!"}]
["CWS0027",2,1.66,{"$f":"VLOOKUP(A:A,#REF!,2,FALSE)","v":{"$error":"#REF!"}},{"$f":"VLOOKUP(A:A,#REF!,3,FALSE)","v":{"$error":"#REF!"}},{"$error":"#REF!"},{"$error":"#REF!"}]
["DAA1200",3,3,{"$f":"VLOOKUP(A:A,#REF!,2,FALSE)","v":{"$error":"#REF!"}},{"$f":"VLOOKUP(A:A,#REF!,3,FALSE)","v":{"$error":"#REF!"}},{"$error":"#REF!"},{"$error":"#REF!"}]
["DAA1201",3,3,{"$f":"VLOOKUP(A:A,#REF!,2,FALSE)","v":{"$error":"#REF!"}},{"$f":"VLOOKUP(A:A,#REF!,3,FALSE)","v":{"$error":"#REF!"}},{"$error":"#REF!"},{"$error":"#REF!"}]
["DAA1300",2,1.5,{"$f":"VLOOKUP(A:A,#REF!,2,FALSE)","v":{"$error":"#REF!"}},{"$f":"VLOOKUP(A:A,#REF!,3,FALSE)","v":{"$error":"#REF!"}},{"$error":"#REF!"},{"$error":"#REF!"}]
["DAA1301",2,1.5,{"$f":"VLOOKUP(A:A,#REF!,2,FALSE)","v":{"$error":"#REF!"}},{"$f":"VLOOKUP(A:A,#REF!,3,FALSE)","v":{"$error":"#REF!"}},{"$error":"#REF!"},{"$error":"#REF!"}]
["DAA1303",2,1.5,{"$f":"VLOOKUP(A:A,#REF!,2,FALSE)","v":{"$error":"#REF!"}},{"$f":"VLOOKUP(A:A,#REF!,3,FALSE)","v":{"$error":"#REF!"}},{"$error":"#REF!"},{"$error":"#REF!"}]
["DAA1501",3,3,{"$f":"VLOOKUP(A:A,#REF!,2,FALSE)","v":{"$error":"#REF!"}},{"$f":"VLOOKUP(A:A,#REF!,3,FALSE)","v":{"$error":"#REF!"}},{"$error":"#REF!"},{"$error":"#REF!"}]
["DAA1520",3,3,{"$f":"VLOOKUP(A:A,#REF!,2,FALSE)","v":{"$error":"#REF!"}},{"$f":"VLOOKUP(A:A,#REF!,3,FALSE)","v":{"$error":"#REF!"}},{"$error":"#REF!"},{"$error":"#REF!"}]
["DAA1570",3,3,{"$f":"VLOOKUP(A:A,#REF!,2,FALSE)","v":{"$error":"#REF!"}},{"$f":"VLOOKUP(A:A,#REF!,3,FALSE)","v":{"$error":"#REF!"}},{"$error":"#REF!"},{"$error":"#REF!"}]
["DAA1610",3,3,{"$f":"VLOOKUP(A:A,#REF!,2,FALSE)","v":{"$error":"#REF!"}},{"$f":"VLOOKUP(A:A,#REF!,3,FALSE)","v":{"$error":"#REF!"}},{"$error":"#REF!"},{"$error":"#REF!"}]
["DAA2000",3,3,{"$f":"VLOOKUP(A:A,#REF!,2,FALSE)","v":{"$error":"#REF!"}},{"$f":"VLOOKUP(A:A,#REF!,3,FALSE)","v":{"$error":"#REF!"}},{"$error":"#REF!"},{"$error":"#REF!"}]
["DAA2100",3,3,{"$f":"VLOOKUP(A:A,#REF!,2,FALSE)","v":{"$error":"#REF!"}},{"$f":"VLOOKUP(A:A,#REF!,3,FALSE)","v":{"$error":"#REF!"}},{"$error":"#REF!"},{"$error":"#REF!"}]
["DAA2101",3,3,{"$f":"VLOOKUP(A:A,#REF!,2,FALSE)","v":{"$error":"#REF!"}},{"$f":"VLOOKUP(A:A,#REF!,3,FALSE)","v":{"$error":"#REF!"}},{"$error":"#REF!"},{"$error":"#REF!"}]
["DAA2102",3,3,{"$f":"VLOOKUP(A:A,#REF!,2,FALSE)","v":{"$error":"#REF!"}},{"$f":"VLOOKUP(A:A,#REF!,3,FALSE)","v":{"$error":"#REF!"}},{"$error":"#REF!"},{"$error":"#REF!"}]
["DAA2103",3,3,{"$f":"VLOOKUP(A:A,#REF!,2,FALSE)","v":{"$error":"#REF!"}},{"$f":"VLOOKUP(A:A,#REF!,3,FALSE)","v":{"$error":"#REF!"}},{"$error":"#REF!"},{"$error":"#REF!"}]
["DAA2206",3,3,{"$f":"VLOOKUP(A:A,#REF!,2,FALSE)","v":{"$error":"#REF!"}},{"$f":"VLOOKUP(A:A,#REF!,3,FALSE)","v":{"$error":"#REF!"}},{"$error":"#REF!"},{"$error":"#REF!"}]
["DAA2207",3,3,{"$f":"VLOOKUP(A:A,#REF!,2,FALSE)","v":{"$error":"#REF!"}},{"$f":"VLOOKUP(A:A,#REF!,3,FALSE)","v":{"$error":"#REF!"}},{"$error":"#REF!"},{"$error":"#REF!"}]
["DAA2680",4,3,{"$f":"VLOOKUP(A:A,#REF!,2,FALSE)","v":{"$error":"#REF!"}},{"$f":"VLOOKUP(A:A,#REF!,3,FALSE)","v":{"$error":"#REF!"}},{"$error":"#REF!"},{"$error":"#REF!"}]
["DAA2681",4,3,{"$f":"VLOOKUP(A:A,#REF!,2,FALSE)","v":{"$error":"#REF!"}},{"$f":"VLOOKUP(A:A,#REF!,3,FALSE)","v":{"$error":"#REF!"}},{"$error":"#REF!"},{"$error":"#REF!"}]
["DAA2930",3,3,{"$f":"VLOOKUP(A:A,#REF!,2,FALSE)","v":{"$error":"#REF!"}},{"$f":"VLOOKUP(A:A,#REF!,3,FALSE)","v":{"$error":"#REF!"}},{"$error":"#REF!"},{"$error":"#REF!"}]
["DAN2100",3,3,{"$f":"VLOOKUP(A:A,#REF!,2,FALSE)","v":{"$error":"#REF!"}},{"$f":"VLOOKUP(A:A,#REF!,3,FALSE)","v":{"$error":"#REF!"}},{"$error":"#REF!"},{"$error":"#REF!"}]
["DAN2743",3,3,{"$f":"VLOOKUP(A:A,#REF!,2,FALSE)","v":{"$error":"#REF!"}},{"$f":"VLOOKUP(A:A,#REF!,3,FALSE)","v":{"$error":"#REF!"}},{"$error":"#REF!"},{"$error":"#REF!"}]
["DAN2751",3,3,{"$f":"VLOOKUP(A:A,#REF!,2,FALSE)","v":{"$error":"#REF!"}},{"$f":"VLOOKUP(A:A,#REF!,3,FALSE)","v":{"$error":"#REF!"}},{"$error":"#REF!"},{"$error":"#REF!"}]
["DAN2761",3,3,{"$f":"VLOOKUP(A:A,#REF!,2,FALSE)","v":{"$error":"#REF!"}},{"$f":"VLOOKUP(A:A,#REF!,3,FALSE)","v":{"$error":"#REF!"}},{"$error":"#REF!"},{"$error":"#REF!"}]
["DEA0020",1.6,1.33,{"$f":"VLOOKUP(A:A,#REF!,2,FALSE)","v":{"$error":"#REF!"}},{"$f":"VLOOKUP(A:A,#REF!,3,FALSE)","v":{"$error":"#REF!"}},{"$error":"#REF!"},{"$error":"#REF!"}]
["DEA0020L",3.2,2.66,{"$f":"VLOOKUP(A:A,#REF!,2,FALSE)","v":{"$error":"#REF!"}},{"$f":"VLOOKUP(A:A,#REF!,3,FALSE)","v":{"$error":"#REF!"}},{"$error":"#REF!"},{"$error":"#REF!"}]
["DEA0029",4.4800000000000004,3.73,{"$f":"VLOOKUP(A:A,#REF!,2,FALSE)","v":{"$error":"#REF!"}},{"$f":"VLOOKUP(A:A,#REF!,3,FALSE)","v":{"$error":"#REF!"}},{"$error":"#REF!"},{"$error":"#REF!"}]
["DEA0130",2.4,2,{"$f":"VLOOKUP(A:A,#REF!,2,FALSE)","v":{"$error":"#REF!"}},{"$f":"VLOOKUP(A:A,#REF!,3,FALSE)","v":{"$error":"#REF!"}},{"$error":"#REF!"},{"$error":"#REF!"}]
["DEA0311",1.28,1.06,{"$f":"VLOOKUP(A:A,#REF!,2,FALSE)","v":{"$error":"#REF!"}},{"$f":"VLOOKUP(A:A,#REF!,3,FALSE)","v":{"$error":"#REF!"}},{"$error":"#REF!"},{"$error":"#REF!"}]
["DEA0725",3.6,3,{"$f":"VLOOKUP(A:A,#REF!,2,FALSE)","v":{"$error":"#REF!"}},{"$f":"VLOOKUP(A:A,#REF!,3,FALSE)","v":{"$error":"#REF!"}},{"$error":"#REF!"},{"$error":"#REF!"}]
["DEA0834",1.28,1.06,{"$f":"VLOOKUP(A:A,#REF!,2,FALSE)","v":{"$error":"#REF!"}},{"$f":"VLOOKUP(A:A,#REF!,3,FALSE)","v":{"$error":"#REF!"}},{"$error":"#REF!"},{"$error":"#REF!"}]
["DEA0834L",3.52,2.93,{"$f":"VLOOKUP(A:A,#REF!,2,FALSE)","v":{"$error":"#REF!"}},{"$f":"VLOOKUP(A:A,#REF!,3,FALSE)","v":{"$error":"#REF!"}},{"$error":"#REF!"},{"$error":"#REF!"}]
["DEA0850",4.4800000000000004,3.73,{"$f":"VLOOKUP(A:A,#REF!,2,FALSE)","v":{"$error":"#REF!"}},{"$f":"VLOOKUP(A:A,#REF!,3,FALSE)","v":{"$error":"#REF!"}},{"$error":"#REF!"},{"$error":"#REF!"}]
["DEA0851",8.9600000000000009,7.46,{"$f":"VLOOKUP(A:A,#REF!,2,FALSE)","v":{"$error":"#REF!"}},{"$f":"VLOOKUP(A:A,#REF!,3,FALSE)","v":{"$error":"#REF!"}},{"$error":"#REF!"},{"$error":"#REF!"}]
["DEA0936",1.1200000000000001,0.93,{"$f":"VLOOKUP(A:A,#REF!,2,FALSE)","v":{"$error":"#REF!"}},{"$f":"VLOOKUP(A:A,#REF!,3,FALSE)","v":{"$error":"#REF!"}},{"$error":"#REF!"},{"$error":"#REF!"}]
["DEH1001C",6,5.2,{"$f":"VLOOKUP(A:A,#REF!,2,FALSE)","v":{"$error":"#REF!"}},{"$f":"VLOOKUP(A:A,#REF!,3,FALSE)","v":{"$error":"#REF!"}},{"$error":"#REF!"},{"$error":"#REF!"}]
["DEH1003C",5,4.2,{"$f":"VLOOKUP(A:A,#REF!,2,FALSE)","v":{"$error":"#REF!"}},{"$f":"VLOOKUP(A:A,#REF!,3,FALSE)","v":{"$error":"#REF!"}},{"$error":"#REF!"},{"$error":"#REF!"}]
["DEH1720",2,2,{"$f":"VLOOKUP(A:A,#REF!,2,FALSE)","v":{"$error":"#REF!"}},{"$f":"VLOOKUP(A:A,#REF!,3,FALSE)","v":{"$error":"#REF!"}},{"$error":"#REF!"},{"$error":"#REF!"}]
["DEH1800",2,2,{"$f":"VLOOKUP(A:A,#REF!,2,FALSE)","v":{"$error":"#REF!"}},{"$f":"VLOOKUP(A:A,#REF!,3,FALSE)","v":{"$error":"#REF!"}},{"$error":"#REF!"},{"$error":"#REF!"}]
["DEH1800L",8,6.4,{"$f":"VLOOKUP(A:A,#REF!,2,FALSE)","v":{"$error":"#REF!"}},{"$f":"VLOOKUP(A:A,#REF!,3,FALSE)","v":{"$error":"#REF!"}},{"$error":"#REF!"},{"$error":"#REF!"}]
["DEH1802",1,1,{"$f":"VLOOKUP(A:A,#REF!,2,FALSE)","v":{"$error":"#REF!"}},{"$f":"VLOOKUP(A:A,#REF!,3,FALSE)","v":{"$error":"#REF!"}},{"$error":"#REF!"},{"$error":"#REF!"}]
["DEH1802L",12,9.6,{"$f":"VLOOKUP(A:A,#REF!,2,FALSE)","v":{"$error":"#REF!"}},{"$f":"VLOOKUP(A:A,#REF!,3,FALSE)","v":{"$error":"#REF!"}},{"$error":"#REF!"},{"$error":"#REF!"}]
["DEH2300",3,3,{"$f":"VLOOKUP(A:A,#REF!,2,FALSE)","v":{"$error":"#REF!"}},{"$f":"VLOOKUP(A:A,#REF!,3,FALSE)","v":{"$error":"#REF!"}},{"$error":"#REF!"},{"$error":"#REF!"}]
["DEH2400",3,3,{"$f":"VLOOKUP(A:A,#REF!,2,FALSE)","v":{"$error":"#REF!"}},{"$f":"VLOOKUP(A:A,#REF!,3,FALSE)","v":{"$error":"#REF!"}},{"$error":"#REF!"},{"$error":"#REF!"}]
["DEH2530",1,1,{"$f":"VLOOKUP(A:A,#REF!,2,FALSE)","v":{"$error":"#REF!"}},{"$f":"VLOOKUP(A:A,#REF!,3,FALSE)","v":{"$error":"#REF!"}},{"$error":"#REF!"},{"$error":"#REF!"}]
["DEH2530L",2,1.6,{"$f":"VLOOKUP(A:A,#REF!,2,FALSE)","v":{"$error":"#REF!"}},{"$f":"VLOOKUP(A:A,#REF!,3,FALSE)","v":{"$error":"#REF!"}},{"$error":"#REF!"},{"$error":"#REF!"}]
["DEH2602",3,3,{"$f":"VLOOKUP(A:A,#REF!,2,FALSE)","v":{"$error":"#REF!"}},{"$f":"VLOOKUP(A:A,#REF!,3,FALSE)","v":{"$error":"#REF!"}},{"$error":"#REF!"},{"$error":"#REF!"}]
["DEH2701",3,3,{"$f":"VLOOKUP(A:A,#REF!,2,FALSE)","v":{"$error":"#REF!"}},{"$f":"VLOOKUP(A:A,#REF!,3,FALSE)","v":{"$error":"#REF!"}},{"$error":"#REF!"},{"$error":"#REF!"}]
["DEH2701L",2,1.6,{"$f":"VLOOKUP(A:A,#REF!,2,FALSE)","v":{"$error":"#REF!"}},{"$f":"VLOOKUP(A:A,#REF!,3,FALSE)","v":{"$error":"#REF!"}},{"$error":"#REF!"},{"$error":"#REF!"}]
["DEH2804",1,1,{"$f":"VLOOKUP(A:A,#REF!,2,FALSE)","v":{"$error":"#REF!"}},{"$f":"VLOOKUP(A:A,#REF!,3,FALSE)","v":{"$error":"#REF!"}},{"$error":"#REF!"},{"$error":"#REF!"}]
["DEH2804L",12,9.6,{"$f":"VLOOKUP(A:A,#REF!,2,FALSE)","v":{"$error":"#REF!"}},{"$f":"VLOOKUP(A:A,#REF!,3,FALSE)","v":{"$error":"#REF!"}},{"$error":"#REF!"},{"$error":"#REF!"}]
["DEH2806L",12,9.6,{"$f":"VLOOKUP(A:A,#REF!,2,FALSE)","v":{"$error":"#REF!"}},{"$f":"VLOOKUP(A:A,#REF!,3,FALSE)","v":{"$error":"#REF!"}},{"$error":"#REF!"},{"$error":"#REF!"}]
["DEH2811",1,1,{"$f":"VLOOKUP(A:A,#REF!,2,FALSE)","v":{"$error":"#REF!"}},{"$f":"VLOOKUP(A:A,#REF!,3,FALSE)","v":{"$error":"#REF!"}},{"$error":"#REF!"},{"$error":"#REF!"}]
["DEH2821",1,1,{"$f":"VLOOKUP(A:A,#REF!,2,FALSE)","v":{"$error":"#REF!"}},{"$f":"VLOOKUP(A:A,#REF!,3,FALSE)","v":{"$error":"#REF!"}},{"$error":"#REF!"},{"$error":"#REF!"}]
["DEH2930",1,1,{"$f":"VLOOKUP(A:A,#REF!,2,FALSE)","v":{"$error":"#REF!"}},{"$f":"VLOOKUP(A:A,#REF!,3,FALSE)","v":{"$error":"#REF!"}},{"$error":"#REF!"},{"$error":"#REF!"}]
["DEP2002",3,3,{"$f":"VLOOKUP(A:A,#REF!,2,FALSE)","v":{"$error":"#REF!"}},{"$f":"VLOOKUP(A:A,#REF!,3,FALSE)","v":{"$error":"#REF!"}},{"$error":"#REF!"},{"$error":"#REF!"}]
["DEP2004",3,3,{"$f":"VLOOKUP(A:A,#REF!,2,FALSE)","v":{"$error":"#REF!"}},{"$f":"VLOOKUP(A:A,#REF!,3,FALSE)","v":{"$error":"#REF!"}},{"$error":"#REF!"},{"$error":"#REF!"}]
["DEP2302",3,3,{"$f":"VLOOKUP(A:A,#REF!,2,FALSE)","v":{"$error":"#REF!"}},{"$f":"VLOOKUP(A:A,#REF!,3,FALSE)","v":{"$error":"#REF!"}},{"$error":"#REF!"},{"$error":"#REF!"}]
["DEP2402",3,3,{"$f":"VLOOKUP(A:A,#REF!,2,FALSE)","v":{"$error":"#REF!"}},{"$f":"VLOOKUP(A:A,#REF!,3,FALSE)","v":{"$error":"#REF!"}},{"$error":"#REF!"},{"$error":"#REF!"}]
["DES0021",2.4,2,{"$f":"VLOOKUP(A:A,#REF!,2,FALSE)","v":{"$error":"#REF!"}},{"$f":"VLOOKUP(A:A,#REF!,3,FALSE)","v":{"$error":"#REF!"}},{"$f":"B1220-D1220","v":{"$error":"#REF!"}},{"$f":"C1220-E1220","v":{"$error":"#REF!"}}]
["DES0053",1.28,0.88,{"$f":"VLOOKUP(A:A,#REF!,2,FALSE)","v":{"$error":"#REF!"}},{"$f":"VLOOKUP(A:A,#REF!,3,FALSE)","v":{"$error":"#REF!"}},{"$error":"#REF!"},{"$error":"#REF!"}]
["DES0103",1.2,1,{"$f":"VLOOKUP(A:A,#REF!,2,FALSE)","v":{"$error":"#REF!"}},{"$f":"VLOOKUP(A:A,#REF!,3,FALSE)","v":{"$error":"#REF!"}},{"$error":"#REF!"},{"$error":"#REF!"}]
["DES0103L",1.36,1.1299999999999999,{"$f":"VLOOKUP(A:A,#REF!,2,FALSE)","v":{"$error":"#REF!"}},{"$f":"VLOOKUP(A:A,#REF!,3,FALSE)","v":{"$error":"#REF!"}},{"$error":"#REF!"},{"$error":"#REF!"}]
["DES0205",1.2,1,{"$f":"VLOOKUP(A:A,#REF!,2,FALSE)","v":{"$error":"#REF!"}},{"$f":"VLOOKUP(A:A,#REF!,3,FALSE)","v":{"$error":"#REF!"}},{"$error":"#REF!"},{"$error":"#REF!"}]
["DES0205L",2,1.66,{"$f":"VLOOKUP(A:A,#REF!,2,FALSE)","v":{"$error":"#REF!"}},{"$f":"VLOOKUP(A:A,#REF!,3,FALSE)","v":{"$error":"#REF!"}},{"$error":"#REF!"},{"$error":"#REF!"}]
["DES0206",1.28,1.06,{"$f":"VLOOKUP(A:A,#REF!,2,FALSE)","v":{"$error":"#REF!"}},{"$f":"VLOOKUP(A:A,#REF!,3,FALSE)","v":{"$error":"#REF!"}},{"$error":"#REF!"},{"$error":"#REF!"}]
["DES0206L",1.28,1.06,{"$f":"VLOOKUP(A:A,#REF!,2,FALSE)","v":{"$error":"#REF!"}},{"$f":"VLOOKUP(A:A,#REF!,3,FALSE)","v":{"$error":"#REF!"}},{"$error":"#REF!"},{"$error":"#REF!"}]
["DES0501",1.28,1.06,{"$f":"VLOOKUP(A:A,#REF!,2,FALSE)","v":{"$error":"#REF!"}},{"$f":"VLOOKUP(A:A,#REF!,3,FALSE)","v":{"$error":"#REF!"}},{"$error":"#REF!"},{"$error":"#REF!"}]
["DES1000",1,1,{"$f":"VLOOKUP(A:A,#REF!,2,FALSE)","v":{"$error":"#REF!"}},{"$f":"VLOOKUP(A:A,#REF!,3,FALSE)","v":{"$error":"#REF!"}},{"$error":"#REF!"},{"$error":"#REF!"}]
["DES1000L",2,1.6,{"$f":"VLOOKUP(A:A,#REF!,2,FALSE)","v":{"$error":"#REF!"}},{"$f":"VLOOKUP(A:A,#REF!,3,FALSE)","v":{"$error":"#REF!"}},{"$error":"#REF!"},{"$error":"#REF!"}]
["DES1010",1,1,{"$f":"VLOOKUP(A:A,#REF!,2,FALSE)","v":{"$error":"#REF!"}},{"$f":"VLOOKUP(A:A,#REF!,3,FALSE)","v":{"$error":"#REF!"}},{"$error":"#REF!"},{"$error":"#REF!"}]
["DES1030",1,1,{"$f":"VLOOKUP(A:A,#REF!,2,FALSE)","v":{"$error":"#REF!"}},{"$f":"VLOOKUP(A:A,#REF!,3,FALSE)","v":{"$error":"#REF!"}},{"$error":"#REF!"},{"$error":"#REF!"}]
["DES1100",1,1,{"$f":"VLOOKUP(A:A,#REF!,2,FALSE)","v":{"$error":"#REF!"}},{"$f":"VLOOKUP(A:A,#REF!,3,FALSE)","v":{"$error":"#REF!"}},{"$error":"#REF!"},{"$error":"#REF!"}]
["DES1101L",2,1.6,{"$f":"VLOOKUP(A:A,#REF!,2,FALSE)","v":{"$error":"#REF!"}},{"$f":"VLOOKUP(A:A,#REF!,3,FALSE)","v":{"$error":"#REF!"}},{"$error":"#REF!"},{"$error":"#REF!"}]
["DES1200",3,3,{"$f":"VLOOKUP(A:A,#REF!,2,FALSE)","v":{"$error":"#REF!"}},{"$f":"VLOOKUP(A:A,#REF!,3,FALSE)","v":{"$error":"#REF!"}},{"$error":"#REF!"},{"$error":"#REF!"}]
["DES1200L",2,1.6,{"$f":"VLOOKUP(A:A,#REF!,2,FALSE)","v":{"$error":"#REF!"}},{"$f":"VLOOKUP(A:A,#REF!,3,FALSE)","v":{"$error":"#REF!"}},{"$error":"#REF!"},{"$error":"#REF!"}]
["DES1600",1,1,{"$f":"VLOOKUP(A:A,#REF!,2,FALSE)","v":{"$error":"#REF!"}},{"$f":"VLOOKUP(A:A,#REF!,3,FALSE)","v":{"$error":"#REF!"}},{"$error":"#REF!"},{"$error":"#REF!"}]
["DES1600L",2,1.6,{"$f":"VLOOKUP(A:A,#REF!,2,FALSE)","v":{"$error":"#REF!"}},{"$f":"VLOOKUP(A:A,#REF!,3,FALSE)","v":{"$error":"#REF!"}},{"$error":"#REF!"},{"$error":"#REF!"}]
["DES2710",2,2,{"$f":"VLOOKUP(A:A,#REF!,2,FALSE)","v":{"$error":"#REF!"}},{"$f":"VLOOKUP(A:A,#REF!,3,FALSE)","v":{"$error":"#REF!"}},{"$error":"#REF!"},{"$error":"#REF!"}]
["DIG2100C",4,4,{"$f":"VLOOKUP(A:A,#REF!,2,FALSE)","v":{"$error":"#REF!"}},{"$f":"VLOOKUP(A:A,#REF!,3,FALSE)","v":{"$error":"#REF!"}},{"$error":"#REF!"},{"$error":"#REF!"}]
["DIG2105C",4,4,{"$f":"VLOOKUP(A:A,#REF!,2,FALSE)","v":{"$error":"#REF!"}},{"$f":"VLOOKUP(A:A,#REF!,3,FALSE)","v":{"$error":"#REF!"}},{"$error":"#REF!"},{"$error":"#REF!"}]
["DIG2109C",4,4,{"$f":"VLOOKUP(A:A,#REF!,2,FALSE)","v":{"$error":"#REF!"}},{"$f":"VLOOKUP(A:A,#REF!,3,FALSE)","v":{"$error":"#REF!"}},{"$error":"#REF!"},{"$error":"#REF!"}]
["DIG2132C",4,3.7,{"$f":"VLOOKUP(A:A,#REF!,2,FALSE)","v":{"$error":"#REF!"}},{"$f":"VLOOKUP(A:A,#REF!,3,FALSE)","v":{"$error":"#REF!"}},{"$error":"#REF!"},{"$error":"#REF!"}]
["DIG2142C",4,4,{"$f":"VLOOKUP(A:A,#REF!,2,FALSE)","v":{"$error":"#REF!"}},{"$f":"VLOOKUP(A:A,#REF!,3,FALSE)","v":{"$error":"#REF!"}},{"$error":"#REF!"},{"$error":"#REF!"}]
["DIG2201C",4,3.4,{"$f":"VLOOKUP(A:A,#REF!,2,FALSE)","v":{"$error":"#REF!"}},{"$f":"VLOOKUP(A:A,#REF!,3,FALSE)","v":{"$error":"#REF!"}},{"$error":"#REF!"},{"$error":"#REF!"}]
["DIG2251C",4,4,{"$f":"VLOOKUP(A:A,#REF!,2,FALSE)","v":{"$error":"#REF!"}},{"$f":"VLOOKUP(A:A,#REF!,3,FALSE)","v":{"$error":"#REF!"}},{"$error":"#REF!"},{"$error":"#REF!"}]
["DIG2282C",4,4,{"$f":"VLOOKUP(A:A,#REF!,2,FALSE)","v":{"$error":"#REF!"}},{"$f":"VLOOKUP(A:A,#REF!,3,FALSE)","v":{"$error":"#REF!"}},{"$error":"#REF!"},{"$error":"#REF!"}]
["DIG2302",4,3.7,{"$f":"VLOOKUP(A:A,#REF!,2,FALSE)","v":{"$error":"#REF!"}},{"$f":"VLOOKUP(A:A,#REF!,3,FALSE)","v":{"$error":"#REF!"}},{"$error":"#REF!"},{"$error":"#REF!"}]
["DIG2341",4,3.7,{"$f":"VLOOKUP(A:A,#REF!,2,FALSE)","v":{"$error":"#REF!"}},{"$f":"VLOOKUP(A:A,#REF!,3,FALSE)","v":{"$error":"#REF!"}},{"$error":"#REF!"},{"$error":"#REF!"}]
["DIG3153",3,3,{"$f":"VLOOKUP(A:A,#REF!,2,FALSE)","v":{"$error":"#REF!"}},{"$f":"VLOOKUP(A:A,#REF!,3,FALSE)","v":{"$error":"#REF!"}},{"$error":"#REF!"},{"$error":"#REF!"}]
["DIG3255C",4,4,{"$f":"VLOOKUP(A:A,#REF!,2,FALSE)","v":{"$error":"#REF!"}},{"$f":"VLOOKUP(A:A,#REF!,3,FALSE)","v":{"$error":"#REF!"}},{"$error":"#REF!"},{"$error":"#REF!"}]
["DIG3286C",4,4,{"$f":"VLOOKUP(A:A,#REF!,2,FALSE)","v":{"$error":"#REF!"}},{"$f":"VLOOKUP(A:A,#REF!,3,FALSE)","v":{"$error":"#REF!"}},{"$error":"#REF!"},{"$error":"#REF!"}]
["DIG3305C",4,4,{"$f":"VLOOKUP(A:A,#REF!,2,FALSE)","v":{"$error":"#REF!"}},{"$f":"VLOOKUP(A:A,#REF!,3,FALSE)","v":{"$error":"#REF!"}},{"$error":"#REF!"},{"$error":"#REF!"}]
["DIG3354C",4,4,{"$f":"VLOOKUP(A:A,#REF!,2,FALSE)","v":{"$error":"#REF!"}},{"$f":"VLOOKUP(A:A,#REF!,3,FALSE)","v":{"$error":"#REF!"}},{"$error":"#REF!"},{"$error":"#REF!"}]
["DIG3355C",4,3.7,{"$f":"VLOOKUP(A:A,#REF!,2,FALSE)","v":{"$error":"#REF!"}},{"$f":"VLOOKUP(A:A,#REF!,3,FALSE)","v":{"$error":"#REF!"}},{"$error":"#REF!"},{"$error":"#REF!"}]
["DIG3433C",4,4,{"$f":"VLOOKUP(A:A,#REF!,2,FALSE)","v":{"$error":"#REF!"}},{"$f":"VLOOKUP(A:A,#REF!,3,FALSE)","v":{"$error":"#REF!"}},{"$error":"#REF!"},{"$error":"#REF!"}]
["DIG3603C",4,4,{"$f":"VLOOKUP(A:A,#REF!,2,FALSE)","v":{"$error":"#REF!"}},{"$f":"VLOOKUP(A:A,#REF!,3,FALSE)","v":{"$error":"#REF!"}},{"$error":"#REF!"},{"$error":"#REF!"}]
["DIG3823C",4,4,{"$f":"VLOOKUP(A:A,#REF!,2,FALSE)","v":{"$error":"#REF!"}},{"$f":"VLOOKUP(A:A,#REF!,3,FALSE)","v":{"$error":"#REF!"}},{"$error":"#REF!"},{"$error":"#REF!"}]
["DIG3930C",4,4,{"$f":"VLOOKUP(A:A,#REF!,2,FALSE)","v":{"$error":"#REF!"}},{"$f":"VLOOKUP(A:A,#REF!,3,FALSE)","v":{"$error":"#REF!"}},{"$error":"#REF!"},{"$error":"#REF!"}]
["DIG3940",0.01,0.01,{"$f":"VLOOKUP(A:A,#REF!,2,FALSE)","v":{"$error":"#REF!"}},{"$f":"VLOOKUP(A:A,#REF!,3,FALSE)","v":{"$error":"#REF!"}},{"$error":"#REF!"},{"$error":"#REF!"}]
["DIG4144C",4,4,{"$f":"VLOOKUP(A:A,#REF!,2,FALSE)","v":{"$error":"#REF!"}},{"$f":"VLOOKUP(A:A,#REF!,3,FALSE)","v":{"$error":"#REF!"}},{"$error":"#REF!"},{"$error":"#REF!"}]
["DIG4373C",4,3.07,{"$f":"VLOOKUP(A:A,#REF!,2,FALSE)","v":{"$error":"#REF!"}},{"$f":"VLOOKUP(A:A,#REF!,3,FALSE)","v":{"$error":"#REF!"}},{"$error":"#REF!"},{"$error":"#REF!"}]
["DIG4781C",4,4,{"$f":"VLOOKUP(A:A,#REF!,2,FALSE)","v":{"$error":"#REF!"}},{"$f":"VLOOKUP(A:A,#REF!,3,FALSE)","v":{"$error":"#REF!"}},{"$error":"#REF!"},{"$error":"#REF!"}]
["DIG4855",3,3,{"$f":"VLOOKUP(A:A,#REF!,2,FALSE)","v":{"$error":"#REF!"}},{"$f":"VLOOKUP(A:A,#REF!,3,FALSE)","v":{"$error":"#REF!"}},{"$error":"#REF!"},{"$error":"#REF!"}]
["DIM0004",3.6,3,{"$f":"VLOOKUP(A:A,#REF!,2,FALSE)","v":{"$error":"#REF!"}},{"$f":"VLOOKUP(A:A,#REF!,3,FALSE)","v":{"$error":"#REF!"}},{"$error":"#REF!"},{"$error":"#REF!"}]
["DIM0005",3.6,3,{"$f":"VLOOKUP(A:A,#REF!,2,FALSE)","v":{"$error":"#REF!"}},{"$f":"VLOOKUP(A:A,#REF!,3,FALSE)","v":{"$error":"#REF!"}},{"$error":"#REF!"},{"$error":"#REF!"}]
["DIM0111",3.6,3,{"$f":"VLOOKUP(A:A,#REF!,2,FALSE)","v":{"$error":"#REF!"}},{"$f":"VLOOKUP(A:A,#REF!,3,FALSE)","v":{"$error":"#REF!"}},{"$error":"#REF!"},{"$error":"#REF!"}]
["DIM0111L",3.6,3,{"$f":"VLOOKUP(A:A,#REF!,2,FALSE)","v":{"$error":"#REF!"}},{"$f":"VLOOKUP(A:A,#REF!,3,FALSE)","v":{"$error":"#REF!"}},{"$error":"#REF!"},{"$error":"#REF!"}]
["DIM0220",3,3,{"$f":"VLOOKUP(A:A,#REF!,2,FALSE)","v":{"$error":"#REF!"}},{"$f":"VLOOKUP(A:A,#REF!,3,FALSE)","v":{"$error":"#REF!"}},{"$error":"#REF!"},{"$error":"#REF!"}]
["DIM0301",3.6,3,{"$f":"VLOOKUP(A:A,#REF!,2,FALSE)","v":{"$error":"#REF!"}},{"$f":"VLOOKUP(A:A,#REF!,3,FALSE)","v":{"$error":"#REF!"}},{"$error":"#REF!"},{"$error":"#REF!"}]
["DIM0500",3.6,3,{"$f":"VLOOKUP(A:A,#REF!,2,FALSE)","v":{"$error":"#REF!"}},{"$f":"VLOOKUP(A:A,#REF!,3,FALSE)","v":{"$error":"#REF!"}},{"$error":"#REF!"},{"$error":"#REF!"}]
["DIM0610",3.6,3,{"$f":"VLOOKUP(A:A,#REF!,2,FALSE)","v":{"$error":"#REF!"}},{"$f":"VLOOKUP(A:A,#REF!,3,FALSE)","v":{"$error":"#REF!"}},{"$error":"#REF!"},{"$error":"#REF!"}]
["DIM0801",3.6,3,{"$f":"VLOOKUP(A:A,#REF!,2,FALSE)","v":{"$error":"#REF!"}},{"$f":"VLOOKUP(A:A,#REF!,3,FALSE)","v":{"$error":"#REF!"}},{"$error":"#REF!"},{"$error":"#REF!"}]
["DIM0802L",3.6,3,{"$f":"VLOOKUP(A:A,#REF!,2,FALSE)","v":{"$error":"#REF!"}},{"$f":"VLOOKUP(A:A,#REF!,3,FALSE)","v":{"$error":"#REF!"}},{"$error":"#REF!"},{"$error":"#REF!"}]
["DIM0803L",2.4,2,{"$f":"VLOOKUP(A:A,#REF!,2,FALSE)","v":{"$error":"#REF!"}},{"$f":"VLOOKUP(A:A,#REF!,3,FALSE)","v":{"$error":"#REF!"}},{"$error":"#REF!"},{"$error":"#REF!"}]
["DIM0842",3.6,3,{"$f":"VLOOKUP(A:A,#REF!,2,FALSE)","v":{"$error":"#REF!"}},{"$f":"VLOOKUP(A:A,#REF!,3,FALSE)","v":{"$error":"#REF!"}},{"$error":"#REF!"},{"$error":"#REF!"}]
["DIM0940",4.8,4,{"$f":"VLOOKUP(A:A,#REF!,2,FALSE)","v":{"$error":"#REF!"}},{"$f":"VLOOKUP(A:A,#REF!,3,FALSE)","v":{"$error":"#REF!"}},{"$error":"#REF!"},{"$error":"#REF!"}]
["DIM0941",4.8,4,{"$f":"VLOOKUP(A:A,#REF!,2,FALSE)","v":{"$error":"#REF!"}},{"$f":"VLOOKUP(A:A,#REF!,3,FALSE)","v":{"$error":"#REF!"}},{"$error":"#REF!"},{"$error":"#REF!"}]
["DIM0942",6,5,{"$f":"VLOOKUP(A:A,#REF!,2,FALSE)","v":{"$error":"#REF!"}},{"$f":"VLOOKUP(A:A,#REF!,3,FALSE)","v":{"$error":"#REF!"}},{"$error":"#REF!"},{"$error":"#REF!"}]
["DIM0943",14.4,12,{"$f":"VLOOKUP(A:A,#REF!,2,FALSE)","v":{"$error":"#REF!"}},{"$f":"VLOOKUP(A:A,#REF!,3,FALSE)","v":{"$error":"#REF!"}},{"$error":"#REF!"},{"$error":"#REF!"}]
["DSC1004",3,3,{"$f":"VLOOKUP(A:A,#REF!,2,FALSE)","v":{"$error":"#REF!"}},{"$f":"VLOOKUP(A:A,#REF!,3,FALSE)","v":{"$error":"#REF!"}},{"$error":"#REF!"},{"$error":"#REF!"}]
["DSC1006",3,3,{"$f":"VLOOKUP(A:A,#REF!,2,FALSE)","v":{"$error":"#REF!"}},{"$f":"VLOOKUP(A:A,#REF!,3,FALSE)","v":{"$error":"#REF!"}},{"$error":"#REF!"},{"$error":"#REF!"}]
["DSC1011",3,3,{"$f":"VLOOKUP(A:A,#REF!,2,FALSE)","v":{"$error":"#REF!"}},{"$f":"VLOOKUP(A:A,#REF!,3,FALSE)","v":{"$error":"#REF!"}},{"$error":"#REF!"},{"$error":"#REF!"}]
["DSC1222",3,3,{"$f":"VLOOKUP(A:A,#REF!,2,FALSE)","v":{"$error":"#REF!"}},{"$f":"VLOOKUP(A:A,#REF!,3,FALSE)","v":{"$error":"#REF!"}},{"$f":"B1284-D1284","v":{"$error":"#REF!"}},{"$f":"C1284-E1284","v":{"$error":"#REF!"}}]
["DSC1552",3,3,{"$f":"VLOOKUP(A:A,#REF!,2,FALSE)","v":{"$error":"#REF!"}},{"$f":"VLOOKUP(A:A,#REF!,3,FALSE)","v":{"$error":"#REF!"}},{"$error":"#REF!"},{"$error":"#REF!"}]
["DSC1562",3,3,{"$f":"VLOOKUP(A:A,#REF!,2,FALSE)","v":{"$error":"#REF!"}},{"$f":"VLOOKUP(A:A,#REF!,3,FALSE)","v":{"$error":"#REF!"}},{"$error":"#REF!"},{"$error":"#REF!"}]
["DSC1631",3,3,{"$f":"VLOOKUP(A:A,#REF!,2,FALSE)","v":{"$error":"#REF!"}},{"$f":"VLOOKUP(A:A,#REF!,3,FALSE)","v":{"$error":"#REF!"}},{"$error":"#REF!"},{"$error":"#REF!"}]
["DSC1751",3,3,{"$f":"VLOOKUP(A:A,#REF!,2,FALSE)","v":{"$error":"#REF!"}},{"$f":"VLOOKUP(A:A,#REF!,3,FALSE)","v":{"$error":"#REF!"}},{"$error":"#REF!"},{"$error":"#REF!"}]
["DSC2212",3,3,{"$f":"VLOOKUP(A:A,#REF!,2,FALSE)","v":{"$error":"#REF!"}},{"$f":"VLOOKUP(A:A,#REF!,3,FALSE)","v":{"$error":"#REF!"}},{"$error":"#REF!"},{"$error":"#REF!"}]
["DSC2242",3,3,{"$f":"VLOOKUP(A:A,#REF!,2,FALSE)","v":{"$error":"#REF!"}},{"$f":"VLOOKUP(A:A,#REF!,3,FALSE)","v":{"$error":"#REF!"}},{"$error":"#REF!"},{"$error":"#REF!"}]
["DSC2570",3,3,{"$f":"VLOOKUP(A:A,#REF!,2,FALSE)","v":{"$error":"#REF!"}},{"$f":"VLOOKUP(A:A,#REF!,3,FALSE)","v":{"$error":"#REF!"}},{"$error":"#REF!"},{"$error":"#REF!"}]
["DSC2590",3,3,{"$f":"VLOOKUP(A:A,#REF!,2,FALSE)","v":{"$error":"#REF!"}},{"$f":"VLOOKUP(A:A,#REF!,3,FALSE)","v":{"$error":"#REF!"}},{"$error":"#REF!"},{"$error":"#REF!"}]
["DSC2701",3,3,{"$f":"VLOOKUP(A:A,#REF!,2,FALSE)","v":{"$error":"#REF!"}},{"$f":"VLOOKUP(A:A,#REF!,3,FALSE)","v":{"$error":"#REF!"}},{"$error":"#REF!"},{"$error":"#REF!"}]
["DSC3079",3,3,{"$f":"VLOOKUP(A:A,#REF!,2,FALSE)","v":{"$error":"#REF!"}},{"$f":"VLOOKUP(A:A,#REF!,3,FALSE)","v":{"$error":"#REF!"}},{"$error":"#REF!"},{"$error":"#REF!"}]
["DSC3226",3,3,{"$f":"VLOOKUP(A:A,#REF!,2,FALSE)","v":{"$error":"#REF!"}},{"$f":"VLOOKUP(A:A,#REF!,3,FALSE)","v":{"$error":"#REF!"}},{"$error":"#REF!"},{"$error":"#REF!"}]
["DSC3931",3,3,{"$f":"VLOOKUP(A:A,#REF!,2,FALSE)","v":{"$error":"#REF!"}},{"$f":"VLOOKUP(A:A,#REF!,3,FALSE)","v":{"$error":"#REF!"}},{"$error":"#REF!"},{"$error":"#REF!"}]
["DSC3949",0.01,0.01,{"$f":"VLOOKUP(A:A,#REF!,2,FALSE)","v":{"$error":"#REF!"}},{"$f":"VLOOKUP(A:A,#REF!,3,FALSE)","v":{"$error":"#REF!"}},{"$error":"#REF!"},{"$error":"#REF!"}]
["DSC4016",3,3,{"$f":"VLOOKUP(A:A,#REF!,2,FALSE)","v":{"$error":"#REF!"}},{"$f":"VLOOKUP(A:A,#REF!,3,FALSE)","v":{"$error":"#REF!"}},{"$error":"#REF!"},{"$error":"#REF!"}]
["DSC4214",3,3,{"$f":"VLOOKUP(A:A,#REF!,2,FALSE)","v":{"$error":"#REF!"}},{"$f":"VLOOKUP(A:A,#REF!,3,FALSE)","v":{"$error":"#REF!"}},{"$error":"#REF!"},{"$error":"#REF!"}]
["DSC4710",3,3,{"$f":"VLOOKUP(A:A,#REF!,2,FALSE)","v":{"$error":"#REF!"}},{"$f":"VLOOKUP(A:A,#REF!,3,FALSE)","v":{"$error":"#REF!"}},{"$error":"#REF!"},{"$error":"#REF!"}]
["EAP0400",3,3,{"$f":"VLOOKUP(A:A,#REF!,2,FALSE)","v":{"$error":"#REF!"}},{"$f":"VLOOKUP(A:A,#REF!,3,FALSE)","v":{"$error":"#REF!"}},{"$error":"#REF!"},{"$error":"#REF!"}]
["EAP0420",3,3,{"$f":"VLOOKUP(A:A,#REF!,2,FALSE)","v":{"$error":"#REF!"}},{"$f":"VLOOKUP(A:A,#REF!,3,FALSE)","v":{"$error":"#REF!"}},{"$error":"#REF!"},{"$error":"#REF!"}]
["EAP0440",3,3,{"$f":"VLOOKUP(A:A,#REF!,2,FALSE)","v":{"$error":"#REF!"}},{"$f":"VLOOKUP(A:A,#REF!,3,FALSE)","v":{"$error":"#REF!"}},{"$error":"#REF!"},{"$error":"#REF!"}]
["EAP0460",3,3,{"$f":"VLOOKUP(A:A,#REF!,2,FALSE)","v":{"$error":"#REF!"}},{"$f":"VLOOKUP(A:A,#REF!,3,FALSE)","v":{"$error":"#REF!"}},{"$error":"#REF!"},{"$error":"#REF!"}]
["EAP1500",3,3,{"$f":"VLOOKUP(A:A,#REF!,2,FALSE)","v":{"$error":"#REF!"}},{"$f":"VLOOKUP(A:A,#REF!,3,FALSE)","v":{"$error":"#REF!"}},{"$error":"#REF!"},{"$error":"#REF!"}]
["EAP1520",3,3,{"$f":"VLOOKUP(A:A,#REF!,2,FALSE)","v":{"$error":"#REF!"}},{"$f":"VLOOKUP(A:A,#REF!,3,FALSE)","v":{"$error":"#REF!"}},{"$error":"#REF!"},{"$error":"#REF!"}]
["EAP1540",3,3,{"$f":"VLOOKUP(A:A,#REF!,2,FALSE)","v":{"$error":"#REF!"}},{"$f":"VLOOKUP(A:A,#REF!,3,FALSE)","v":{"$error":"#REF!"}},{"$error":"#REF!"},{"$error":"#REF!"}]
["EAP1560",3,3,{"$f":"VLOOKUP(A:A,#REF!,2,FALSE)","v":{"$error":"#REF!"}},{"$f":"VLOOKUP(A:A,#REF!,3,FALSE)","v":{"$error":"#REF!"}},{"$error":"#REF!"},{"$error":"#REF!"}]
["EAP1600",3,3,{"$f":"VLOOKUP(A:A,#REF!,2,FALSE)","v":{"$error":"#REF!"}},{"$f":"VLOOKUP(A:A,#REF!,3,FALSE)","v":{"$error":"#REF!"}},{"$error":"#REF!"},{"$error":"#REF!"}]
["EAP1620",3,3,{"$f":"VLOOKUP(A:A,#REF!,2,FALSE)","v":{"$error":"#REF!"}},{"$f":"VLOOKUP(A:A,#REF!,3,FALSE)","v":{"$error":"#REF!"}},{"$error":"#REF!"},{"$error":"#REF!"}]
["EAP1640",3,3,{"$f":"VLOOKUP(A:A,#REF!,2,FALSE)","v":{"$error":"#REF!"}},{"$f":"VLOOKUP(A:A,#REF!,3,FALSE)","v":{"$error":"#REF!"}},{"$error":"#REF!"},{"$error":"#REF!"},"REMOVE?"]
["EAP1660",3,3,{"$f":"VLOOKUP(A:A,#REF!,2,FALSE)","v":{"$error":"#REF!"}},{"$f":"VLOOKUP(A:A,#REF!,3,FALSE)","v":{"$error":"#REF!"}},{"$error":"#REF!"},{"$error":"#REF!"}]
["ECO1931",1,1,{"$f":"VLOOKUP(A:A,#REF!,2,FALSE)","v":{"$error":"#REF!"}},{"$f":"VLOOKUP(A:A,#REF!,3,FALSE)","v":{"$error":"#REF!"}},{"$error":"#REF!"},{"$error":"#REF!"}]
["ECO2013",3,3,{"$f":"VLOOKUP(A:A,#REF!,2,FALSE)","v":{"$error":"#REF!"}},{"$f":"VLOOKUP(A:A,#REF!,3,FALSE)","v":{"$error":"#REF!"}},{"$error":"#REF!"},{"$error":"#REF!"}]
["ECO2023",3,3,{"$f":"VLOOKUP(A:A,#REF!,2,FALSE)","v":{"$error":"#REF!"}},{"$f":"VLOOKUP(A:A,#REF!,3,FALSE)","v":{"$error":"#REF!"}},{"$error":"#REF!"},{"$error":"#REF!"}]
["EDE2221",3,3,{"$f":"VLOOKUP(A:A,#REF!,2,FALSE)","v":{"$error":"#REF!"}},{"$f":"VLOOKUP(A:A,#REF!,3,FALSE)","v":{"$error":"#REF!"}},{"$error":"#REF!"},{"$error":"#REF!"}]
["EDF1005",3,3,{"$f":"VLOOKUP(A:A,#REF!,2,FALSE)","v":{"$error":"#REF!"}},{"$f":"VLOOKUP(A:A,#REF!,3,FALSE)","v":{"$error":"#REF!"}},{"$error":"#REF!"},{"$error":"#REF!"}]
["EDF2085",3,3,{"$f":"VLOOKUP(A:A,#REF!,2,FALSE)","v":{"$error":"#REF!"}},{"$f":"VLOOKUP(A:A,#REF!,3,FALSE)","v":{"$error":"#REF!"}},{"$error":"#REF!"},{"$error":"#REF!"}]
["EDG2940",3.01,3.01,{"$f":"VLOOKUP(A:A,#REF!,2,FALSE)","v":{"$error":"#REF!"}},{"$f":"VLOOKUP(A:A,#REF!,3,FALSE)","v":{"$error":"#REF!"}},{"$error":"#REF!"},{"$error":"#REF!"}]
["EDG2941",3.01,3.01,{"$f":"VLOOKUP(A:A,#REF!,2,FALSE)","v":{"$error":"#REF!"}},{"$f":"VLOOKUP(A:A,#REF!,3,FALSE)","v":{"$error":"#REF!"}},{"$error":"#REF!"},{"$error":"#REF!"}]
["EDG4330",3,3,{"$f":"VLOOKUP(A:A,#REF!,2,FALSE)","v":{"$error":"#REF!"}},{"$f":"VLOOKUP(A:A,#REF!,3,FALSE)","v":{"$error":"#REF!"}},{"$error":"#REF!"},{"$error":"#REF!"}]
["EDG4410",3,3,{"$f":"VLOOKUP(A:A,#REF!,2,FALSE)","v":{"$error":"#REF!"}},{"$f":"VLOOKUP(A:A,#REF!,3,FALSE)","v":{"$error":"#REF!"}},{"$error":"#REF!"},{"$error":"#REF!"}]
["EDG4930",3,3,{"$f":"VLOOKUP(A:A,#REF!,2,FALSE)","v":{"$error":"#REF!"}},{"$f":"VLOOKUP(A:A,#REF!,3,FALSE)","v":{"$error":"#REF!"}},{"$error":"#REF!"},{"$error":"#REF!"}]
["EDP2002",3,3,{"$f":"VLOOKUP(A:A,#REF!,2,FALSE)","v":{"$error":"#REF!"}},{"$f":"VLOOKUP(A:A,#REF!,3,FALSE)","v":{"$error":"#REF!"}},{"$error":"#REF!"},{"$error":"#REF!"}]
["EEC1001",3,3,{"$f":"VLOOKUP(A:A,#REF!,2,FALSE)","v":{"$error":"#REF!"}},{"$f":"VLOOKUP(A:A,#REF!,3,FALSE)","v":{"$error":"#REF!"}},{"$error":"#REF!"},{"$error":"#REF!"}]
["EEC1200",3,3,{"$f":"VLOOKUP(A:A,#REF!,2,FALSE)","v":{"$error":"#REF!"}},{"$f":"VLOOKUP(A:A,#REF!,3,FALSE)","v":{"$error":"#REF!"}},{"$error":"#REF!"},{"$error":"#REF!"}]
["EEC1202",3,3,{"$f":"VLOOKUP(A:A,#REF!,2,FALSE)","v":{"$error":"#REF!"}},{"$f":"VLOOKUP(A:A,#REF!,3,FALSE)","v":{"$error":"#REF!"}},{"$error":"#REF!"},{"$error":"#REF!"}]
["EEC2520",3,3,{"$f":"VLOOKUP(A:A,#REF!,2,FALSE)","v":{"$error":"#REF!"}},{"$f":"VLOOKUP(A:A,#REF!,3,FALSE)","v":{"$error":"#REF!"}},{"$error":"#REF!"},{"$error":"#REF!"}]
["EEC2523",3,3,{"$f":"VLOOKUP(A:A,#REF!,2,FALSE)","v":{"$error":"#REF!"}},{"$f":"VLOOKUP(A:A,#REF!,3,FALSE)","v":{"$error":"#REF!"}},{"$error":"#REF!"},{"$error":"#REF!"}]
["EEC2526",3,3,{"$f":"VLOOKUP(A:A,#REF!,2,FALSE)","v":{"$error":"#REF!"}},{"$f":"VLOOKUP(A:A,#REF!,3,FALSE)","v":{"$error":"#REF!"}},{"$error":"#REF!"},{"$error":"#REF!"}]
["EEC2527",3,3,{"$f":"VLOOKUP(A:A,#REF!,2,FALSE)","v":{"$error":"#REF!"}},{"$f":"VLOOKUP(A:A,#REF!,3,FALSE)","v":{"$error":"#REF!"}},{"$error":"#REF!"},{"$error":"#REF!"}]
["EEC3400",3,3,{"$f":"VLOOKUP(A:A,#REF!,2,FALSE)","v":{"$error":"#REF!"}},{"$f":"VLOOKUP(A:A,#REF!,3,FALSE)","v":{"$error":"#REF!"}},{"$error":"#REF!"},{"$error":"#REF!"}]
["EEC4219",3,3,{"$f":"VLOOKUP(A:A,#REF!,2,FALSE)","v":{"$error":"#REF!"}},{"$f":"VLOOKUP(A:A,#REF!,3,FALSE)","v":{"$error":"#REF!"}},{"$error":"#REF!"},{"$error":"#REF!"}]
["EEC4301",3,3,{"$f":"VLOOKUP(A:A,#REF!,2,FALSE)","v":{"$error":"#REF!"}},{"$f":"VLOOKUP(A:A,#REF!,3,FALSE)","v":{"$error":"#REF!"}},{"$error":"#REF!"},{"$error":"#REF!"}]
["EEC4404",3,3,{"$f":"VLOOKUP(A:A,#REF!,2,FALSE)","v":{"$error":"#REF!"}},{"$f":"VLOOKUP(A:A,#REF!,3,FALSE)","v":{"$error":"#REF!"}},{"$error":"#REF!"},{"$error":"#REF!"}]
["EEC4624",3,3,{"$f":"VLOOKUP(A:A,#REF!,2,FALSE)","v":{"$error":"#REF!"}},{"$f":"VLOOKUP(A:A,#REF!,3,FALSE)","v":{"$error":"#REF!"}},{"$error":"#REF!"},{"$error":"#REF!"}]
["EEC4706",3,3,{"$f":"VLOOKUP(A:A,#REF!,2,FALSE)","v":{"$error":"#REF!"}},{"$f":"VLOOKUP(A:A,#REF!,3,FALSE)","v":{"$error":"#REF!"}},{"$error":"#REF!"},{"$error":"#REF!"}]
["EEC4940C",4.01,4.01,{"$f":"VLOOKUP(A:A,#REF!,2,FALSE)","v":{"$error":"#REF!"}},{"$f":"VLOOKUP(A:A,#REF!,3,FALSE)","v":{"$error":"#REF!"}},{"$error":"#REF!"},{"$error":"#REF!"}]
["EEL2001",3,3,{"$f":"VLOOKUP(A:A,#REF!,2,FALSE)","v":{"$error":"#REF!"}},{"$f":"VLOOKUP(A:A,#REF!,3,FALSE)","v":{"$error":"#REF!"}},{"$error":"#REF!"},{"$error":"#REF!"}]
["EET1037C",4,3.7,{"$f":"VLOOKUP(A:A,#REF!,2,FALSE)","v":{"$error":"#REF!"}},{"$f":"VLOOKUP(A:A,#REF!,3,FALSE)","v":{"$error":"#REF!"}},{"$error":"#REF!"},{"$error":"#REF!"}]
["EET1084C",4,3.7,{"$f":"VLOOKUP(A:A,#REF!,2,FALSE)","v":{"$error":"#REF!"}},{"$f":"VLOOKUP(A:A,#REF!,3,FALSE)","v":{"$error":"#REF!"}},{"$error":"#REF!"},{"$error":"#REF!"}]
["EET1144C",4,3.7,{"$f":"VLOOKUP(A:A,#REF!,2,FALSE)","v":{"$error":"#REF!"}},{"$f":"VLOOKUP(A:A,#REF!,3,FALSE)","v":{"$error":"#REF!"}},{"$error":"#REF!"},{"$error":"#REF!"}]
["EEX2010",3,3,{"$f":"VLOOKUP(A:A,#REF!,2,FALSE)","v":{"$error":"#REF!"}},{"$f":"VLOOKUP(A:A,#REF!,3,FALSE)","v":{"$error":"#REF!"}},{"$error":"#REF!"},{"$error":"#REF!"}]
["EEX2013",3,3,{"$f":"VLOOKUP(A:A,#REF!,2,FALSE)","v":{"$error":"#REF!"}},{"$f":"VLOOKUP(A:A,#REF!,3,FALSE)","v":{"$error":"#REF!"}},{"$error":"#REF!"},{"$error":"#REF!"}]
["EEX4201",3,3,{"$f":"VLOOKUP(A:A,#REF!,2,FALSE)","v":{"$error":"#REF!"}},{"$f":"VLOOKUP(A:A,#REF!,3,FALSE)","v":{"$error":"#REF!"}},{"$error":"#REF!"},{"$error":"#REF!"}]
["EEX4231",3,3,{"$f":"VLOOKUP(A:A,#REF!,2,FALSE)","v":{"$error":"#REF!"}},{"$f":"VLOOKUP(A:A,#REF!,3,FALSE)","v":{"$error":"#REF!"}},{"$error":"#REF!"},{"$error":"#REF!"}]
["EGN1001C",3,2.4,{"$f":"VLOOKUP(A:A,#REF!,2,FALSE)","v":{"$error":"#REF!"}},{"$f":"VLOOKUP(A:A,#REF!,3,FALSE)","v":{"$error":"#REF!"}},{"$error":"#REF!"},{"$error":"#REF!"}]
["EGN2312",3,3,{"$f":"VLOOKUP(A:A,#REF!,2,FALSE)","v":{"$error":"#REF!"}},{"$f":"VLOOKUP(A:A,#REF!,3,FALSE)","v":{"$error":"#REF!"}},{"$f":"B1348-D1348","v":{"$error":"#REF!"}},{"$f":"C1348-E1348","v":{"$error":"#REF!"}}]
["ELL0110",0.8,0.8,{"$f":"VLOOKUP(A:A,#REF!,2,FALSE)","v":{"$error":"#REF!"}},{"$f":"VLOOKUP(A:A,#REF!,3,FALSE)","v":{"$error":"#REF!"}},{"$error":"#REF!"},{"$error":"#REF!"}]
["ELL0111",0.8,0.8,{"$f":"VLOOKUP(A:A,#REF!,2,FALSE)","v":{"$error":"#REF!"}},{"$f":"VLOOKUP(A:A,#REF!,3,FALSE)","v":{"$error":"#REF!"}},{"$error":"#REF!"},{"$error":"#REF!"}]
["ELL0112",1.6,1.6,{"$f":"VLOOKUP(A:A,#REF!,2,FALSE)","v":{"$error":"#REF!"}},{"$f":"VLOOKUP(A:A,#REF!,3,FALSE)","v":{"$error":"#REF!"}},{"$error":"#REF!"},{"$error":"#REF!"}]
["ELL0115",3,3,{"$f":"VLOOKUP(A:A,#REF!,2,FALSE)","v":{"$error":"#REF!"}},{"$f":"VLOOKUP(A:A,#REF!,3,FALSE)","v":{"$error":"#REF!"}},{"$error":"#REF!"},{"$error":"#REF!"}]
["ELL0116",3,3,{"$f":"VLOOKUP(A:A,#REF!,2,FALSE)","v":{"$error":"#REF!"}},{"$f":"VLOOKUP(A:A,#REF!,3,FALSE)","v":{"$error":"#REF!"}},{"$error":"#REF!"},{"$error":"#REF!"}]
["ELL0117",2.4,2.4,{"$f":"VLOOKUP(A:A,#REF!,2,FALSE)","v":{"$error":"#REF!"}},{"$f":"VLOOKUP(A:A,#REF!,3,FALSE)","v":{"$error":"#REF!"}},{"$error":"#REF!"},{"$error":"#REF!"}]
["ELL0118",3.6,3.6,{"$f":"VLOOKUP(A:A,#REF!,2,FALSE)","v":{"$error":"#REF!"}},{"$f":"VLOOKUP(A:A,#REF!,3,FALSE)","v":{"$error":"#REF!"}},{"$error":"#REF!"},{"$error":"#REF!"}]
["ELL0210",0.8,0.8,{"$f":"VLOOKUP(A:A,#REF!,2,FALSE)","v":{"$error":"#REF!"}},{"$f":"VLOOKUP(A:A,#REF!,3,FALSE)","v":{"$error":"#REF!"}},{"$error":"#REF!"},{"$error":"#REF!"}]
["ELL0211",0.8,0.8,{"$f":"VLOOKUP(A:A,#REF!,2,FALSE)","v":{"$error":"#REF!"}},{"$f":"VLOOKUP(A:A,#REF!,3,FALSE)","v":{"$error":"#REF!"}},{"$error":"#REF!"},{"$error":"#REF!"}]
["ELL0212",1.6,1.6,{"$f":"VLOOKUP(A:A,#REF!,2,FALSE)","v":{"$error":"#REF!"}},{"$f":"VLOOKUP(A:A,#REF!,3,FALSE)","v":{"$error":"#REF!"}},{"$error":"#REF!"},{"$error":"#REF!"}]
["ELL0215",3,3,{"$f":"VLOOKUP(A:A,#REF!,2,FALSE)","v":{"$error":"#REF!"}},{"$f":"VLOOKUP(A:A,#REF!,3,FALSE)","v":{"$error":"#REF!"}},{"$error":"#REF!"},{"$error":"#REF!"}]
["ELL0216",3,3,{"$f":"VLOOKUP(A:A,#REF!,2,FALSE)","v":{"$error":"#REF!"}},{"$f":"VLOOKUP(A:A,#REF!,3,FALSE)","v":{"$error":"#REF!"}},{"$error":"#REF!"},{"$error":"#REF!"}]
["ELL0217",2.4,2.4,{"$f":"VLOOKUP(A:A,#REF!,2,FALSE)","v":{"$error":"#REF!"}},{"$f":"VLOOKUP(A:A,#REF!,3,FALSE)","v":{"$error":"#REF!"}},{"$error":"#REF!"},{"$error":"#REF!"}]
["ELL0218",3.6,3.6,{"$f":"VLOOKUP(A:A,#REF!,2,FALSE)","v":{"$error":"#REF!"}},{"$f":"VLOOKUP(A:A,#REF!,3,FALSE)","v":{"$error":"#REF!"}},{"$error":"#REF!"},{"$error":"#REF!"}]
["ELL0310",0.8,0.8,{"$f":"VLOOKUP(A:A,#REF!,2,FALSE)","v":{"$error":"#REF!"}},{"$f":"VLOOKUP(A:A,#REF!,3,FALSE)","v":{"$error":"#REF!"}},{"$error":"#REF!"},{"$error":"#REF!"}]
["ELL0311",0.8,0.8,{"$f":"VLOOKUP(A:A,#REF!,2,FALSE)","v":{"$error":"#REF!"}},{"$f":"VLOOKUP(A:A,#REF!,3,FALSE)","v":{"$error":"#REF!"}},{"$error":"#REF!"},{"$error":"#REF!"}]
["ELL0312",1.6,1.6,{"$f":"VLOOKUP(A:A,#REF!,2,FALSE)","v":{"$error":"#REF!"}},{"$f":"VLOOKUP(A:A,#REF!,3,FALSE)","v":{"$error":"#REF!"}},{"$error":"#REF!"},{"$error":"#REF!"}]
["ELL0315",3,3,{"$f":"VLOOKUP(A:A,#REF!,2,FALSE)","v":{"$error":"#REF!"}},{"$f":"VLOOKUP(A:A,#REF!,3,FALSE)","v":{"$error":"#REF!"}},{"$error":"#REF!"},{"$error":"#REF!"}]
["ELL0316",3,3,{"$f":"VLOOKUP(A:A,#REF!,2,FALSE)","v":{"$error":"#REF!"}},{"$f":"VLOOKUP(A:A,#REF!,3,FALSE)","v":{"$error":"#REF!"}},{"$error":"#REF!"},{"$error":"#REF!"}]
["ELL0317",2.4,2.4,{"$f":"VLOOKUP(A:A,#REF!,2,FALSE)","v":{"$error":"#REF!"}},{"$f":"VLOOKUP(A:A,#REF!,3,FALSE)","v":{"$error":"#REF!"}},{"$error":"#REF!"},{"$error":"#REF!"}]
["ELL0318",3.6,3.6,{"$f":"VLOOKUP(A:A,#REF!,2,FALSE)","v":{"$error":"#REF!"}},{"$f":"VLOOKUP(A:A,#REF!,3,FALSE)","v":{"$error":"#REF!"}},{"$error":"#REF!"},{"$error":"#REF!"}]
["ELL0410",0.8,0.8,{"$f":"VLOOKUP(A:A,#REF!,2,FALSE)","v":{"$error":"#REF!"}},{"$f":"VLOOKUP(A:A,#REF!,3,FALSE)","v":{"$error":"#REF!"}},{"$error":"#REF!"},{"$error":"#REF!"}]
["ELL0411",0.8,0.8,{"$f":"VLOOKUP(A:A,#REF!,2,FALSE)","v":{"$error":"#REF!"}},{"$f":"VLOOKUP(A:A,#REF!,3,FALSE)","v":{"$error":"#REF!"}},{"$error":"#REF!"},{"$error":"#REF!"}]
["ELL0412",1.6,1.6,{"$f":"VLOOKUP(A:A,#REF!,2,FALSE)","v":{"$error":"#REF!"}},{"$f":"VLOOKUP(A:A,#REF!,3,FALSE)","v":{"$error":"#REF!"}},{"$error":"#REF!"},{"$error":"#REF!"}]
["ELL0415",3,3,{"$f":"VLOOKUP(A:A,#REF!,2,FALSE)","v":{"$error":"#REF!"}},{"$f":"VLOOKUP(A:A,#REF!,3,FALSE)","v":{"$error":"#REF!"}},{"$error":"#REF!"},{"$error":"#REF!"}]
["ELL0416",3,3,{"$f":"VLOOKUP(A:A,#REF!,2,FALSE)","v":{"$error":"#REF!"}},{"$f":"VLOOKUP(A:A,#REF!,3,FALSE)","v":{"$error":"#REF!"}},{"$error":"#REF!"},{"$error":"#REF!"}]
["ELL0417",2.4,2.4,{"$f":"VLOOKUP(A:A,#REF!,2,FALSE)","v":{"$error":"#REF!"}},{"$f":"VLOOKUP(A:A,#REF!,3,FALSE)","v":{"$error":"#REF!"}},{"$error":"#REF!"},{"$error":"#REF!"}]
["ELL0418",3.6,3.6,{"$f":"VLOOKUP(A:A,#REF!,2,FALSE)","v":{"$error":"#REF!"}},{"$f":"VLOOKUP(A:A,#REF!,3,FALSE)","v":{"$error":"#REF!"}},{"$error":"#REF!"},{"$error":"#REF!"}]
["ELL0510",0.8,0.8,{"$f":"VLOOKUP(A:A,#REF!,2,FALSE)","v":{"$error":"#REF!"}},{"$f":"VLOOKUP(A:A,#REF!,3,FALSE)","v":{"$error":"#REF!"}},{"$error":"#REF!"},{"$error":"#REF!"}]
["ELL0511",0.8,0.8,{"$f":"VLOOKUP(A:A,#REF!,2,FALSE)","v":{"$error":"#REF!"}},{"$f":"VLOOKUP(A:A,#REF!,3,FALSE)","v":{"$error":"#REF!"}},{"$error":"#REF!"},{"$error":"#REF!"}]
["ELL0512",1.6,1.6,{"$f":"VLOOKUP(A:A,#REF!,2,FALSE)","v":{"$error":"#REF!"}},{"$f":"VLOOKUP(A:A,#REF!,3,FALSE)","v":{"$error":"#REF!"}},{"$error":"#REF!"},{"$error":"#REF!"}]
["ELL0515",3,3,{"$f":"VLOOKUP(A:A,#REF!,2,FALSE)","v":{"$error":"#REF!"}},{"$f":"VLOOKUP(A:A,#REF!,3,FALSE)","v":{"$error":"#REF!"}},{"$error":"#REF!"},{"$error":"#REF!"}]
["ELL0516",3,3,{"$f":"VLOOKUP(A:A,#REF!,2,FALSE)","v":{"$error":"#REF!"}},{"$f":"VLOOKUP(A:A,#REF!,3,FALSE)","v":{"$error":"#REF!"}},{"$error":"#REF!"},{"$error":"#REF!"}]
["ELL0517",2.4,2.4,{"$f":"VLOOKUP(A:A,#REF!,2,FALSE)","v":{"$error":"#REF!"}},{"$f":"VLOOKUP(A:A,#REF!,3,FALSE)","v":{"$error":"#REF!"}},{"$error":"#REF!"},{"$error":"#REF!"}]
["ELL0518",3.6,3.6,{"$f":"VLOOKUP(A:A,#REF!,2,FALSE)","v":{"$error":"#REF!"}},{"$f":"VLOOKUP(A:A,#REF!,3,FALSE)","v":{"$error":"#REF!"}},{"$error":"#REF!"},{"$error":"#REF!"}]
["ELL0537",0.6,0.6,{"$f":"VLOOKUP(A:A,#REF!,2,FALSE)","v":{"$error":"#REF!"}},{"$f":"VLOOKUP(A:A,#REF!,3,FALSE)","v":{"$error":"#REF!"}},{"$error":"#REF!"},{"$error":"#REF!"}]
["ELL0538",1.4,1.4,{"$f":"VLOOKUP(A:A,#REF!,2,FALSE)","v":{"$error":"#REF!"}},{"$f":"VLOOKUP(A:A,#REF!,3,FALSE)","v":{"$error":"#REF!"}},{"$error":"#REF!"},{"$error":"#REF!"}]
["ELL0610",0.8,0.8,{"$f":"VLOOKUP(A:A,#REF!,2,FALSE)","v":{"$error":"#REF!"}},{"$f":"VLOOKUP(A:A,#REF!,3,FALSE)","v":{"$error":"#REF!"}},{"$error":"#REF!"},{"$error":"#REF!"}]
["ELL0611",0.8,0.8,{"$f":"VLOOKUP(A:A,#REF!,2,FALSE)","v":{"$error":"#REF!"}},{"$f":"VLOOKUP(A:A,#REF!,3,FALSE)","v":{"$error":"#REF!"}},{"$error":"#REF!"},{"$error":"#REF!"}]
["ELL0612",1.6,1.6,{"$f":"VLOOKUP(A:A,#REF!,2,FALSE)","v":{"$error":"#REF!"}},{"$f":"VLOOKUP(A:A,#REF!,3,FALSE)","v":{"$error":"#REF!"}},{"$error":"#REF!"},{"$error":"#REF!"}]
["ELL0615",3,3,{"$f":"VLOOKUP(A:A,#REF!,2,FALSE)","v":{"$error":"#REF!"}},{"$f":"VLOOKUP(A:A,#REF!,3,FALSE)","v":{"$error":"#REF!"}},{"$error":"#REF!"},{"$error":"#REF!"}]
["ELL0616",3,3,{"$f":"VLOOKUP(A:A,#REF!,2,FALSE)","v":{"$error":"#REF!"}},{"$f":"VLOOKUP(A:A,#REF!,3,FALSE)","v":{"$error":"#REF!"}},{"$error":"#REF!"},{"$error":"#REF!"}]
["ELL0617",2.4,2.4,{"$f":"VLOOKUP(A:A,#REF!,2,FALSE)","v":{"$error":"#REF!"}},{"$f":"VLOOKUP(A:A,#REF!,3,FALSE)","v":{"$error":"#REF!"}},{"$error":"#REF!"},{"$error":"#REF!"}]
["ELL0618",3.6,3.6,{"$f":"VLOOKUP(A:A,#REF!,2,FALSE)","v":{"$error":"#REF!"}},{"$f":"VLOOKUP(A:A,#REF!,3,FALSE)","v":{"$error":"#REF!"}},{"$error":"#REF!"},{"$error":"#REF!"}]
["ELL0625",3,3,{"$f":"VLOOKUP(A:A,#REF!,2,FALSE)","v":{"$error":"#REF!"}},{"$f":"VLOOKUP(A:A,#REF!,3,FALSE)","v":{"$error":"#REF!"}},{"$error":"#REF!"},{"$error":"#REF!"}]
["ELL0626",3,3,{"$f":"VLOOKUP(A:A,#REF!,2,FALSE)","v":{"$error":"#REF!"}},{"$f":"VLOOKUP(A:A,#REF!,3,FALSE)","v":{"$error":"#REF!"}},{"$error":"#REF!"},{"$error":"#REF!"}]
["ELL0627",2.4,2.4,{"$f":"VLOOKUP(A:A,#REF!,2,FALSE)","v":{"$error":"#REF!"}},{"$f":"VLOOKUP(A:A,#REF!,3,FALSE)","v":{"$error":"#REF!"}},{"$error":"#REF!"},{"$error":"#REF!"}]
["ELL0628",3.6,3.6,{"$f":"VLOOKUP(A:A,#REF!,2,FALSE)","v":{"$error":"#REF!"}},{"$f":"VLOOKUP(A:A,#REF!,3,FALSE)","v":{"$error":"#REF!"}},{"$error":"#REF!"},{"$error":"#REF!"}]
["ELL0637",0.6,0.6,{"$f":"VLOOKUP(A:A,#REF!,2,FALSE)","v":{"$error":"#REF!"}},{"$f":"VLOOKUP(A:A,#REF!,3,FALSE)","v":{"$error":"#REF!"}},{"$error":"#REF!"},{"$error":"#REF!"}]
["ELL0638",1.4,1.4,{"$f":"VLOOKUP(A:A,#REF!,2,FALSE)","v":{"$error":"#REF!"}},{"$f":"VLOOKUP(A:A,#REF!,3,FALSE)","v":{"$error":"#REF!"}},{"$error":"#REF!"},{"$error":"#REF!"}]
["ELL0675",3,3,{"$f":"VLOOKUP(A:A,#REF!,2,FALSE)","v":{"$error":"#REF!"}},{"$f":"VLOOKUP(A:A,#REF!,3,FALSE)","v":{"$error":"#REF!"}},{"$error":"#REF!"},{"$error":"#REF!"}]
["ELL0676",3,3,{"$f":"VLOOKUP(A:A,#REF!,2,FALSE)","v":{"$error":"#REF!"}},{"$f":"VLOOKUP(A:A,#REF!,3,FALSE)","v":{"$error":"#REF!"}},{"$error":"#REF!"},{"$error":"#REF!"}]
["ELL0677",2.4,2.4,{"$f":"VLOOKUP(A:A,#REF!,2,FALSE)","v":{"$error":"#REF!"}},{"$f":"VLOOKUP(A:A,#REF!,3,FALSE)","v":{"$error":"#REF!"}},{"$error":"#REF!"},{"$error":"#REF!"}]
["ELL0678",3.6,3.6,{"$f":"VLOOKUP(A:A,#REF!,2,FALSE)","v":{"$error":"#REF!"}},{"$f":"VLOOKUP(A:A,#REF!,3,FALSE)","v":{"$error":"#REF!"}},{"$error":"#REF!"},{"$error":"#REF!"}]
["ELL0687",2.4,2.4,{"$f":"VLOOKUP(A:A,#REF!,2,FALSE)","v":{"$error":"#REF!"}},{"$f":"VLOOKUP(A:A,#REF!,3,FALSE)","v":{"$error":"#REF!"}},{"$error":"#REF!"},{"$error":"#REF!"}]
["ELL0688",3.6,3.6,{"$f":"VLOOKUP(A:A,#REF!,2,FALSE)","v":{"$error":"#REF!"}},{"$f":"VLOOKUP(A:A,#REF!,3,FALSE)","v":{"$error":"#REF!"}},{"$error":"#REF!"},{"$error":"#REF!"}]
["ELL0710",3,3,{"$f":"VLOOKUP(A:A,#REF!,2,FALSE)","v":{"$error":"#REF!"}},{"$f":"VLOOKUP(A:A,#REF!,3,FALSE)","v":{"$error":"#REF!"}},{"$error":"#REF!"},{"$error":"#REF!"}]
["ELL0711",3,3,{"$f":"VLOOKUP(A:A,#REF!,2,FALSE)","v":{"$error":"#REF!"}},{"$f":"VLOOKUP(A:A,#REF!,3,FALSE)","v":{"$error":"#REF!"}},{"$error":"#REF!"},{"$error":"#REF!"}]
["ELL0712",2.4,2.4,{"$f":"VLOOKUP(A:A,#REF!,2,FALSE)","v":{"$error":"#REF!"}},{"$f":"VLOOKUP(A:A,#REF!,3,FALSE)","v":{"$error":"#REF!"}},{"$error":"#REF!"},{"$error":"#REF!"}]
["ELL0713",3.6,3.6,{"$f":"VLOOKUP(A:A,#REF!,2,FALSE)","v":{"$error":"#REF!"}},{"$f":"VLOOKUP(A:A,#REF!,3,FALSE)","v":{"$error":"#REF!"}},{"$error":"#REF!"},{"$error":"#REF!"}]
["ELL0715",3,3,{"$f":"VLOOKUP(A:A,#REF!,2,FALSE)","v":{"$error":"#REF!"}},{"$f":"VLOOKUP(A:A,#REF!,3,FALSE)","v":{"$error":"#REF!"}},{"$error":"#REF!"},{"$error":"#REF!"}]
["ELL0716",3,3,{"$f":"VLOOKUP(A:A,#REF!,2,FALSE)","v":{"$error":"#REF!"}},{"$f":"VLOOKUP(A:A,#REF!,3,FALSE)","v":{"$error":"#REF!"}},{"$error":"#REF!"},{"$error":"#REF!"}]
["ELL0717",2.4,2.4,{"$f":"VLOOKUP(A:A,#REF!,2,FALSE)","v":{"$error":"#REF!"}},{"$f":"VLOOKUP(A:A,#REF!,3,FALSE)","v":{"$error":"#REF!"}},{"$error":"#REF!"},{"$error":"#REF!"}]
["ELL0718",3.6,3.6,{"$f":"VLOOKUP(A:A,#REF!,2,FALSE)","v":{"$error":"#REF!"}},{"$f":"VLOOKUP(A:A,#REF!,3,FALSE)","v":{"$error":"#REF!"}},{"$f":"B1412-D1412","v":{"$error":"#REF!"}},{"$f":"C1412-E1412","v":{"$error":"#REF!"}}]
["ELL0725",3,3,{"$f":"VLOOKUP(A:A,#REF!,2,FALSE)","v":{"$error":"#REF!"}},{"$f":"VLOOKUP(A:A,#REF!,3,FALSE)","v":{"$error":"#REF!"}},{"$error":"#REF!"},{"$error":"#REF!"}]
["ELL0726",3,3,{"$f":"VLOOKUP(A:A,#REF!,2,FALSE)","v":{"$error":"#REF!"}},{"$f":"VLOOKUP(A:A,#REF!,3,FALSE)","v":{"$error":"#REF!"}},{"$error":"#REF!"},{"$error":"#REF!"}]
["ELL0727",2.4,2.4,{"$f":"VLOOKUP(A:A,#REF!,2,FALSE)","v":{"$error":"#REF!"}},{"$f":"VLOOKUP(A:A,#REF!,3,FALSE)","v":{"$error":"#REF!"}},{"$error":"#REF!"},{"$error":"#REF!"}]
["ELL0728",3.6,3.6,{"$f":"VLOOKUP(A:A,#REF!,2,FALSE)","v":{"$error":"#REF!"}},{"$f":"VLOOKUP(A:A,#REF!,3,FALSE)","v":{"$error":"#REF!"}},{"$error":"#REF!"},{"$error":"#REF!"}]
["ELL0815",3,3,{"$f":"VLOOKUP(A:A,#REF!,2,FALSE)","v":{"$error":"#REF!"}},{"$f":"VLOOKUP(A:A,#REF!,3,FALSE)","v":{"$error":"#REF!"}},{"$error":"#REF!"},{"$error":"#REF!"}]
["ELL0816",3,3,{"$f":"VLOOKUP(A:A,#REF!,2,FALSE)","v":{"$error":"#REF!"}},{"$f":"VLOOKUP(A:A,#REF!,3,FALSE)","v":{"$error":"#REF!"}},{"$error":"#REF!"},{"$error":"#REF!"}]
["ELL0817",2.4,2.4,{"$f":"VLOOKUP(A:A,#REF!,2,FALSE)","v":{"$error":"#REF!"}},{"$f":"VLOOKUP(A:A,#REF!,3,FALSE)","v":{"$error":"#REF!"}},{"$error":"#REF!"},{"$error":"#REF!"}]
["ELL0818",3.6,3.6,{"$f":"VLOOKUP(A:A,#REF!,2,FALSE)","v":{"$error":"#REF!"}},{"$f":"VLOOKUP(A:A,#REF!,3,FALSE)","v":{"$error":"#REF!"}},{"$error":"#REF!"},{"$error":"#REF!"}]
["ELL0825",3,3,{"$f":"VLOOKUP(A:A,#REF!,2,FALSE)","v":{"$error":"#REF!"}},{"$f":"VLOOKUP(A:A,#REF!,3,FALSE)","v":{"$error":"#REF!"}},{"$error":"#REF!"},{"$error":"#REF!"}]
["ELL0826",3,3,{"$f":"VLOOKUP(A:A,#REF!,2,FALSE)","v":{"$error":"#REF!"}},{"$f":"VLOOKUP(A:A,#REF!,3,FALSE)","v":{"$error":"#REF!"}},{"$error":"#REF!"},{"$error":"#REF!"}]
["ELL0827",2.4,2.4,{"$f":"VLOOKUP(A:A,#REF!,2,FALSE)","v":{"$error":"#REF!"}},{"$f":"VLOOKUP(A:A,#REF!,3,FALSE)","v":{"$error":"#REF!"}},{"$error":"#REF!"},{"$error":"#REF!"}]
["ELL0828",3.6,3.6,{"$f":"VLOOKUP(A:A,#REF!,2,FALSE)","v":{"$error":"#REF!"}},{"$f":"VLOOKUP(A:A,#REF!,3,FALSE)","v":{"$error":"#REF!"}},{"$error":"#REF!"},{"$error":"#REF!"}]
["ELL0912",2.4,2.4,{"$f":"VLOOKUP(A:A,#REF!,2,FALSE)","v":{"$error":"#REF!"}},{"$f":"VLOOKUP(A:A,#REF!,3,FALSE)","v":{"$error":"#REF!"}},{"$error":"#REF!"},{"$error":"#REF!"}]
["ELL0913",3.6,3.6,{"$f":"VLOOKUP(A:A,#REF!,2,FALSE)","v":{"$error":"#REF!"}},{"$f":"VLOOKUP(A:A,#REF!,3,FALSE)","v":{"$error":"#REF!"}},{"$error":"#REF!"},{"$error":"#REF!"}]
["ELL0917",2.4,2.4,{"$f":"VLOOKUP(A:A,#REF!,2,FALSE)","v":{"$error":"#REF!"}},{"$f":"VLOOKUP(A:A,#REF!,3,FALSE)","v":{"$error":"#REF!"}},{"$error":"#REF!"},{"$error":"#REF!"}]
["ELL0918",3.6,3.6,{"$f":"VLOOKUP(A:A,#REF!,2,FALSE)","v":{"$error":"#REF!"}},{"$f":"VLOOKUP(A:A,#REF!,3,FALSE)","v":{"$error":"#REF!"}},{"$error":"#REF!"},{"$error":"#REF!"}]
["EME2040C",4,4,{"$f":"VLOOKUP(A:A,#REF!,2,FALSE)","v":{"$error":"#REF!"}},{"$f":"VLOOKUP(A:A,#REF!,3,FALSE)","v":{"$error":"#REF!"}},{"$error":"#REF!"},{"$error":"#REF!"}]
["EMS0210C",9.92,8.27,{"$f":"VLOOKUP(A:A,#REF!,2,FALSE)","v":{"$error":"#REF!"}},{"$f":"VLOOKUP(A:A,#REF!,3,FALSE)","v":{"$error":"#REF!"}},{"$error":"#REF!"},{"$error":"#REF!"}]
["EMS0211C",17.04,14.2,{"$f":"VLOOKUP(A:A,#REF!,2,FALSE)","v":{"$error":"#REF!"}},{"$f":"VLOOKUP(A:A,#REF!,3,FALSE)","v":{"$error":"#REF!"}},{"$error":"#REF!"},{"$error":"#REF!"}]
["EMS0212C",17.04,14.2,{"$f":"VLOOKUP(A:A,#REF!,2,FALSE)","v":{"$error":"#REF!"}},{"$f":"VLOOKUP(A:A,#REF!,3,FALSE)","v":{"$error":"#REF!"}},{"$error":"#REF!"},{"$error":"#REF!"}]
["EMS1059",3,2.7,{"$f":"VLOOKUP(A:A,#REF!,2,FALSE)","v":{"$error":"#REF!"}},{"$f":"VLOOKUP(A:A,#REF!,3,FALSE)","v":{"$error":"#REF!"}},{"$error":"#REF!"},{"$error":"#REF!"}]
["EMS1119",8,8,{"$f":"VLOOKUP(A:A,#REF!,2,FALSE)","v":{"$error":"#REF!"}},{"$f":"VLOOKUP(A:A,#REF!,3,FALSE)","v":{"$error":"#REF!"}},{"$error":"#REF!"},{"$error":"#REF!"}]
["EMS1119L",6,4.2,{"$f":"VLOOKUP(A:A,#REF!,2,FALSE)","v":{"$error":"#REF!"}},{"$f":"VLOOKUP(A:A,#REF!,3,FALSE)","v":{"$error":"#REF!"}},{"$error":"#REF!"},{"$error":"#REF!"}]
["EMS1421C",1.1000000000000001,0.94,{"$f":"VLOOKUP(A:A,#REF!,2,FALSE)","v":{"$error":"#REF!"}},{"$f":"VLOOKUP(A:A,#REF!,3,FALSE)","v":{"$error":"#REF!"}},{"$error":"#REF!"},{"$error":"#REF!"}]
["EMS2311",3,3,{"$f":"VLOOKUP(A:A,#REF!,2,FALSE)","v":{"$error":"#REF!"}},{"$f":"VLOOKUP(A:A,#REF!,3,FALSE)","v":{"$error":"#REF!"}},{"$error":"#REF!"},{"$error":"#REF!"}]
["EMS2601",5,5,{"$f":"VLOOKUP(A:A,#REF!,2,FALSE)","v":{"$error":"#REF!"}},{"$f":"VLOOKUP(A:A,#REF!,3,FALSE)","v":{"$error":"#REF!"}},{"$error":"#REF!"},{"$error":"#REF!"}]
["EMS2601L",3,2.1,{"$f":"VLOOKUP(A:A,#REF!,2,FALSE)","v":{"$error":"#REF!"}},{"$f":"VLOOKUP(A:A,#REF!,3,FALSE)","v":{"$error":"#REF!"}},{"$error":"#REF!"},{"$error":"#REF!"}]
["EMS2602",5,5,{"$f":"VLOOKUP(A:A,#REF!,2,FALSE)","v":{"$error":"#REF!"}},{"$f":"VLOOKUP(A:A,#REF!,3,FALSE)","v":{"$error":"#REF!"}},{"$error":"#REF!"},{"$error":"#REF!"}]
["EMS2602L",3,2.1,{"$f":"VLOOKUP(A:A,#REF!,2,FALSE)","v":{"$error":"#REF!"}},{"$f":"VLOOKUP(A:A,#REF!,3,FALSE)","v":{"$error":"#REF!"}},{"$error":"#REF!"},{"$error":"#REF!"}]
["EMS2603",5,5,{"$f":"VLOOKUP(A:A,#REF!,2,FALSE)","v":{"$error":"#REF!"}},{"$f":"VLOOKUP(A:A,#REF!,3,FALSE)","v":{"$error":"#REF!"}},{"$error":"#REF!"},{"$error":"#REF!"}]
["EMS2603L",3,2.1,{"$f":"VLOOKUP(A:A,#REF!,2,FALSE)","v":{"$error":"#REF!"}},{"$f":"VLOOKUP(A:A,#REF!,3,FALSE)","v":{"$error":"#REF!"}},{"$error":"#REF!"},{"$error":"#REF!"}]
["EMS2611",4,4,{"$f":"VLOOKUP(A:A,#REF!,2,FALSE)","v":{"$error":"#REF!"}},{"$f":"VLOOKUP(A:A,#REF!,3,FALSE)","v":{"$error":"#REF!"}},{"$error":"#REF!"},{"$error":"#REF!"}]
["EMS2611L",2,1.4,{"$f":"VLOOKUP(A:A,#REF!,2,FALSE)","v":{"$error":"#REF!"}},{"$f":"VLOOKUP(A:A,#REF!,3,FALSE)","v":{"$error":"#REF!"}},{"$error":"#REF!"},{"$error":"#REF!"}]
["EMS2612L",1,0.7,{"$f":"VLOOKUP(A:A,#REF!,2,FALSE)","v":{"$error":"#REF!"}},{"$f":"VLOOKUP(A:A,#REF!,3,FALSE)","v":{"$error":"#REF!"}},{"$error":"#REF!"},{"$error":"#REF!"}]
["EMS2613L",3,2.1,{"$f":"VLOOKUP(A:A,#REF!,2,FALSE)","v":{"$error":"#REF!"}},{"$f":"VLOOKUP(A:A,#REF!,3,FALSE)","v":{"$error":"#REF!"}},{"$error":"#REF!"},{"$error":"#REF!"}]
["EMS2614",2,2,{"$f":"VLOOKUP(A:A,#REF!,2,FALSE)","v":{"$error":"#REF!"}},{"$f":"VLOOKUP(A:A,#REF!,3,FALSE)","v":{"$error":"#REF!"}},{"$error":"#REF!"},{"$error":"#REF!"}]
["EMS2615",6,6,{"$f":"VLOOKUP(A:A,#REF!,2,FALSE)","v":{"$error":"#REF!"}},{"$f":"VLOOKUP(A:A,#REF!,3,FALSE)","v":{"$error":"#REF!"}},{"$error":"#REF!"},{"$error":"#REF!"}]
["EMS2615L",3,2.1,{"$f":"VLOOKUP(A:A,#REF!,2,FALSE)","v":{"$error":"#REF!"}},{"$f":"VLOOKUP(A:A,#REF!,3,FALSE)","v":{"$error":"#REF!"}},{"$error":"#REF!"},{"$error":"#REF!"}]
["EMS2616",3,3,{"$f":"VLOOKUP(A:A,#REF!,2,FALSE)","v":{"$error":"#REF!"}},{"$f":"VLOOKUP(A:A,#REF!,3,FALSE)","v":{"$error":"#REF!"}},{"$error":"#REF!"},{"$error":"#REF!"}]
["EMS2617L",4,2.8,{"$f":"VLOOKUP(A:A,#REF!,2,FALSE)","v":{"$error":"#REF!"}},{"$f":"VLOOKUP(A:A,#REF!,3,FALSE)","v":{"$error":"#REF!"}},{"$error":"#REF!"},{"$error":"#REF!"}]
["EMS2618L",1,0.7,{"$f":"VLOOKUP(A:A,#REF!,2,FALSE)","v":{"$error":"#REF!"}},{"$f":"VLOOKUP(A:A,#REF!,3,FALSE)","v":{"$error":"#REF!"}},{"$error":"#REF!"},{"$error":"#REF!"}]
["EMS2659",0.02,0.02,{"$f":"VLOOKUP(A:A,#REF!,2,FALSE)","v":{"$error":"#REF!"}},{"$f":"VLOOKUP(A:A,#REF!,3,FALSE)","v":{"$error":"#REF!"}},{"$error":"#REF!"},{"$error":"#REF!"}]
["EMS2666",0.02,0.02,{"$f":"VLOOKUP(A:A,#REF!,2,FALSE)","v":{"$error":"#REF!"}},{"$f":"VLOOKUP(A:A,#REF!,3,FALSE)","v":{"$error":"#REF!"}},{"$error":"#REF!"},{"$error":"#REF!"}]
["EMS2667",0.03,0.03,{"$f":"VLOOKUP(A:A,#REF!,2,FALSE)","v":{"$error":"#REF!"}},{"$f":"VLOOKUP(A:A,#REF!,3,FALSE)","v":{"$error":"#REF!"}},{"$error":"#REF!"},{"$error":"#REF!"}]
["EMS2668",0.03,0.03,{"$f":"VLOOKUP(A:A,#REF!,2,FALSE)","v":{"$error":"#REF!"}},{"$f":"VLOOKUP(A:A,#REF!,3,FALSE)","v":{"$error":"#REF!"}},{"$error":"#REF!"},{"$error":"#REF!"}]
["EMS2681",5,5,{"$f":"VLOOKUP(A:A,#REF!,2,FALSE)","v":{"$error":"#REF!"}},{"$f":"VLOOKUP(A:A,#REF!,3,FALSE)","v":{"$error":"#REF!"}},{"$error":"#REF!"},{"$error":"#REF!"}]
["EMS2681L",3,2.1,{"$f":"VLOOKUP(A:A,#REF!,2,FALSE)","v":{"$error":"#REF!"}},{"$f":"VLOOKUP(A:A,#REF!,3,FALSE)","v":{"$error":"#REF!"}},{"$error":"#REF!"},{"$error":"#REF!"}]
["EMS2761",4,4,{"$f":"VLOOKUP(A:A,#REF!,2,FALSE)","v":{"$error":"#REF!"}},{"$f":"VLOOKUP(A:A,#REF!,3,FALSE)","v":{"$error":"#REF!"}},{"$error":"#REF!"},{"$error":"#REF!"}]
["ENC0015",4,4,{"$f":"VLOOKUP(A:A,#REF!,2,FALSE)","v":{"$error":"#REF!"}},{"$f":"VLOOKUP(A:A,#REF!,3,FALSE)","v":{"$error":"#REF!"}},{"$error":"#REF!"},{"$error":"#REF!"}]
["ENC0022",5,5,{"$f":"VLOOKUP(A:A,#REF!,2,FALSE)","v":{"$error":"#REF!"}},{"$f":"VLOOKUP(A:A,#REF!,3,FALSE)","v":{"$error":"#REF!"}},{"$error":"#REF!"},{"$error":"#REF!"}]
["ENC0025",4,4,{"$f":"VLOOKUP(A:A,#REF!,2,FALSE)","v":{"$error":"#REF!"}},{"$f":"VLOOKUP(A:A,#REF!,3,FALSE)","v":{"$error":"#REF!"}},{"$error":"#REF!"},{"$error":"#REF!"}]
["ENC0055",1,1,{"$f":"VLOOKUP(A:A,#REF!,2,FALSE)","v":{"$error":"#REF!"}},{"$f":"VLOOKUP(A:A,#REF!,3,FALSE)","v":{"$error":"#REF!"}},{"$error":"#REF!"},{"$error":"#REF!"}]
["ENC0056",2,2,{"$f":"VLOOKUP(A:A,#REF!,2,FALSE)","v":{"$error":"#REF!"}},{"$f":"VLOOKUP(A:A,#REF!,3,FALSE)","v":{"$error":"#REF!"}},{"$error":"#REF!"},{"$error":"#REF!"}]
["ENC1101",3,3,{"$f":"VLOOKUP(A:A,#REF!,2,FALSE)","v":{"$error":"#REF!"}},{"$f":"VLOOKUP(A:A,#REF!,3,FALSE)","v":{"$error":"#REF!"}},{"$error":"#REF!"},{"$error":"#REF!"}]
["ENC1101C",4,4,{"$f":"VLOOKUP(A:A,#REF!,2,FALSE)","v":{"$error":"#REF!"}},{"$f":"VLOOKUP(A:A,#REF!,3,FALSE)","v":{"$error":"#REF!"}},{"$error":"#REF!"},{"$error":"#REF!"}]
["ENC1102",3,3,{"$f":"VLOOKUP(A:A,#REF!,2,FALSE)","v":{"$error":"#REF!"}},{"$f":"VLOOKUP(A:A,#REF!,3,FALSE)","v":{"$error":"#REF!"}},{"$error":"#REF!"},{"$error":"#REF!"}]
["ENC2210",3,3,{"$f":"VLOOKUP(A:A,#REF!,2,FALSE)","v":{"$error":"#REF!"}},{"$f":"VLOOKUP(A:A,#REF!,3,FALSE)","v":{"$error":"#REF!"}},{"$error":"#REF!"},{"$error":"#REF!"}]
["ENC2301",3,3,{"$f":"VLOOKUP(A:A,#REF!,2,FALSE)","v":{"$error":"#REF!"}},{"$f":"VLOOKUP(A:A,#REF!,3,FALSE)","v":{"$error":"#REF!"}},{"$error":"#REF!"},{"$error":"#REF!"}]
["ENC3905",3,3,{"$f":"VLOOKUP(A:A,#REF!,2,FALSE)","v":{"$error":"#REF!"}},{"$f":"VLOOKUP(A:A,#REF!,3,FALSE)","v":{"$error":"#REF!"}},{"$error":"#REF!"},{"$error":"#REF!"}]
["ENG2100",4,3,{"$f":"VLOOKUP(A:A,#REF!,2,FALSE)","v":{"$error":"#REF!"}},{"$f":"VLOOKUP(A:A,#REF!,3,FALSE)","v":{"$error":"#REF!"}},{"$error":"#REF!"},{"$error":"#REF!"}]
["ENG2103",4,3,{"$f":"VLOOKUP(A:A,#REF!,2,FALSE)","v":{"$error":"#REF!"}},{"$f":"VLOOKUP(A:A,#REF!,3,FALSE)","v":{"$error":"#REF!"}},{"$error":"#REF!"},{"$error":"#REF!"}]
["ENL2012",3,3,{"$f":"VLOOKUP(A:A,#REF!,2,FALSE)","v":{"$error":"#REF!"}},{"$f":"VLOOKUP(A:A,#REF!,3,FALSE)","v":{"$error":"#REF!"}},{"$error":"#REF!"},{"$error":"#REF!"}]
["ENL2022",3,3,{"$f":"VLOOKUP(A:A,#REF!,2,FALSE)","v":{"$error":"#REF!"}},{"$f":"VLOOKUP(A:A,#REF!,3,FALSE)","v":{"$error":"#REF!"}},{"$error":"#REF!"},{"$error":"#REF!"}]
["ENL2330",3,3,{"$f":"VLOOKUP(A:A,#REF!,2,FALSE)","v":{"$error":"#REF!"}},{"$f":"VLOOKUP(A:A,#REF!,3,FALSE)","v":{"$error":"#REF!"}},{"$f":"B1476-D1476","v":{"$error":"#REF!"}},{"$f":"C1476-E1476","v":{"$error":"#REF!"}}]
["ENT3004",3,3,{"$f":"VLOOKUP(A:A,#REF!,2,FALSE)","v":{"$error":"#REF!"}},{"$f":"VLOOKUP(A:A,#REF!,3,FALSE)","v":{"$error":"#REF!"}},{"$error":"#REF!"},{"$error":"#REF!"}]
["ENT4013",3,3,{"$f":"VLOOKUP(A:A,#REF!,2,FALSE)","v":{"$error":"#REF!"}},{"$f":"VLOOKUP(A:A,#REF!,3,FALSE)","v":{"$error":"#REF!"}},{"$error":"#REF!"},{"$error":"#REF!"},"Articulate"]
["ENT4114",3,3,{"$f":"VLOOKUP(A:A,#REF!,2,FALSE)","v":{"$error":"#REF!"}},{"$f":"VLOOKUP(A:A,#REF!,3,FALSE)","v":{"$error":"#REF!"}},{"$error":"#REF!"},{"$error":"#REF!"}]
["ENT4412",3,3,{"$f":"VLOOKUP(A:A,#REF!,2,FALSE)","v":{"$error":"#REF!"}},{"$f":"VLOOKUP(A:A,#REF!,3,FALSE)","v":{"$error":"#REF!"}},{"$error":"#REF!"},{"$error":"#REF!"}]
["EPI0001",3,3,{"$f":"VLOOKUP(A:A,#REF!,2,FALSE)","v":{"$error":"#REF!"}},{"$f":"VLOOKUP(A:A,#REF!,3,FALSE)","v":{"$error":"#REF!"}},{"$error":"#REF!"},{"$error":"#REF!"}]
["EPI0003",3,3,{"$f":"VLOOKUP(A:A,#REF!,2,FALSE)","v":{"$error":"#REF!"}},{"$f":"VLOOKUP(A:A,#REF!,3,FALSE)","v":{"$error":"#REF!"}},{"$error":"#REF!"},{"$error":"#REF!"}]
["EPI0004",3,3,{"$f":"VLOOKUP(A:A,#REF!,2,FALSE)","v":{"$error":"#REF!"}},{"$f":"VLOOKUP(A:A,#REF!,3,FALSE)","v":{"$error":"#REF!"}},{"$error":"#REF!"},{"$error":"#REF!"}]
["EPI0010",3,3,{"$f":"VLOOKUP(A:A,#REF!,2,FALSE)","v":{"$error":"#REF!"}},{"$f":"VLOOKUP(A:A,#REF!,3,FALSE)","v":{"$error":"#REF!"}},{"$error":"#REF!"},{"$error":"#REF!"}]
["EPI0011",3,3,{"$f":"VLOOKUP(A:A,#REF!,2,FALSE)","v":{"$error":"#REF!"}},{"$f":"VLOOKUP(A:A,#REF!,3,FALSE)","v":{"$error":"#REF!"}},{"$error":"#REF!"},{"$error":"#REF!"}]
["EPI0020",3,3,{"$f":"VLOOKUP(A:A,#REF!,2,FALSE)","v":{"$error":"#REF!"}},{"$f":"VLOOKUP(A:A,#REF!,3,FALSE)","v":{"$error":"#REF!"}},{"$error":"#REF!"},{"$error":"#REF!"}]
["EPI0030",3,3,{"$f":"VLOOKUP(A:A,#REF!,2,FALSE)","v":{"$error":"#REF!"}},{"$f":"VLOOKUP(A:A,#REF!,3,FALSE)","v":{"$error":"#REF!"}},{"$error":"#REF!"},{"$error":"#REF!"}]
["EPI0940C",3.01,3.01,{"$f":"VLOOKUP(A:A,#REF!,2,FALSE)","v":{"$error":"#REF!"}},{"$f":"VLOOKUP(A:A,#REF!,3,FALSE)","v":{"$error":"#REF!"}},{"$error":"#REF!"},{"$error":"#REF!"}]
["EPI0951C",3.01,3.01,{"$f":"VLOOKUP(A:A,#REF!,2,FALSE)","v":{"$error":"#REF!"}},{"$f":"VLOOKUP(A:A,#REF!,3,FALSE)","v":{"$error":"#REF!"}},{"$error":"#REF!"},{"$error":"#REF!"}]
["ESC1000",3,3,{"$f":"VLOOKUP(A:A,#REF!,2,FALSE)","v":{"$error":"#REF!"}},{"$f":"VLOOKUP(A:A,#REF!,3,FALSE)","v":{"$error":"#REF!"}},{"$error":"#REF!"},{"$error":"#REF!"}]
["ESC1000L",2,1.4,{"$f":"VLOOKUP(A:A,#REF!,2,FALSE)","v":{"$error":"#REF!"}},{"$f":"VLOOKUP(A:A,#REF!,3,FALSE)","v":{"$error":"#REF!"}},{"$error":"#REF!"},{"$error":"#REF!"}]
["ETD1100",5,3.75,{"$f":"VLOOKUP(A:A,#REF!,2,FALSE)","v":{"$error":"#REF!"}},{"$f":"VLOOKUP(A:A,#REF!,3,FALSE)","v":{"$error":"#REF!"}},{"$error":"#REF!"},{"$error":"#REF!"}]
["ETD2350",5,4.5,{"$f":"VLOOKUP(A:A,#REF!,2,FALSE)","v":{"$error":"#REF!"}},{"$f":"VLOOKUP(A:A,#REF!,3,FALSE)","v":{"$error":"#REF!"}},{"$error":"#REF!"},{"$error":"#REF!"}]
["ETD2395",5,4.5,{"$f":"VLOOKUP(A:A,#REF!,2,FALSE)","v":{"$error":"#REF!"}},{"$f":"VLOOKUP(A:A,#REF!,3,FALSE)","v":{"$error":"#REF!"}},{"$error":"#REF!"},{"$error":"#REF!"}]
["ETD2536",5,4.5,{"$f":"VLOOKUP(A:A,#REF!,2,FALSE)","v":{"$error":"#REF!"}},{"$f":"VLOOKUP(A:A,#REF!,3,FALSE)","v":{"$error":"#REF!"}},{"$error":"#REF!"},{"$error":"#REF!"}]
["ETD2542",4,3,{"$f":"VLOOKUP(A:A,#REF!,2,FALSE)","v":{"$error":"#REF!"}},{"$f":"VLOOKUP(A:A,#REF!,3,FALSE)","v":{"$error":"#REF!"}},{"$error":"#REF!"},{"$error":"#REF!"}]
["ETD2551",5,4.5,{"$f":"VLOOKUP(A:A,#REF!,2,FALSE)","v":{"$error":"#REF!"}},{"$f":"VLOOKUP(A:A,#REF!,3,FALSE)","v":{"$error":"#REF!"}},{"$error":"#REF!"},{"$error":"#REF!"}]
["ETI1110",3,3,{"$f":"VLOOKUP(A:A,#REF!,2,FALSE)","v":{"$error":"#REF!"}},{"$f":"VLOOKUP(A:A,#REF!,3,FALSE)","v":{"$error":"#REF!"}},{"$error":"#REF!"},{"$error":"#REF!"}]
["ETI1121",3,3,{"$f":"VLOOKUP(A:A,#REF!,2,FALSE)","v":{"$error":"#REF!"}},{"$f":"VLOOKUP(A:A,#REF!,3,FALSE)","v":{"$error":"#REF!"}},{"$error":"#REF!"},{"$error":"#REF!"}]
["ETI2123C",3,2.5,{"$f":"VLOOKUP(A:A,#REF!,2,FALSE)","v":{"$error":"#REF!"}},{"$f":"VLOOKUP(A:A,#REF!,3,FALSE)","v":{"$error":"#REF!"}},{"$error":"#REF!"},{"$error":"#REF!"}]
["ETI2622",4,3.7,{"$f":"VLOOKUP(A:A,#REF!,2,FALSE)","v":{"$error":"#REF!"}},{"$f":"VLOOKUP(A:A,#REF!,3,FALSE)","v":{"$error":"#REF!"}},{"$error":"#REF!"},{"$error":"#REF!"}]
["ETM1010C",4,3.7,{"$f":"VLOOKUP(A:A,#REF!,2,FALSE)","v":{"$error":"#REF!"}},{"$f":"VLOOKUP(A:A,#REF!,3,FALSE)","v":{"$error":"#REF!"}},{"$error":"#REF!"},{"$error":"#REF!"}]
["ETM2315C",4,3.7,{"$f":"VLOOKUP(A:A,#REF!,2,FALSE)","v":{"$error":"#REF!"}},{"$f":"VLOOKUP(A:A,#REF!,3,FALSE)","v":{"$error":"#REF!"}},{"$error":"#REF!"},{"$error":"#REF!"}]
["ETM2317",4,3.7,{"$f":"VLOOKUP(A:A,#REF!,2,FALSE)","v":{"$error":"#REF!"}},{"$f":"VLOOKUP(A:A,#REF!,3,FALSE)","v":{"$error":"#REF!"}},{"$error":"#REF!"},{"$error":"#REF!"}]
["ETS1352",4,3.7,{"$f":"VLOOKUP(A:A,#REF!,2,FALSE)","v":{"$error":"#REF!"}},{"$f":"VLOOKUP(A:A,#REF!,3,FALSE)","v":{"$error":"#REF!"}},{"$error":"#REF!"},{"$error":"#REF!"}]
["ETS1412",3,3,{"$f":"VLOOKUP(A:A,#REF!,2,FALSE)","v":{"$error":"#REF!"}},{"$f":"VLOOKUP(A:A,#REF!,3,FALSE)","v":{"$error":"#REF!"}},{"$error":"#REF!"},{"$error":"#REF!"}]
["ETS1511C",4,3.7,{"$f":"VLOOKUP(A:A,#REF!,2,FALSE)","v":{"$error":"#REF!"}},{"$f":"VLOOKUP(A:A,#REF!,3,FALSE)","v":{"$error":"#REF!"}},{"$error":"#REF!"},{"$error":"#REF!"}]
["ETS1520",4,3.7,{"$f":"VLOOKUP(A:A,#REF!,2,FALSE)","v":{"$error":"#REF!"}},{"$f":"VLOOKUP(A:A,#REF!,3,FALSE)","v":{"$error":"#REF!"}},{"$error":"#REF!"},{"$error":"#REF!"}]
["ETS1531C",4,3.7,{"$f":"VLOOKUP(A:A,#REF!,2,FALSE)","v":{"$error":"#REF!"}},{"$f":"VLOOKUP(A:A,#REF!,3,FALSE)","v":{"$error":"#REF!"}},{"$error":"#REF!"},{"$error":"#REF!"}]
["ETS1535C",4,3.7,{"$f":"VLOOKUP(A:A,#REF!,2,FALSE)","v":{"$error":"#REF!"}},{"$f":"VLOOKUP(A:A,#REF!,3,FALSE)","v":{"$error":"#REF!"}},{"$error":"#REF!"},{"$error":"#REF!"}]
["ETS1540C",4,3.7,{"$f":"VLOOKUP(A:A,#REF!,2,FALSE)","v":{"$error":"#REF!"}},{"$f":"VLOOKUP(A:A,#REF!,3,FALSE)","v":{"$error":"#REF!"}},{"$error":"#REF!"},{"$error":"#REF!"}]
["ETS1542",4,3.7,{"$f":"VLOOKUP(A:A,#REF!,2,FALSE)","v":{"$error":"#REF!"}},{"$f":"VLOOKUP(A:A,#REF!,3,FALSE)","v":{"$error":"#REF!"}},{"$error":"#REF!"},{"$error":"#REF!"}]
["ETS1603",4,3.7,{"$f":"VLOOKUP(A:A,#REF!,2,FALSE)","v":{"$error":"#REF!"}},{"$f":"VLOOKUP(A:A,#REF!,3,FALSE)","v":{"$error":"#REF!"}},{"$error":"#REF!"},{"$error":"#REF!"}]
["ETS1632",4,3.7,{"$f":"VLOOKUP(A:A,#REF!,2,FALSE)","v":{"$error":"#REF!"}},{"$f":"VLOOKUP(A:A,#REF!,3,FALSE)","v":{"$error":"#REF!"}},{"$error":"#REF!"},{"$error":"#REF!"}]
["ETS1700C",4,3.7,{"$f":"VLOOKUP(A:A,#REF!,2,FALSE)","v":{"$error":"#REF!"}},{"$f":"VLOOKUP(A:A,#REF!,3,FALSE)","v":{"$error":"#REF!"}},{"$error":"#REF!"},{"$error":"#REF!"}]
["ETS1936",2,2,{"$f":"VLOOKUP(A:A,#REF!,2,FALSE)","v":{"$error":"#REF!"}},{"$f":"VLOOKUP(A:A,#REF!,3,FALSE)","v":{"$error":"#REF!"}},{"$error":"#REF!"},{"$error":"#REF!"}]
["ETS1941",0.01,0.01,{"$f":"VLOOKUP(A:A,#REF!,2,FALSE)","v":{"$error":"#REF!"}},{"$f":"VLOOKUP(A:A,#REF!,3,FALSE)","v":{"$error":"#REF!"}},{"$error":"#REF!"},{"$error":"#REF!"}]
["ETS1942",0.01,0.01,{"$f":"VLOOKUP(A:A,#REF!,2,FALSE)","v":{"$error":"#REF!"}},{"$f":"VLOOKUP(A:A,#REF!,3,FALSE)","v":{"$error":"#REF!"}},{"$error":"#REF!"},{"$error":"#REF!"}]
["ETS1943",0.01,0.01,{"$f":"VLOOKUP(A:A,#REF!,2,FALSE)","v":{"$error":"#REF!"}},{"$f":"VLOOKUP(A:A,#REF!,3,FALSE)","v":{"$error":"#REF!"}},{"$error":"#REF!"},{"$error":"#REF!"}]
["ETS2436C",4,3.4,{"$f":"VLOOKUP(A:A,#REF!,2,FALSE)","v":{"$error":"#REF!"}},{"$f":"VLOOKUP(A:A,#REF!,3,FALSE)","v":{"$error":"#REF!"}},{"$error":"#REF!"},{"$error":"#REF!"}]
["ETS2438C",4,3.4,{"$f":"VLOOKUP(A:A,#REF!,2,FALSE)","v":{"$error":"#REF!"}},{"$f":"VLOOKUP(A:A,#REF!,3,FALSE)","v":{"$error":"#REF!"}},{"$error":"#REF!"},{"$error":"#REF!"}]
["ETS2527",4,3.7,{"$f":"VLOOKUP(A:A,#REF!,2,FALSE)","v":{"$error":"#REF!"}},{"$f":"VLOOKUP(A:A,#REF!,3,FALSE)","v":{"$error":"#REF!"}},{"$error":"#REF!"},{"$error":"#REF!"}]
["ETS2946",0.01,0.01,{"$f":"VLOOKUP(A:A,#REF!,2,FALSE)","v":{"$error":"#REF!"}},{"$f":"VLOOKUP(A:A,#REF!,3,FALSE)","v":{"$error":"#REF!"}},{"$error":"#REF!"},{"$error":"#REF!"}]
["EUH1000",3,3,{"$f":"VLOOKUP(A:A,#REF!,2,FALSE)","v":{"$error":"#REF!"}},{"$f":"VLOOKUP(A:A,#REF!,3,FALSE)","v":{"$error":"#REF!"}},{"$error":"#REF!"},{"$error":"#REF!"}]
["EUH1001",3,3,{"$f":"VLOOKUP(A:A,#REF!,2,FALSE)","v":{"$error":"#REF!"}},{"$f":"VLOOKUP(A:A,#REF!,3,FALSE)","v":{"$error":"#REF!"}},{"$error":"#REF!"},{"$error":"#REF!"}]
["EVR1001",3,3,{"$f":"VLOOKUP(A:A,#REF!,2,FALSE)","v":{"$error":"#REF!"}},{"$f":"VLOOKUP(A:A,#REF!,3,FALSE)","v":{"$error":"#REF!"}},{"$error":"#REF!"},{"$error":"#REF!"}]
["EVR1030",3,3,{"$f":"VLOOKUP(A:A,#REF!,2,FALSE)","v":{"$error":"#REF!"}},{"$f":"VLOOKUP(A:A,#REF!,3,FALSE)","v":{"$error":"#REF!"}},{"$error":"#REF!"},{"$error":"#REF!"}]
["EVR1190",3,3,{"$f":"VLOOKUP(A:A,#REF!,2,FALSE)","v":{"$error":"#REF!"}},{"$f":"VLOOKUP(A:A,#REF!,3,FALSE)","v":{"$error":"#REF!"}},{"$error":"#REF!"},{"$error":"#REF!"}]
["EVR1264",3,3,{"$f":"VLOOKUP(A:A,#REF!,2,FALSE)","v":{"$error":"#REF!"}},{"$f":"VLOOKUP(A:A,#REF!,3,FALSE)","v":{"$error":"#REF!"}},{"$error":"#REF!"},{"$error":"#REF!"}]
["EVR1264L",1,0.5,{"$f":"VLOOKUP(A:A,#REF!,2,FALSE)","v":{"$error":"#REF!"}},{"$f":"VLOOKUP(A:A,#REF!,3,FALSE)","v":{"$error":"#REF!"}},{"$error":"#REF!"},{"$error":"#REF!"}]
["EVR1640",3,3,{"$f":"VLOOKUP(A:A,#REF!,2,FALSE)","v":{"$error":"#REF!"}},{"$f":"VLOOKUP(A:A,#REF!,3,FALSE)","v":{"$error":"#REF!"}},{"$error":"#REF!"},{"$error":"#REF!"}]
["EVR1858",3,3,{"$f":"VLOOKUP(A:A,#REF!,2,FALSE)","v":{"$error":"#REF!"}},{"$f":"VLOOKUP(A:A,#REF!,3,FALSE)","v":{"$error":"#REF!"}},{"$error":"#REF!"},{"$error":"#REF!"}]
["EVR1931",1,1,{"$f":"VLOOKUP(A:A,#REF!,2,FALSE)","v":{"$error":"#REF!"}},{"$f":"VLOOKUP(A:A,#REF!,3,FALSE)","v":{"$error":"#REF!"}},{"$error":"#REF!"},{"$error":"#REF!"}]
["EVR1933",3,3,{"$f":"VLOOKUP(A:A,#REF!,2,FALSE)","v":{"$error":"#REF!"}},{"$f":"VLOOKUP(A:A,#REF!,3,FALSE)","v":{"$error":"#REF!"}},{"$error":"#REF!"},{"$error":"#REF!"}]
["EVR2041",3,3,{"$f":"VLOOKUP(A:A,#REF!,2,FALSE)","v":{"$error":"#REF!"}},{"$f":"VLOOKUP(A:A,#REF!,3,FALSE)","v":{"$error":"#REF!"}},{"$error":"#REF!"},{"$error":"#REF!"}]
["EVR2613",3,3,{"$f":"VLOOKUP(A:A,#REF!,2,FALSE)","v":{"$error":"#REF!"}},{"$f":"VLOOKUP(A:A,#REF!,3,FALSE)","v":{"$error":"#REF!"}},{"$error":"#REF!"},{"$error":"#REF!"}]
["EVR2613L",3,1,{"$f":"VLOOKUP(A:A,#REF!,2,FALSE)","v":{"$error":"#REF!"}},{"$f":"VLOOKUP(A:A,#REF!,3,FALSE)","v":{"$error":"#REF!"}},{"$error":"#REF!"},{"$error":"#REF!"}]
["EVR2630",3,3,{"$f":"VLOOKUP(A:A,#REF!,2,FALSE)","v":{"$error":"#REF!"}},{"$f":"VLOOKUP(A:A,#REF!,3,FALSE)","v":{"$error":"#REF!"}},{"$error":"#REF!"},{"$error":"#REF!"}]
["EVR2943",0.01,0.01,{"$f":"VLOOKUP(A:A,#REF!,2,FALSE)","v":{"$error":"#REF!"}},{"$f":"VLOOKUP(A:A,#REF!,3,FALSE)","v":{"$error":"#REF!"}},{"$error":"#REF!"},{"$error":"#REF!"}]
["EVS1040",3,3,{"$f":"VLOOKUP(A:A,#REF!,2,FALSE)","v":{"$error":"#REF!"}},{"$f":"VLOOKUP(A:A,#REF!,3,FALSE)","v":{"$error":"#REF!"}},{"$f":"B1540-D1540","v":{"$error":"#REF!"}},{"$f":"C1540-E1540","v":{"$error":"#REF!"}}]
["EVS1193",3,3,{"$f":"VLOOKUP(A:A,#REF!,2,FALSE)","v":{"$error":"#REF!"}},{"$f":"VLOOKUP(A:A,#REF!,3,FALSE)","v":{"$error":"#REF!"}},{"$error":"#REF!"},{"$error":"#REF!"}]
["EVS2026C",4,3.4,{"$f":"VLOOKUP(A:A,#REF!,2,FALSE)","v":{"$error":"#REF!"}},{"$f":"VLOOKUP(A:A,#REF!,3,FALSE)","v":{"$error":"#REF!"}},{"$error":"#REF!"},{"$error":"#REF!"}]
["FER5057",0,0,{"$f":"VLOOKUP(A:A,#REF!,2,FALSE)","v":{"$error":"#REF!"}},{"$f":"VLOOKUP(A:A,#REF!,3,FALSE)","v":{"$error":"#REF!"}},{"$error":"#REF!"},{"$error":"#REF!"}]
["FES4045",3,3,{"$f":"VLOOKUP(A:A,#REF!,2,FALSE)","v":{"$error":"#REF!"}},{"$f":"VLOOKUP(A:A,#REF!,3,FALSE)","v":{"$error":"#REF!"}},{"$error":"#REF!"},{"$error":"#REF!"}]
["FES4823",3,3,{"$f":"VLOOKUP(A:A,#REF!,2,FALSE)","v":{"$error":"#REF!"}},{"$f":"VLOOKUP(A:A,#REF!,3,FALSE)","v":{"$error":"#REF!"}},{"$error":"#REF!"},{"$error":"#REF!"}]
["FFP0030",7.64,6.37,{"$f":"VLOOKUP(A:A,#REF!,2,FALSE)","v":{"$error":"#REF!"}},{"$f":"VLOOKUP(A:A,#REF!,3,FALSE)","v":{"$error":"#REF!"}},{"$error":"#REF!"},{"$error":"#REF!"}]
["FFP0031",12.04,10.029999999999999,{"$f":"VLOOKUP(A:A,#REF!,2,FALSE)","v":{"$error":"#REF!"}},{"$f":"VLOOKUP(A:A,#REF!,3,FALSE)","v":{"$error":"#REF!"}},{"$error":"#REF!"},{"$error":"#REF!"}]
["FFP1009",0,0,{"$f":"VLOOKUP(A:A,#REF!,2,FALSE)","v":{"$error":"#REF!"}},{"$f":"VLOOKUP(A:A,#REF!,3,FALSE)","v":{"$error":"#REF!"}},{"$error":"#REF!"},{"$error":"#REF!"}]
["FFP1702",3,3,{"$f":"VLOOKUP(A:A,#REF!,2,FALSE)","v":{"$error":"#REF!"}},{"$f":"VLOOKUP(A:A,#REF!,3,FALSE)","v":{"$error":"#REF!"}},{"$error":"#REF!"},{"$error":"#REF!"},"GED - No FWL"]
["FFP2111",3,3,{"$f":"VLOOKUP(A:A,#REF!,2,FALSE)","v":{"$error":"#REF!"}},{"$f":"VLOOKUP(A:A,#REF!,3,FALSE)","v":{"$error":"#REF!"}},{"$error":"#REF!"},{"$error":"#REF!"},"GED - No FWL"]
["FFP2120",3,3,{"$f":"VLOOKUP(A:A,#REF!,2,FALSE)","v":{"$error":"#REF!"}},{"$f":"VLOOKUP(A:A,#REF!,3,FALSE)","v":{"$error":"#REF!"}},{"$error":"#REF!"},{"$error":"#REF!"},"GED - No FWL"]
["FFP2301",3,3,{"$f":"VLOOKUP(A:A,#REF!,2,FALSE)","v":{"$error":"#REF!"}},{"$f":"VLOOKUP(A:A,#REF!,3,FALSE)","v":{"$error":"#REF!"}},{"$error":"#REF!"},{"$error":"#REF!"},"GED - No FWL"]
["FFP2505",3,3,{"$f":"VLOOKUP(A:A,#REF!,2,FALSE)","v":{"$error":"#REF!"}},{"$f":"VLOOKUP(A:A,#REF!,3,FALSE)","v":{"$error":"#REF!"}},{"$error":"#REF!"},{"$error":"#REF!"},"GED - No FWL"]
["FFP2521",3,3,{"$f":"VLOOKUP(A:A,#REF!,2,FALSE)","v":{"$error":"#REF!"}},{"$f":"VLOOKUP(A:A,#REF!,3,FALSE)","v":{"$error":"#REF!"}},{"$error":"#REF!"},{"$error":"#REF!"},"GED - No FWL"]
["FFP2540",3,3,{"$f":"VLOOKUP(A:A,#REF!,2,FALSE)","v":{"$error":"#REF!"}},{"$f":"VLOOKUP(A:A,#REF!,3,FALSE)","v":{"$error":"#REF!"}},{"$error":"#REF!"},{"$error":"#REF!"},"GED - No FWL"]
["FFP2604",3,3,{"$f":"VLOOKUP(A:A,#REF!,2,FALSE)","v":{"$error":"#REF!"}},{"$f":"VLOOKUP(A:A,#REF!,3,FALSE)","v":{"$error":"#REF!"}},{"$error":"#REF!"},{"$error":"#REF!"}]
["FFP2610",3,3,{"$f":"VLOOKUP(A:A,#REF!,2,FALSE)","v":{"$error":"#REF!"}},{"$f":"VLOOKUP(A:A,#REF!,3,FALSE)","v":{"$error":"#REF!"}},{"$error":"#REF!"},{"$error":"#REF!"}]
["FFP2670",3,3,{"$f":"VLOOKUP(A:A,#REF!,2,FALSE)","v":{"$error":"#REF!"}},{"$f":"VLOOKUP(A:A,#REF!,3,FALSE)","v":{"$error":"#REF!"}},{"$error":"#REF!"},{"$error":"#REF!"}]
["FFP2730",3,3,{"$f":"VLOOKUP(A:A,#REF!,2,FALSE)","v":{"$error":"#REF!"}},{"$f":"VLOOKUP(A:A,#REF!,3,FALSE)","v":{"$error":"#REF!"}},{"$error":"#REF!"},{"$error":"#REF!"}]
["FFP2740",3,3,{"$f":"VLOOKUP(A:A,#REF!,2,FALSE)","v":{"$error":"#REF!"}},{"$f":"VLOOKUP(A:A,#REF!,3,FALSE)","v":{"$error":"#REF!"}},{"$error":"#REF!"},{"$error":"#REF!"}]
["FFP2810",3,3,{"$f":"VLOOKUP(A:A,#REF!,2,FALSE)","v":{"$error":"#REF!"}},{"$f":"VLOOKUP(A:A,#REF!,3,FALSE)","v":{"$error":"#REF!"}},{"$error":"#REF!"},{"$error":"#REF!"}]
["FFP2811",3,3,{"$f":"VLOOKUP(A:A,#REF!,2,FALSE)","v":{"$error":"#REF!"}},{"$f":"VLOOKUP(A:A,#REF!,3,FALSE)","v":{"$error":"#REF!"}},{"$error":"#REF!"},{"$error":"#REF!"}]
["FIN2000",3,3,{"$f":"VLOOKUP(A:A,#REF!,2,FALSE)","v":{"$error":"#REF!"}},{"$f":"VLOOKUP(A:A,#REF!,3,FALSE)","v":{"$error":"#REF!"}},{"$error":"#REF!"},{"$error":"#REF!"}]
["FIN2100",3,3,{"$f":"VLOOKUP(A:A,#REF!,2,FALSE)","v":{"$error":"#REF!"}},{"$f":"VLOOKUP(A:A,#REF!,3,FALSE)","v":{"$error":"#REF!"}},{"$error":"#REF!"},{"$error":"#REF!"}]
["FIN3400",3,3,{"$f":"VLOOKUP(A:A,#REF!,2,FALSE)","v":{"$error":"#REF!"}},{"$f":"VLOOKUP(A:A,#REF!,3,FALSE)","v":{"$error":"#REF!"}},{"$error":"#REF!"},{"$error":"#REF!"}]
["FIN3450",3,3,{"$f":"VLOOKUP(A:A,#REF!,2,FALSE)","v":{"$error":"#REF!"}},{"$f":"VLOOKUP(A:A,#REF!,3,FALSE)","v":{"$error":"#REF!"}},{"$error":"#REF!"},{"$error":"#REF!"}]
["FIN3740",3,3,{"$f":"VLOOKUP(A:A,#REF!,2,FALSE)","v":{"$error":"#REF!"}},{"$f":"VLOOKUP(A:A,#REF!,3,FALSE)","v":{"$error":"#REF!"}},{"$error":"#REF!"},{"$error":"#REF!"}]
["FIN4232",3,3,{"$f":"VLOOKUP(A:A,#REF!,2,FALSE)","v":{"$error":"#REF!"}},{"$f":"VLOOKUP(A:A,#REF!,3,FALSE)","v":{"$error":"#REF!"}},{"$error":"#REF!"},{"$error":"#REF!"}]
["FIN4323",3,3,{"$f":"VLOOKUP(A:A,#REF!,2,FALSE)","v":{"$error":"#REF!"}},{"$f":"VLOOKUP(A:A,#REF!,3,FALSE)","v":{"$error":"#REF!"}},{"$error":"#REF!"},{"$error":"#REF!"}]
["FIN4324",3,3,{"$f":"VLOOKUP(A:A,#REF!,2,FALSE)","v":{"$error":"#REF!"}},{"$f":"VLOOKUP(A:A,#REF!,3,FALSE)","v":{"$error":"#REF!"}},{"$error":"#REF!"},{"$error":"#REF!"}]
["FIN4345",3,3,{"$f":"VLOOKUP(A:A,#REF!,2,FALSE)","v":{"$error":"#REF!"}},{"$f":"VLOOKUP(A:A,#REF!,3,FALSE)","v":{"$error":"#REF!"}},{"$error":"#REF!"},{"$error":"#REF!"}]
["FIN4451",3,3,{"$f":"VLOOKUP(A:A,#REF!,2,FALSE)","v":{"$error":"#REF!"}},{"$f":"VLOOKUP(A:A,#REF!,3,FALSE)","v":{"$error":"#REF!"}},{"$error":"#REF!"},{"$error":"#REF!"}]
["FIN4501",3,3,{"$f":"VLOOKUP(A:A,#REF!,2,FALSE)","v":{"$error":"#REF!"}},{"$f":"VLOOKUP(A:A,#REF!,3,FALSE)","v":{"$error":"#REF!"}},{"$error":"#REF!"},{"$error":"#REF!"}]
["FOS1201",3,3,{"$f":"VLOOKUP(A:A,#REF!,2,FALSE)","v":{"$error":"#REF!"}},{"$f":"VLOOKUP(A:A,#REF!,3,FALSE)","v":{"$error":"#REF!"}},{"$error":"#REF!"},{"$error":"#REF!"}]
["FRE1120",4,4,{"$f":"VLOOKUP(A:A,#REF!,2,FALSE)","v":{"$error":"#REF!"}},{"$f":"VLOOKUP(A:A,#REF!,3,FALSE)","v":{"$error":"#REF!"}},{"$error":"#REF!"},{"$error":"#REF!"}]
["FRE1121",4,4,{"$f":"VLOOKUP(A:A,#REF!,2,FALSE)","v":{"$error":"#REF!"}},{"$f":"VLOOKUP(A:A,#REF!,3,FALSE)","v":{"$error":"#REF!"}},{"$error":"#REF!"},{"$error":"#REF!"}]
["FRE2200",3,3,{"$f":"VLOOKUP(A:A,#REF!,2,FALSE)","v":{"$error":"#REF!"}},{"$f":"VLOOKUP(A:A,#REF!,3,FALSE)","v":{"$error":"#REF!"}},{"$error":"#REF!"},{"$error":"#REF!"}]
["FRE2201",3,3,{"$f":"VLOOKUP(A:A,#REF!,2,FALSE)","v":{"$error":"#REF!"}},{"$f":"VLOOKUP(A:A,#REF!,3,FALSE)","v":{"$error":"#REF!"}},{"$error":"#REF!"},{"$error":"#REF!"}]
["FRE2210",4,4,{"$f":"VLOOKUP(A:A,#REF!,2,FALSE)","v":{"$error":"#REF!"}},{"$f":"VLOOKUP(A:A,#REF!,3,FALSE)","v":{"$error":"#REF!"}},{"$error":"#REF!"},{"$error":"#REF!"}]
["FRE2211",3,3,{"$f":"VLOOKUP(A:A,#REF!,2,FALSE)","v":{"$error":"#REF!"}},{"$f":"VLOOKUP(A:A,#REF!,3,FALSE)","v":{"$error":"#REF!"}},{"$error":"#REF!"},{"$error":"#REF!"}]
["FSA0101",0,0,{"$f":"VLOOKUP(A:A,#REF!,2,FALSE)","v":{"$error":"#REF!"}},{"$f":"VLOOKUP(A:A,#REF!,3,FALSE)","v":{"$error":"#REF!"}},{"$error":"#REF!"},{"$error":"#REF!"}]
["FSA0201",0,0,{"$f":"VLOOKUP(A:A,#REF!,2,FALSE)","v":{"$error":"#REF!"}},{"$f":"VLOOKUP(A:A,#REF!,3,FALSE)","v":{"$error":"#REF!"}},{"$error":"#REF!"},{"$error":"#REF!"}]
["FSA0202",0,0,{"$f":"VLOOKUP(A:A,#REF!,2,FALSE)","v":{"$error":"#REF!"}},{"$f":"VLOOKUP(A:A,#REF!,3,FALSE)","v":{"$error":"#REF!"}},{"$error":"#REF!"},{"$error":"#REF!"}]
["FSA0301",0,0,{"$f":"VLOOKUP(A:A,#REF!,2,FALSE)","v":{"$error":"#REF!"}},{"$f":"VLOOKUP(A:A,#REF!,3,FALSE)","v":{"$error":"#REF!"}},{"$error":"#REF!"},{"$error":"#REF!"}]
["FSE1000",3,3,{"$f":"VLOOKUP(A:A,#REF!,2,FALSE)","v":{"$error":"#REF!"}},{"$f":"VLOOKUP(A:A,#REF!,3,FALSE)","v":{"$error":"#REF!"}},{"$error":"#REF!"},{"$error":"#REF!"}]
["FSE1105",3,3,{"$f":"VLOOKUP(A:A,#REF!,2,FALSE)","v":{"$error":"#REF!"}},{"$f":"VLOOKUP(A:A,#REF!,3,FALSE)","v":{"$error":"#REF!"}},{"$error":"#REF!"},{"$error":"#REF!"}]
["FSE1150",2,2,{"$f":"VLOOKUP(A:A,#REF!,2,FALSE)","v":{"$error":"#REF!"}},{"$f":"VLOOKUP(A:A,#REF!,3,FALSE)","v":{"$error":"#REF!"}},{"$error":"#REF!"},{"$error":"#REF!"}]
["FSE2060",3,3,{"$f":"VLOOKUP(A:A,#REF!,2,FALSE)","v":{"$error":"#REF!"}},{"$f":"VLOOKUP(A:A,#REF!,3,FALSE)","v":{"$error":"#REF!"}},{"$error":"#REF!"},{"$error":"#REF!"}]
["FSE2061",2,2,{"$f":"VLOOKUP(A:A,#REF!,2,FALSE)","v":{"$error":"#REF!"}},{"$f":"VLOOKUP(A:A,#REF!,3,FALSE)","v":{"$error":"#REF!"}},{"$error":"#REF!"},{"$error":"#REF!"}]
["FSE2080",3,3,{"$f":"VLOOKUP(A:A,#REF!,2,FALSE)","v":{"$error":"#REF!"}},{"$f":"VLOOKUP(A:A,#REF!,3,FALSE)","v":{"$error":"#REF!"}},{"$error":"#REF!"},{"$error":"#REF!"}]
["FSE2100",3,3,{"$f":"VLOOKUP(A:A,#REF!,2,FALSE)","v":{"$error":"#REF!"}},{"$f":"VLOOKUP(A:A,#REF!,3,FALSE)","v":{"$error":"#REF!"}},{"$error":"#REF!"},{"$error":"#REF!"}]
["FSE2100L",2,1.6,{"$f":"VLOOKUP(A:A,#REF!,2,FALSE)","v":{"$error":"#REF!"}},{"$f":"VLOOKUP(A:A,#REF!,3,FALSE)","v":{"$error":"#REF!"}},{"$error":"#REF!"},{"$error":"#REF!"}]
["FSE2120",3,3,{"$f":"VLOOKUP(A:A,#REF!,2,FALSE)","v":{"$error":"#REF!"}},{"$f":"VLOOKUP(A:A,#REF!,3,FALSE)","v":{"$error":"#REF!"}},{"$error":"#REF!"},{"$error":"#REF!"}]
["FSE2120L",2,1.6,{"$f":"VLOOKUP(A:A,#REF!,2,FALSE)","v":{"$error":"#REF!"}},{"$f":"VLOOKUP(A:A,#REF!,3,FALSE)","v":{"$error":"#REF!"}},{"$error":"#REF!"},{"$error":"#REF!"}]
["FSE2140",3,3,{"$f":"VLOOKUP(A:A,#REF!,2,FALSE)","v":{"$error":"#REF!"}},{"$f":"VLOOKUP(A:A,#REF!,3,FALSE)","v":{"$error":"#REF!"}},{"$error":"#REF!"},{"$error":"#REF!"}]
["FSE2140L",2,1.6,{"$f":"VLOOKUP(A:A,#REF!,2,FALSE)","v":{"$error":"#REF!"}},{"$f":"VLOOKUP(A:A,#REF!,3,FALSE)","v":{"$error":"#REF!"}},{"$error":"#REF!"},{"$error":"#REF!"}]
["FSE2160",3,3,{"$f":"VLOOKUP(A:A,#REF!,2,FALSE)","v":{"$error":"#REF!"}},{"$f":"VLOOKUP(A:A,#REF!,3,FALSE)","v":{"$error":"#REF!"}},{"$error":"#REF!"},{"$error":"#REF!"}]
["FSE2201",4,4,{"$f":"VLOOKUP(A:A,#REF!,2,FALSE)","v":{"$error":"#REF!"}},{"$f":"VLOOKUP(A:A,#REF!,3,FALSE)","v":{"$error":"#REF!"}},{"$error":"#REF!"},{"$error":"#REF!"}]
["FSE2202",3,3,{"$f":"VLOOKUP(A:A,#REF!,2,FALSE)","v":{"$error":"#REF!"}},{"$f":"VLOOKUP(A:A,#REF!,3,FALSE)","v":{"$error":"#REF!"}},{"$error":"#REF!"},{"$error":"#REF!"}]
["FSE2930",2,2,{"$f":"VLOOKUP(A:A,#REF!,2,FALSE)","v":{"$error":"#REF!"}},{"$f":"VLOOKUP(A:A,#REF!,3,FALSE)","v":{"$error":"#REF!"}},{"$error":"#REF!"},{"$error":"#REF!"}]
["FSE2946",0.01,0.01,{"$f":"VLOOKUP(A:A,#REF!,2,FALSE)","v":{"$error":"#REF!"}},{"$f":"VLOOKUP(A:A,#REF!,3,FALSE)","v":{"$error":"#REF!"}},{"$error":"#REF!"},{"$error":"#REF!"}]
["FSS1063",8,6.2,{"$f":"VLOOKUP(A:A,#REF!,2,FALSE)","v":{"$error":"#REF!"}},{"$f":"VLOOKUP(A:A,#REF!,3,FALSE)","v":{"$error":"#REF!"}},{"$error":"#REF!"},{"$error":"#REF!"}]
["FSS1100",2,2,{"$f":"VLOOKUP(A:A,#REF!,2,FALSE)","v":{"$error":"#REF!"}},{"$f":"VLOOKUP(A:A,#REF!,3,FALSE)","v":{"$error":"#REF!"}},{"$error":"#REF!"},{"$error":"#REF!"}]
["FSS1120",3,3,{"$f":"VLOOKUP(A:A,#REF!,2,FALSE)","v":{"$error":"#REF!"}},{"$f":"VLOOKUP(A:A,#REF!,3,FALSE)","v":{"$error":"#REF!"}},{"$f":"B1604-D1604","v":{"$error":"#REF!"}},{"$f":"C1604-E1604","v":{"$error":"#REF!"}}]
["FSS1200",3,1,{"$f":"VLOOKUP(A:A,#REF!,2,FALSE)","v":{"$error":"#REF!"}},{"$f":"VLOOKUP(A:A,#REF!,3,FALSE)","v":{"$error":"#REF!"}},{"$error":"#REF!"},{"$error":"#REF!"}]
["FSS1202C",8,6.2,{"$f":"VLOOKUP(A:A,#REF!,2,FALSE)","v":{"$error":"#REF!"}},{"$f":"VLOOKUP(A:A,#REF!,3,FALSE)","v":{"$error":"#REF!"}},{"$error":"#REF!"},{"$error":"#REF!"}]
["FSS1221",8,6.2,{"$f":"VLOOKUP(A:A,#REF!,2,FALSE)","v":{"$error":"#REF!"}},{"$f":"VLOOKUP(A:A,#REF!,3,FALSE)","v":{"$error":"#REF!"}},{"$error":"#REF!"},{"$error":"#REF!"}]
["FSS1240",8,6.2,{"$f":"VLOOKUP(A:A,#REF!,2,FALSE)","v":{"$error":"#REF!"}},{"$f":"VLOOKUP(A:A,#REF!,3,FALSE)","v":{"$error":"#REF!"}},{"$error":"#REF!"},{"$error":"#REF!"}]
["FSS1242",8,6.2,{"$f":"VLOOKUP(A:A,#REF!,2,FALSE)","v":{"$error":"#REF!"}},{"$f":"VLOOKUP(A:A,#REF!,3,FALSE)","v":{"$error":"#REF!"}},{"$error":"#REF!"},{"$error":"#REF!"}]
["FSS1248",8,6.2,{"$f":"VLOOKUP(A:A,#REF!,2,FALSE)","v":{"$error":"#REF!"}},{"$f":"VLOOKUP(A:A,#REF!,3,FALSE)","v":{"$error":"#REF!"}},{"$error":"#REF!"},{"$error":"#REF!"}]
["FSS1250C",8,6.2,{"$f":"VLOOKUP(A:A,#REF!,2,FALSE)","v":{"$error":"#REF!"}},{"$f":"VLOOKUP(A:A,#REF!,3,FALSE)","v":{"$error":"#REF!"}},{"$error":"#REF!"},{"$error":"#REF!"}]
["FSS2251",3,3,{"$f":"VLOOKUP(A:A,#REF!,2,FALSE)","v":{"$error":"#REF!"}},{"$f":"VLOOKUP(A:A,#REF!,3,FALSE)","v":{"$error":"#REF!"}},{"$error":"#REF!"},{"$error":"#REF!"}]
["FSS2284",8,6.2,{"$f":"VLOOKUP(A:A,#REF!,2,FALSE)","v":{"$error":"#REF!"}},{"$f":"VLOOKUP(A:A,#REF!,3,FALSE)","v":{"$error":"#REF!"}},{"$error":"#REF!"},{"$error":"#REF!"}]
["FSS2300",3,3,{"$f":"VLOOKUP(A:A,#REF!,2,FALSE)","v":{"$error":"#REF!"}},{"$f":"VLOOKUP(A:A,#REF!,3,FALSE)","v":{"$error":"#REF!"}},{"$error":"#REF!"},{"$error":"#REF!"},"CWE"]
["FSS2382C",1,1,{"$f":"VLOOKUP(A:A,#REF!,2,FALSE)","v":{"$error":"#REF!"}},{"$f":"VLOOKUP(A:A,#REF!,3,FALSE)","v":{"$error":"#REF!"}},{"$error":"#REF!"},{"$error":"#REF!"}]
["FSS2942",0.01,0.01,{"$f":"VLOOKUP(A:A,#REF!,2,FALSE)","v":{"$error":"#REF!"}},{"$f":"VLOOKUP(A:A,#REF!,3,FALSE)","v":{"$error":"#REF!"}},{"$error":"#REF!"},{"$error":"#REF!"},"CWE"]
["FSS2943",0.01,0.01,{"$f":"VLOOKUP(A:A,#REF!,2,FALSE)","v":{"$error":"#REF!"}},{"$f":"VLOOKUP(A:A,#REF!,3,FALSE)","v":{"$error":"#REF!"}},{"$error":"#REF!"},{"$error":"#REF!"},"CWE"]
["GEA1000",3,3,{"$f":"VLOOKUP(A:A,#REF!,2,FALSE)","v":{"$error":"#REF!"}},{"$f":"VLOOKUP(A:A,#REF!,3,FALSE)","v":{"$error":"#REF!"}},{"$error":"#REF!"},{"$error":"#REF!"}]
["GEB1011",3,3,{"$f":"VLOOKUP(A:A,#REF!,2,FALSE)","v":{"$error":"#REF!"}},{"$f":"VLOOKUP(A:A,#REF!,3,FALSE)","v":{"$error":"#REF!"}},{"$error":"#REF!"},{"$error":"#REF!"},"CWE"]
["GEB2930",3,3,{"$f":"VLOOKUP(A:A,#REF!,2,FALSE)","v":{"$error":"#REF!"}},{"$f":"VLOOKUP(A:A,#REF!,3,FALSE)","v":{"$error":"#REF!"}},{"$error":"#REF!"},{"$error":"#REF!"}]
["GEB3213",3,3,{"$f":"VLOOKUP(A:A,#REF!,2,FALSE)","v":{"$error":"#REF!"}},{"$f":"VLOOKUP(A:A,#REF!,3,FALSE)","v":{"$error":"#REF!"}},{"$error":"#REF!"},{"$error":"#REF!"},"CWE"]
["GEB4891",3,3,{"$f":"VLOOKUP(A:A,#REF!,2,FALSE)","v":{"$error":"#REF!"}},{"$f":"VLOOKUP(A:A,#REF!,3,FALSE)","v":{"$error":"#REF!"}},{"$error":"#REF!"},{"$error":"#REF!"},"CWE"]
["GED01WR",0,0,{"$f":"VLOOKUP(A:A,#REF!,2,FALSE)","v":{"$error":"#REF!"}},{"$f":"VLOOKUP(A:A,#REF!,3,FALSE)","v":{"$error":"#REF!"}},{"$error":"#REF!"},{"$error":"#REF!"},"CWE"]
["GED02SS",0,0,{"$f":"VLOOKUP(A:A,#REF!,2,FALSE)","v":{"$error":"#REF!"}},{"$f":"VLOOKUP(A:A,#REF!,3,FALSE)","v":{"$error":"#REF!"}},{"$error":"#REF!"},{"$error":"#REF!"},"CWE"]
["GED03SC",0,0,{"$f":"VLOOKUP(A:A,#REF!,2,FALSE)","v":{"$error":"#REF!"}},{"$f":"VLOOKUP(A:A,#REF!,3,FALSE)","v":{"$error":"#REF!"}},{"$error":"#REF!"},{"$error":"#REF!"},"CWE"]
["GED04RE",0,0,{"$f":"VLOOKUP(A:A,#REF!,2,FALSE)","v":{"$error":"#REF!"}},{"$f":"VLOOKUP(A:A,#REF!,3,FALSE)","v":{"$error":"#REF!"}},{"$error":"#REF!"},{"$error":"#REF!"}]
["GED05MA",0,0,{"$f":"VLOOKUP(A:A,#REF!,2,FALSE)","v":{"$error":"#REF!"}},{"$f":"VLOOKUP(A:A,#REF!,3,FALSE)","v":{"$error":"#REF!"}},{"$error":"#REF!"},{"$error":"#REF!"},"CWE"]
["GEDS01WR",0,0,{"$f":"VLOOKUP(A:A,#REF!,2,FALSE)","v":{"$error":"#REF!"}},{"$f":"VLOOKUP(A:A,#REF!,3,FALSE)","v":{"$error":"#REF!"}},{"$error":"#REF!"},{"$error":"#REF!"}]
["GEDS02SS",0,0,{"$f":"VLOOKUP(A:A,#REF!,2,FALSE)","v":{"$error":"#REF!"}},{"$f":"VLOOKUP(A:A,#REF!,3,FALSE)","v":{"$error":"#REF!"}},{"$error":"#REF!"},{"$error":"#REF!"}]
["GEO2420",3,3,{"$f":"VLOOKUP(A:A,#REF!,2,FALSE)","v":{"$error":"#REF!"}},{"$f":"VLOOKUP(A:A,#REF!,3,FALSE)","v":{"$error":"#REF!"}},{"$error":"#REF!"},{"$error":"#REF!"}]
["GER1120",4,4,{"$f":"VLOOKUP(A:A,#REF!,2,FALSE)","v":{"$error":"#REF!"}},{"$f":"VLOOKUP(A:A,#REF!,3,FALSE)","v":{"$error":"#REF!"}},{"$error":"#REF!"},{"$error":"#REF!"}]
["GER1121",4,4,{"$f":"VLOOKUP(A:A,#REF!,2,FALSE)","v":{"$error":"#REF!"}},{"$f":"VLOOKUP(A:A,#REF!,3,FALSE)","v":{"$error":"#REF!"}},{"$error":"#REF!"},{"$error":"#REF!"}]
["GER2200",3,3,{"$f":"VLOOKUP(A:A,#REF!,2,FALSE)","v":{"$error":"#REF!"}},{"$f":"VLOOKUP(A:A,#REF!,3,FALSE)","v":{"$error":"#REF!"}},{"$error":"#REF!"},{"$error":"#REF!"}]
["GER2201",3,3,{"$f":"VLOOKUP(A:A,#REF!,2,FALSE)","v":{"$error":"#REF!"}},{"$f":"VLOOKUP(A:A,#REF!,3,FALSE)","v":{"$error":"#REF!"}},{"$error":"#REF!"},{"$error":"#REF!"}]
["GEX0162A",2.56,2.56,{"$f":"VLOOKUP(A:A,#REF!,2,FALSE)","v":{"$error":"#REF!"}},{"$f":"VLOOKUP(A:A,#REF!,3,FALSE)","v":{"$error":"#REF!"}},{"$error":"#REF!"},{"$error":"#REF!"}]
["GEX0162B",1.79,1.79,{"$f":"VLOOKUP(A:A,#REF!,2,FALSE)","v":{"$error":"#REF!"}},{"$f":"VLOOKUP(A:A,#REF!,3,FALSE)","v":{"$error":"#REF!"}},{"$error":"#REF!"},{"$error":"#REF!"}]
["GEX0162C",0.77,0.77,{"$f":"VLOOKUP(A:A,#REF!,2,FALSE)","v":{"$error":"#REF!"}},{"$f":"VLOOKUP(A:A,#REF!,3,FALSE)","v":{"$error":"#REF!"}},{"$error":"#REF!"},{"$error":"#REF!"}]
["GEX0162D",1.28,1.28,{"$f":"VLOOKUP(A:A,#REF!,2,FALSE)","v":{"$error":"#REF!"}},{"$f":"VLOOKUP(A:A,#REF!,3,FALSE)","v":{"$error":"#REF!"}},{"$error":"#REF!"},{"$error":"#REF!"}]
["GEX0162E",1.28,1.28,{"$f":"VLOOKUP(A:A,#REF!,2,FALSE)","v":{"$error":"#REF!"}},{"$f":"VLOOKUP(A:A,#REF!,3,FALSE)","v":{"$error":"#REF!"}},{"$error":"#REF!"},{"$error":"#REF!"}]
["GEX0162N",2.56,2.56,{"$f":"VLOOKUP(A:A,#REF!,2,FALSE)","v":{"$error":"#REF!"}},{"$f":"VLOOKUP(A:A,#REF!,3,FALSE)","v":{"$error":"#REF!"}},{"$error":"#REF!"},{"$error":"#REF!"}]
["GEX0163A",2.56,2.56,{"$f":"VLOOKUP(A:A,#REF!,2,FALSE)","v":{"$error":"#REF!"}},{"$f":"VLOOKUP(A:A,#REF!,3,FALSE)","v":{"$error":"#REF!"}},{"$error":"#REF!"},{"$error":"#REF!"}]
["GEX0163B",1.79,1.79,{"$f":"VLOOKUP(A:A,#REF!,2,FALSE)","v":{"$error":"#REF!"}},{"$f":"VLOOKUP(A:A,#REF!,3,FALSE)","v":{"$error":"#REF!"}},{"$error":"#REF!"},{"$error":"#REF!"}]
["GEX0163C",0.77,0.77,{"$f":"VLOOKUP(A:A,#REF!,2,FALSE)","v":{"$error":"#REF!"}},{"$f":"VLOOKUP(A:A,#REF!,3,FALSE)","v":{"$error":"#REF!"}},{"$error":"#REF!"},{"$error":"#REF!"}]
["GEX0163D",1.28,1.28,{"$f":"VLOOKUP(A:A,#REF!,2,FALSE)","v":{"$error":"#REF!"}},{"$f":"VLOOKUP(A:A,#REF!,3,FALSE)","v":{"$error":"#REF!"}},{"$error":"#REF!"},{"$error":"#REF!"}]
["GEX0163E",1.28,1.28,{"$f":"VLOOKUP(A:A,#REF!,2,FALSE)","v":{"$error":"#REF!"}},{"$f":"VLOOKUP(A:A,#REF!,3,FALSE)","v":{"$error":"#REF!"}},{"$error":"#REF!"},{"$error":"#REF!"}]
["GEX0163N",2.56,2.56,{"$f":"VLOOKUP(A:A,#REF!,2,FALSE)","v":{"$error":"#REF!"}},{"$f":"VLOOKUP(A:A,#REF!,3,FALSE)","v":{"$error":"#REF!"}},{"$error":"#REF!"},{"$error":"#REF!"}]
["GEX0164A",2.56,2.56,{"$f":"VLOOKUP(A:A,#REF!,2,FALSE)","v":{"$error":"#REF!"}},{"$f":"VLOOKUP(A:A,#REF!,3,FALSE)","v":{"$error":"#REF!"}},{"$error":"#REF!"},{"$error":"#REF!"}]
["GEX0164B",1.79,1.79,{"$f":"VLOOKUP(A:A,#REF!,2,FALSE)","v":{"$error":"#REF!"}},{"$f":"VLOOKUP(A:A,#REF!,3,FALSE)","v":{"$error":"#REF!"}},{"$error":"#REF!"},{"$error":"#REF!"}]
["GEX0164C",0.77,0.77,{"$f":"VLOOKUP(A:A,#REF!,2,FALSE)","v":{"$error":"#REF!"}},{"$f":"VLOOKUP(A:A,#REF!,3,FALSE)","v":{"$error":"#REF!"}},{"$error":"#REF!"},{"$error":"#REF!"},"CWE"]
["GEX0164D",1.28,1.28,{"$f":"VLOOKUP(A:A,#REF!,2,FALSE)","v":{"$error":"#REF!"}},{"$f":"VLOOKUP(A:A,#REF!,3,FALSE)","v":{"$error":"#REF!"}},{"$error":"#REF!"},{"$error":"#REF!"}]
["GEX0164E",1.28,1.28,{"$f":"VLOOKUP(A:A,#REF!,2,FALSE)","v":{"$error":"#REF!"}},{"$f":"VLOOKUP(A:A,#REF!,3,FALSE)","v":{"$error":"#REF!"}},{"$error":"#REF!"},{"$error":"#REF!"}]
["GEX0164N",2.56,2.56,{"$f":"VLOOKUP(A:A,#REF!,2,FALSE)","v":{"$error":"#REF!"}},{"$f":"VLOOKUP(A:A,#REF!,3,FALSE)","v":{"$error":"#REF!"}},{"$error":"#REF!"},{"$error":"#REF!"}]
["GEX0166A",2.56,2.56,{"$f":"VLOOKUP(A:A,#REF!,2,FALSE)","v":{"$error":"#REF!"}},{"$f":"VLOOKUP(A:A,#REF!,3,FALSE)","v":{"$error":"#REF!"}},{"$error":"#REF!"},{"$error":"#REF!"}]
["GEX0166B",1.79,1.79,{"$f":"VLOOKUP(A:A,#REF!,2,FALSE)","v":{"$error":"#REF!"}},{"$f":"VLOOKUP(A:A,#REF!,3,FALSE)","v":{"$error":"#REF!"}},{"$error":"#REF!"},{"$error":"#REF!"},"CWE"]
["GEX0166C",0.77,0.77,{"$f":"VLOOKUP(A:A,#REF!,2,FALSE)","v":{"$error":"#REF!"}},{"$f":"VLOOKUP(A:A,#REF!,3,FALSE)","v":{"$error":"#REF!"}},{"$error":"#REF!"},{"$error":"#REF!"}]
["GEX0166D",1.28,1.28,{"$f":"VLOOKUP(A:A,#REF!,2,FALSE)","v":{"$error":"#REF!"}},{"$f":"VLOOKUP(A:A,#REF!,3,FALSE)","v":{"$error":"#REF!"}},{"$error":"#REF!"},{"$error":"#REF!"}]
["GEX0166E",1.28,1.28,{"$f":"VLOOKUP(A:A,#REF!,2,FALSE)","v":{"$error":"#REF!"}},{"$f":"VLOOKUP(A:A,#REF!,3,FALSE)","v":{"$error":"#REF!"}},{"$error":"#REF!"},{"$error":"#REF!"}]
["GEX0166N",2.56,2.56,{"$f":"VLOOKUP(A:A,#REF!,2,FALSE)","v":{"$error":"#REF!"}},{"$f":"VLOOKUP(A:A,#REF!,3,FALSE)","v":{"$error":"#REF!"}},{"$error":"#REF!"},{"$error":"#REF!"}]
["GEX0170A",2.56,2.56,{"$f":"VLOOKUP(A:A,#REF!,2,FALSE)","v":{"$error":"#REF!"}},{"$f":"VLOOKUP(A:A,#REF!,3,FALSE)","v":{"$error":"#REF!"}},{"$error":"#REF!"},{"$error":"#REF!"}]
["GEX0170B",1.79,1.79,{"$f":"VLOOKUP(A:A,#REF!,2,FALSE)","v":{"$error":"#REF!"}},{"$f":"VLOOKUP(A:A,#REF!,3,FALSE)","v":{"$error":"#REF!"}},{"$error":"#REF!"},{"$error":"#REF!"}]
["GEX0170C",0.77,0.77,{"$f":"VLOOKUP(A:A,#REF!,2,FALSE)","v":{"$error":"#REF!"}},{"$f":"VLOOKUP(A:A,#REF!,3,FALSE)","v":{"$error":"#REF!"}},{"$error":"#REF!"},{"$error":"#REF!"}]
["GEX0170D",1.28,1.28,{"$f":"VLOOKUP(A:A,#REF!,2,FALSE)","v":{"$error":"#REF!"}},{"$f":"VLOOKUP(A:A,#REF!,3,FALSE)","v":{"$error":"#REF!"}},{"$error":"#REF!"},{"$error":"#REF!"}]
["GEX0170E",1.28,1.28,{"$f":"VLOOKUP(A:A,#REF!,2,FALSE)","v":{"$error":"#REF!"}},{"$f":"VLOOKUP(A:A,#REF!,3,FALSE)","v":{"$error":"#REF!"}},{"$error":"#REF!"},{"$error":"#REF!"},"CWE"]
["GEX0170N",2.56,2.56,{"$f":"VLOOKUP(A:A,#REF!,2,FALSE)","v":{"$error":"#REF!"}},{"$f":"VLOOKUP(A:A,#REF!,3,FALSE)","v":{"$error":"#REF!"}},{"$error":"#REF!"},{"$error":"#REF!"}]
["GIS2040",4,3.5,{"$f":"VLOOKUP(A:A,#REF!,2,FALSE)","v":{"$error":"#REF!"}},{"$f":"VLOOKUP(A:A,#REF!,3,FALSE)","v":{"$error":"#REF!"}},{"$error":"#REF!"},{"$error":"#REF!"}]
["GIS2045",4,3.5,{"$f":"VLOOKUP(A:A,#REF!,2,FALSE)","v":{"$error":"#REF!"}},{"$f":"VLOOKUP(A:A,#REF!,3,FALSE)","v":{"$error":"#REF!"}},{"$error":"#REF!"},{"$error":"#REF!"}]
["GIS2046",4,3.5,{"$f":"VLOOKUP(A:A,#REF!,2,FALSE)","v":{"$error":"#REF!"}},{"$f":"VLOOKUP(A:A,#REF!,3,FALSE)","v":{"$error":"#REF!"}},{"$error":"#REF!"},{"$error":"#REF!"}]
["GLY1010C",5,5,{"$f":"VLOOKUP(A:A,#REF!,2,FALSE)","v":{"$error":"#REF!"}},{"$f":"VLOOKUP(A:A,#REF!,3,FALSE)","v":{"$error":"#REF!"}},{"$f":"B1668-D1668","v":{"$error":"#REF!"}},{"$f":"C1668-E1668","v":{"$error":"#REF!"}}]
["GLY1102",3,3,{"$f":"VLOOKUP(A:A,#REF!,2,FALSE)","v":{"$error":"#REF!"}},{"$f":"VLOOKUP(A:A,#REF!,3,FALSE)","v":{"$error":"#REF!"}},{"$error":"#REF!"},{"$error":"#REF!"}]
["GRA1105",4,3.7,{"$f":"VLOOKUP(A:A,#REF!,2,FALSE)","v":{"$error":"#REF!"}},{"$f":"VLOOKUP(A:A,#REF!,3,FALSE)","v":{"$error":"#REF!"}},{"$error":"#REF!"},{"$error":"#REF!"}]
["GRA1110C",4,4,{"$f":"VLOOKUP(A:A,#REF!,2,FALSE)","v":{"$error":"#REF!"}},{"$f":"VLOOKUP(A:A,#REF!,3,FALSE)","v":{"$error":"#REF!"}},{"$error":"#REF!"},{"$error":"#REF!"}]
["GRA1121",4,3.7,{"$f":"VLOOKUP(A:A,#REF!,2,FALSE)","v":{"$error":"#REF!"}},{"$f":"VLOOKUP(A:A,#REF!,3,FALSE)","v":{"$error":"#REF!"}},{"$error":"#REF!"},{"$error":"#REF!"}]
["GRA1156C",4,4,{"$f":"VLOOKUP(A:A,#REF!,2,FALSE)","v":{"$error":"#REF!"}},{"$f":"VLOOKUP(A:A,#REF!,3,FALSE)","v":{"$error":"#REF!"}},{"$error":"#REF!"},{"$error":"#REF!"}]
["GRA1942",0.01,0.01,{"$f":"VLOOKUP(A:A,#REF!,2,FALSE)","v":{"$error":"#REF!"}},{"$f":"VLOOKUP(A:A,#REF!,3,FALSE)","v":{"$error":"#REF!"}},{"$error":"#REF!"},{"$error":"#REF!"}]
["GRA1951",1,1,{"$f":"VLOOKUP(A:A,#REF!,2,FALSE)","v":{"$error":"#REF!"}},{"$f":"VLOOKUP(A:A,#REF!,3,FALSE)","v":{"$error":"#REF!"}},{"$error":"#REF!"},{"$error":"#REF!"}]
["GRA1952C",4,4,{"$f":"VLOOKUP(A:A,#REF!,2,FALSE)","v":{"$error":"#REF!"}},{"$f":"VLOOKUP(A:A,#REF!,3,FALSE)","v":{"$error":"#REF!"}},{"$error":"#REF!"},{"$error":"#REF!"}]
["GRA2144",4,3.7,{"$f":"VLOOKUP(A:A,#REF!,2,FALSE)","v":{"$error":"#REF!"}},{"$f":"VLOOKUP(A:A,#REF!,3,FALSE)","v":{"$error":"#REF!"}},{"$error":"#REF!"},{"$error":"#REF!"}]
["GRA2732",3,3,{"$f":"VLOOKUP(A:A,#REF!,2,FALSE)","v":{"$error":"#REF!"}},{"$f":"VLOOKUP(A:A,#REF!,3,FALSE)","v":{"$error":"#REF!"}},{"$error":"#REF!"},{"$error":"#REF!"}]
["GRA2946",0.01,0.01,{"$f":"VLOOKUP(A:A,#REF!,2,FALSE)","v":{"$error":"#REF!"}},{"$f":"VLOOKUP(A:A,#REF!,3,FALSE)","v":{"$error":"#REF!"}},{"$error":"#REF!"},{"$error":"#REF!"}]
["GRA3154C",4,4,{"$f":"VLOOKUP(A:A,#REF!,2,FALSE)","v":{"$error":"#REF!"}},{"$f":"VLOOKUP(A:A,#REF!,3,FALSE)","v":{"$error":"#REF!"}},{"$error":"#REF!"},{"$error":"#REF!"}]
["GRA3193C",4,4,{"$f":"VLOOKUP(A:A,#REF!,2,FALSE)","v":{"$error":"#REF!"}},{"$f":"VLOOKUP(A:A,#REF!,3,FALSE)","v":{"$error":"#REF!"}},{"$error":"#REF!"},{"$error":"#REF!"}]
["GRA3209C",4,4,{"$f":"VLOOKUP(A:A,#REF!,2,FALSE)","v":{"$error":"#REF!"}},{"$f":"VLOOKUP(A:A,#REF!,3,FALSE)","v":{"$error":"#REF!"}},{"$error":"#REF!"},{"$error":"#REF!"}]
["GRA3758C",4,4,{"$f":"VLOOKUP(A:A,#REF!,2,FALSE)","v":{"$error":"#REF!"}},{"$f":"VLOOKUP(A:A,#REF!,3,FALSE)","v":{"$error":"#REF!"}},{"$error":"#REF!"},{"$error":"#REF!"}]
["GRA3837C",4,4,{"$f":"VLOOKUP(A:A,#REF!,2,FALSE)","v":{"$error":"#REF!"}},{"$f":"VLOOKUP(A:A,#REF!,3,FALSE)","v":{"$error":"#REF!"}},{"$error":"#REF!"},{"$error":"#REF!"}]
["GRA4116C",4,3.7,{"$f":"VLOOKUP(A:A,#REF!,2,FALSE)","v":{"$error":"#REF!"}},{"$f":"VLOOKUP(A:A,#REF!,3,FALSE)","v":{"$error":"#REF!"}},{"$error":"#REF!"},{"$error":"#REF!"}]
["GRA4513C",4,4,{"$f":"VLOOKUP(A:A,#REF!,2,FALSE)","v":{"$error":"#REF!"}},{"$f":"VLOOKUP(A:A,#REF!,3,FALSE)","v":{"$error":"#REF!"}},{"$error":"#REF!"},{"$error":"#REF!"}]
["GRA4884C",4,4,{"$f":"VLOOKUP(A:A,#REF!,2,FALSE)","v":{"$error":"#REF!"}},{"$f":"VLOOKUP(A:A,#REF!,3,FALSE)","v":{"$error":"#REF!"}},{"$error":"#REF!"},{"$error":"#REF!"}]
["HEC0274",0.12,0.1,{"$f":"VLOOKUP(A:A,#REF!,2,FALSE)","v":{"$error":"#REF!"}},{"$f":"VLOOKUP(A:A,#REF!,3,FALSE)","v":{"$error":"#REF!"}},{"$error":"#REF!"},{"$error":"#REF!"}]
["HED0001",8,6.66,{"$f":"VLOOKUP(A:A,#REF!,2,FALSE)","v":{"$error":"#REF!"}},{"$f":"VLOOKUP(A:A,#REF!,3,FALSE)","v":{"$error":"#REF!"}},{"$error":"#REF!"},{"$error":"#REF!"}]
["HED0100",1.1200000000000001,0.93,{"$f":"VLOOKUP(A:A,#REF!,2,FALSE)","v":{"$error":"#REF!"}},{"$f":"VLOOKUP(A:A,#REF!,3,FALSE)","v":{"$error":"#REF!"}},{"$error":"#REF!"},{"$error":"#REF!"}]
["HED0101",3,2.5,{"$f":"VLOOKUP(A:A,#REF!,2,FALSE)","v":{"$error":"#REF!"}},{"$f":"VLOOKUP(A:A,#REF!,3,FALSE)","v":{"$error":"#REF!"}},{"$error":"#REF!"},{"$error":"#REF!"}]
["HED0102",2.4,2,{"$f":"VLOOKUP(A:A,#REF!,2,FALSE)","v":{"$error":"#REF!"}},{"$f":"VLOOKUP(A:A,#REF!,3,FALSE)","v":{"$error":"#REF!"}},{"$error":"#REF!"},{"$error":"#REF!"}]
["HED0103",2.68,2.23,{"$f":"VLOOKUP(A:A,#REF!,2,FALSE)","v":{"$error":"#REF!"}},{"$f":"VLOOKUP(A:A,#REF!,3,FALSE)","v":{"$error":"#REF!"}},{"$error":"#REF!"},{"$error":"#REF!"}]
["HED0104",0.8,0.66,{"$f":"VLOOKUP(A:A,#REF!,2,FALSE)","v":{"$error":"#REF!"}},{"$f":"VLOOKUP(A:A,#REF!,3,FALSE)","v":{"$error":"#REF!"}},{"$error":"#REF!"},{"$error":"#REF!"}]
["HED0105",1.2,1,{"$f":"VLOOKUP(A:A,#REF!,2,FALSE)","v":{"$error":"#REF!"}},{"$f":"VLOOKUP(A:A,#REF!,3,FALSE)","v":{"$error":"#REF!"}},{"$error":"#REF!"},{"$error":"#REF!"}]
["HED0106",2.04,1.7,{"$f":"VLOOKUP(A:A,#REF!,2,FALSE)","v":{"$error":"#REF!"}},{"$f":"VLOOKUP(A:A,#REF!,3,FALSE)","v":{"$error":"#REF!"}},{"$error":"#REF!"},{"$error":"#REF!"}]
["HED0107",1.6,1.3,{"$f":"VLOOKUP(A:A,#REF!,2,FALSE)","v":{"$error":"#REF!"}},{"$f":"VLOOKUP(A:A,#REF!,3,FALSE)","v":{"$error":"#REF!"}},{"$error":"#REF!"},{"$error":"#REF!"}]
["HED0108",0.26,0.22,{"$f":"VLOOKUP(A:A,#REF!,2,FALSE)","v":{"$error":"#REF!"}},{"$f":"VLOOKUP(A:A,#REF!,3,FALSE)","v":{"$error":"#REF!"}},{"$error":"#REF!"},{"$error":"#REF!"}]
["HED0109",1.28,1.01,{"$f":"VLOOKUP(A:A,#REF!,2,FALSE)","v":{"$error":"#REF!"}},{"$f":"VLOOKUP(A:A,#REF!,3,FALSE)","v":{"$error":"#REF!"}},{"$error":"#REF!"},{"$error":"#REF!"}]
["HED0110",3.2,2.66,{"$f":"VLOOKUP(A:A,#REF!,2,FALSE)","v":{"$error":"#REF!"}},{"$f":"VLOOKUP(A:A,#REF!,3,FALSE)","v":{"$error":"#REF!"}},{"$error":"#REF!"},{"$error":"#REF!"}]
["HED0111",2.04,1.7,{"$f":"VLOOKUP(A:A,#REF!,2,FALSE)","v":{"$error":"#REF!"}},{"$f":"VLOOKUP(A:A,#REF!,3,FALSE)","v":{"$error":"#REF!"}},{"$error":"#REF!"},{"$error":"#REF!"}]
["HED0112",1.92,1.92,{"$f":"VLOOKUP(A:A,#REF!,2,FALSE)","v":{"$error":"#REF!"}},{"$f":"VLOOKUP(A:A,#REF!,3,FALSE)","v":{"$error":"#REF!"}},{"$error":"#REF!"},{"$error":"#REF!"}]
["HED0120",11.2,9.33,{"$f":"VLOOKUP(A:A,#REF!,2,FALSE)","v":{"$error":"#REF!"}},{"$f":"VLOOKUP(A:A,#REF!,3,FALSE)","v":{"$error":"#REF!"}},{"$error":"#REF!"},{"$error":"#REF!"}]
["HED0121",3.2,2.66,{"$f":"VLOOKUP(A:A,#REF!,2,FALSE)","v":{"$error":"#REF!"}},{"$f":"VLOOKUP(A:A,#REF!,3,FALSE)","v":{"$error":"#REF!"}},{"$error":"#REF!"},{"$error":"#REF!"}]
["HED0122",4.8,4,{"$f":"VLOOKUP(A:A,#REF!,2,FALSE)","v":{"$error":"#REF!"}},{"$f":"VLOOKUP(A:A,#REF!,3,FALSE)","v":{"$error":"#REF!"}},{"$error":"#REF!"},{"$error":"#REF!"}]
["HED0123",7.2,6,{"$f":"VLOOKUP(A:A,#REF!,2,FALSE)","v":{"$error":"#REF!"}},{"$f":"VLOOKUP(A:A,#REF!,3,FALSE)","v":{"$error":"#REF!"}},{"$error":"#REF!"},{"$error":"#REF!"}]
["HED0131",1.92,1.3,{"$f":"VLOOKUP(A:A,#REF!,2,FALSE)","v":{"$error":"#REF!"}},{"$f":"VLOOKUP(A:A,#REF!,3,FALSE)","v":{"$error":"#REF!"}},{"$error":"#REF!"},{"$error":"#REF!"}]
["HED0140",3.2,2.66,{"$f":"VLOOKUP(A:A,#REF!,2,FALSE)","v":{"$error":"#REF!"}},{"$f":"VLOOKUP(A:A,#REF!,3,FALSE)","v":{"$error":"#REF!"}},{"$error":"#REF!"},{"$error":"#REF!"}]
["HED0141",3,2.66,{"$f":"VLOOKUP(A:A,#REF!,2,FALSE)","v":{"$error":"#REF!"}},{"$f":"VLOOKUP(A:A,#REF!,3,FALSE)","v":{"$error":"#REF!"}},{"$error":"#REF!"},{"$error":"#REF!"}]
["HED0142",3,2.66,{"$f":"VLOOKUP(A:A,#REF!,2,FALSE)","v":{"$error":"#REF!"}},{"$f":"VLOOKUP(A:A,#REF!,3,FALSE)","v":{"$error":"#REF!"}},{"$error":"#REF!"},{"$error":"#REF!"}]
["HED0143",3,2.66,{"$f":"VLOOKUP(A:A,#REF!,2,FALSE)","v":{"$error":"#REF!"}},{"$f":"VLOOKUP(A:A,#REF!,3,FALSE)","v":{"$error":"#REF!"}},{"$error":"#REF!"},{"$error":"#REF!"}]
["HED0144",8,6.66,{"$f":"VLOOKUP(A:A,#REF!,2,FALSE)","v":{"$error":"#REF!"}},{"$f":"VLOOKUP(A:A,#REF!,3,FALSE)","v":{"$error":"#REF!"}},{"$error":"#REF!"},{"$error":"#REF!"}]
["HED0145",3.2,2.66,{"$f":"VLOOKUP(A:A,#REF!,2,FALSE)","v":{"$error":"#REF!"}},{"$f":"VLOOKUP(A:A,#REF!,3,FALSE)","v":{"$error":"#REF!"}},{"$error":"#REF!"},{"$error":"#REF!"}]
["HED0146",3.2,2.66,{"$f":"VLOOKUP(A:A,#REF!,2,FALSE)","v":{"$error":"#REF!"}},{"$f":"VLOOKUP(A:A,#REF!,3,FALSE)","v":{"$error":"#REF!"}},{"$error":"#REF!"},{"$error":"#REF!"}]
["HED0147",3.2,2.66,{"$f":"VLOOKUP(A:A,#REF!,2,FALSE)","v":{"$error":"#REF!"}},{"$f":"VLOOKUP(A:A,#REF!,3,FALSE)","v":{"$error":"#REF!"}},{"$error":"#REF!"},{"$error":"#REF!"}]
["HED0148",3.2,2.66,{"$f":"VLOOKUP(A:A,#REF!,2,FALSE)","v":{"$error":"#REF!"}},{"$f":"VLOOKUP(A:A,#REF!,3,FALSE)","v":{"$error":"#REF!"}},{"$error":"#REF!"},{"$error":"#REF!"}]
["HED0253",3.2,2.66,{"$f":"VLOOKUP(A:A,#REF!,2,FALSE)","v":{"$error":"#REF!"}},{"$f":"VLOOKUP(A:A,#REF!,3,FALSE)","v":{"$error":"#REF!"}},{"$error":"#REF!"},{"$error":"#REF!"}]
["HED0430C",1.6,1.3,{"$f":"VLOOKUP(A:A,#REF!,2,FALSE)","v":{"$error":"#REF!"}},{"$f":"VLOOKUP(A:A,#REF!,3,FALSE)","v":{"$error":"#REF!"}},{"$error":"#REF!"},{"$error":"#REF!"}]
["HED0703",1.6,1.33,{"$f":"VLOOKUP(A:A,#REF!,2,FALSE)","v":{"$error":"#REF!"}},{"$f":"VLOOKUP(A:A,#REF!,3,FALSE)","v":{"$error":"#REF!"}},{"$error":"#REF!"},{"$error":"#REF!"}]
["HED0704",1.4,1.1599999999999999,{"$f":"VLOOKUP(A:A,#REF!,2,FALSE)","v":{"$error":"#REF!"}},{"$f":"VLOOKUP(A:A,#REF!,3,FALSE)","v":{"$error":"#REF!"}},{"$error":"#REF!"},{"$error":"#REF!"}]
["HED0705",4,3.33,{"$f":"VLOOKUP(A:A,#REF!,2,FALSE)","v":{"$error":"#REF!"}},{"$f":"VLOOKUP(A:A,#REF!,3,FALSE)","v":{"$error":"#REF!"}},{"$error":"#REF!"},{"$error":"#REF!"}]
["HED0706",5.6,4.67,{"$f":"VLOOKUP(A:A,#REF!,2,FALSE)","v":{"$error":"#REF!"}},{"$f":"VLOOKUP(A:A,#REF!,3,FALSE)","v":{"$error":"#REF!"}},{"$error":"#REF!"},{"$error":"#REF!"}]
["HED0707",4.8,4,{"$f":"VLOOKUP(A:A,#REF!,2,FALSE)","v":{"$error":"#REF!"}},{"$f":"VLOOKUP(A:A,#REF!,3,FALSE)","v":{"$error":"#REF!"}},{"$error":"#REF!"},{"$error":"#REF!"}]
["HED0708",5,4.17,{"$f":"VLOOKUP(A:A,#REF!,2,FALSE)","v":{"$error":"#REF!"}},{"$f":"VLOOKUP(A:A,#REF!,3,FALSE)","v":{"$error":"#REF!"}},{"$error":"#REF!"},{"$error":"#REF!"}]
["HED0709",0.32,0.26,{"$f":"VLOOKUP(A:A,#REF!,2,FALSE)","v":{"$error":"#REF!"}},{"$f":"VLOOKUP(A:A,#REF!,3,FALSE)","v":{"$error":"#REF!"}},{"$error":"#REF!"},{"$error":"#REF!"}]
["HED0710",2,1.67,{"$f":"VLOOKUP(A:A,#REF!,2,FALSE)","v":{"$error":"#REF!"}},{"$f":"VLOOKUP(A:A,#REF!,3,FALSE)","v":{"$error":"#REF!"}},{"$error":"#REF!"},{"$error":"#REF!"}]
["HED0711",3,2.5,{"$f":"VLOOKUP(A:A,#REF!,2,FALSE)","v":{"$error":"#REF!"}},{"$f":"VLOOKUP(A:A,#REF!,3,FALSE)","v":{"$error":"#REF!"}},{"$error":"#REF!"},{"$error":"#REF!"}]
["HED0712",6,5,{"$f":"VLOOKUP(A:A,#REF!,2,FALSE)","v":{"$error":"#REF!"}},{"$f":"VLOOKUP(A:A,#REF!,3,FALSE)","v":{"$error":"#REF!"}},{"$error":"#REF!"},{"$error":"#REF!"}]
["HED0713",4,3.33,{"$f":"VLOOKUP(A:A,#REF!,2,FALSE)","v":{"$error":"#REF!"}},{"$f":"VLOOKUP(A:A,#REF!,3,FALSE)","v":{"$error":"#REF!"}},{"$error":"#REF!"},{"$error":"#REF!"}]
["HED0714",3.84,3.2,{"$f":"VLOOKUP(A:A,#REF!,2,FALSE)","v":{"$error":"#REF!"}},{"$f":"VLOOKUP(A:A,#REF!,3,FALSE)","v":{"$error":"#REF!"}},{"$error":"#REF!"},{"$error":"#REF!"}]
["HED0715",1.28,1.07,{"$f":"VLOOKUP(A:A,#REF!,2,FALSE)","v":{"$error":"#REF!"}},{"$f":"VLOOKUP(A:A,#REF!,3,FALSE)","v":{"$error":"#REF!"}},{"$error":"#REF!"},{"$error":"#REF!"}]
["HED0716",0.96,0.8,{"$f":"VLOOKUP(A:A,#REF!,2,FALSE)","v":{"$error":"#REF!"}},{"$f":"VLOOKUP(A:A,#REF!,3,FALSE)","v":{"$error":"#REF!"}},{"$f":"B1732-D1732","v":{"$error":"#REF!"}},{"$f":"C1732-E1732","v":{"$error":"#REF!"}}]
["HED0717",1.28,1.06,{"$f":"VLOOKUP(A:A,#REF!,2,FALSE)","v":{"$error":"#REF!"}},{"$f":"VLOOKUP(A:A,#REF!,3,FALSE)","v":{"$error":"#REF!"}},{"$error":"#REF!"},{"$error":"#REF!"}]
["HED0718",5.2,4.33,{"$f":"VLOOKUP(A:A,#REF!,2,FALSE)","v":{"$error":"#REF!"}},{"$f":"VLOOKUP(A:A,#REF!,3,FALSE)","v":{"$error":"#REF!"}},{"$error":"#REF!"},{"$error":"#REF!"}]
["HED0719",5.4,4.5,{"$f":"VLOOKUP(A:A,#REF!,2,FALSE)","v":{"$error":"#REF!"}},{"$f":"VLOOKUP(A:A,#REF!,3,FALSE)","v":{"$error":"#REF!"}},{"$error":"#REF!"},{"$error":"#REF!"}]
["HED0720",5.4,4.5,{"$f":"VLOOKUP(A:A,#REF!,2,FALSE)","v":{"$error":"#REF!"}},{"$f":"VLOOKUP(A:A,#REF!,3,FALSE)","v":{"$error":"#REF!"}},{"$error":"#REF!"},{"$error":"#REF!"}]
["HED0721",0.96,0.8,{"$f":"VLOOKUP(A:A,#REF!,2,FALSE)","v":{"$error":"#REF!"}},{"$f":"VLOOKUP(A:A,#REF!,3,FALSE)","v":{"$error":"#REF!"}},{"$error":"#REF!"},{"$error":"#REF!"}]
["HED0750",2.4,2,{"$f":"VLOOKUP(A:A,#REF!,2,FALSE)","v":{"$error":"#REF!"}},{"$f":"VLOOKUP(A:A,#REF!,3,FALSE)","v":{"$error":"#REF!"}},{"$error":"#REF!"},{"$error":"#REF!"}]
["HFT1000",3,3,{"$f":"VLOOKUP(A:A,#REF!,2,FALSE)","v":{"$error":"#REF!"}},{"$f":"VLOOKUP(A:A,#REF!,3,FALSE)","v":{"$error":"#REF!"}},{"$error":"#REF!"},{"$error":"#REF!"}]
["HFT1250",3,3,{"$f":"VLOOKUP(A:A,#REF!,2,FALSE)","v":{"$error":"#REF!"}},{"$f":"VLOOKUP(A:A,#REF!,3,FALSE)","v":{"$error":"#REF!"}},{"$error":"#REF!"},{"$error":"#REF!"}]
["HFT1254",3,3,{"$f":"VLOOKUP(A:A,#REF!,2,FALSE)","v":{"$error":"#REF!"}},{"$f":"VLOOKUP(A:A,#REF!,3,FALSE)","v":{"$error":"#REF!"}},{"$error":"#REF!"},{"$error":"#REF!"}]
["HFT1300",3,3,{"$f":"VLOOKUP(A:A,#REF!,2,FALSE)","v":{"$error":"#REF!"}},{"$f":"VLOOKUP(A:A,#REF!,3,FALSE)","v":{"$error":"#REF!"}},{"$error":"#REF!"},{"$error":"#REF!"}]
["HFT1410",3,3,{"$f":"VLOOKUP(A:A,#REF!,2,FALSE)","v":{"$error":"#REF!"}},{"$f":"VLOOKUP(A:A,#REF!,3,FALSE)","v":{"$error":"#REF!"}},{"$error":"#REF!"},{"$error":"#REF!"}]
["HFT1441",3,3,{"$f":"VLOOKUP(A:A,#REF!,2,FALSE)","v":{"$error":"#REF!"}},{"$f":"VLOOKUP(A:A,#REF!,3,FALSE)","v":{"$error":"#REF!"}},{"$error":"#REF!"},{"$error":"#REF!"}]
["HFT1500",3,3,{"$f":"VLOOKUP(A:A,#REF!,2,FALSE)","v":{"$error":"#REF!"}},{"$f":"VLOOKUP(A:A,#REF!,3,FALSE)","v":{"$error":"#REF!"}},{"$error":"#REF!"},{"$error":"#REF!"}]
["HFT1600",3,3,{"$f":"VLOOKUP(A:A,#REF!,2,FALSE)","v":{"$error":"#REF!"}},{"$f":"VLOOKUP(A:A,#REF!,3,FALSE)","v":{"$error":"#REF!"}},{"$error":"#REF!"},{"$error":"#REF!"}]
["HFT1750",3,3,{"$f":"VLOOKUP(A:A,#REF!,2,FALSE)","v":{"$error":"#REF!"}},{"$f":"VLOOKUP(A:A,#REF!,3,FALSE)","v":{"$error":"#REF!"}},{"$error":"#REF!"},{"$error":"#REF!"}]
["HFT2401",3,3,{"$f":"VLOOKUP(A:A,#REF!,2,FALSE)","v":{"$error":"#REF!"}},{"$f":"VLOOKUP(A:A,#REF!,3,FALSE)","v":{"$error":"#REF!"}},{"$error":"#REF!"},{"$error":"#REF!"}]
["HFT2770",3,3,{"$f":"VLOOKUP(A:A,#REF!,2,FALSE)","v":{"$error":"#REF!"}},{"$f":"VLOOKUP(A:A,#REF!,3,FALSE)","v":{"$error":"#REF!"}},{"$error":"#REF!"},{"$error":"#REF!"}]
["HFT2941",0.27,0.27,{"$f":"VLOOKUP(A:A,#REF!,2,FALSE)","v":{"$error":"#REF!"}},{"$f":"VLOOKUP(A:A,#REF!,3,FALSE)","v":{"$error":"#REF!"}},{"$error":"#REF!"},{"$error":"#REF!"}]
["HFT2942",0.27,0.27,{"$f":"VLOOKUP(A:A,#REF!,2,FALSE)","v":{"$error":"#REF!"}},{"$f":"VLOOKUP(A:A,#REF!,3,FALSE)","v":{"$error":"#REF!"}},{"$error":"#REF!"},{"$error":"#REF!"}]
["HIM1000",2,2,{"$f":"VLOOKUP(A:A,#REF!,2,FALSE)","v":{"$error":"#REF!"}},{"$f":"VLOOKUP(A:A,#REF!,3,FALSE)","v":{"$error":"#REF!"}},{"$error":"#REF!"},{"$error":"#REF!"}]
["HIM1110",2,2,{"$f":"VLOOKUP(A:A,#REF!,2,FALSE)","v":{"$error":"#REF!"}},{"$f":"VLOOKUP(A:A,#REF!,3,FALSE)","v":{"$error":"#REF!"}},{"$error":"#REF!"},{"$error":"#REF!"}]
["HIM1224C",3,3,{"$f":"VLOOKUP(A:A,#REF!,2,FALSE)","v":{"$error":"#REF!"}},{"$f":"VLOOKUP(A:A,#REF!,3,FALSE)","v":{"$error":"#REF!"}},{"$error":"#REF!"},{"$error":"#REF!"}]
["HIM1253C",3,3,{"$f":"VLOOKUP(A:A,#REF!,2,FALSE)","v":{"$error":"#REF!"}},{"$f":"VLOOKUP(A:A,#REF!,3,FALSE)","v":{"$error":"#REF!"}},{"$error":"#REF!"},{"$error":"#REF!"}]
["HIM1260",2,2,{"$f":"VLOOKUP(A:A,#REF!,2,FALSE)","v":{"$error":"#REF!"}},{"$f":"VLOOKUP(A:A,#REF!,3,FALSE)","v":{"$error":"#REF!"}},{"$error":"#REF!"},{"$error":"#REF!"}]
["HIM1300",2,2,{"$f":"VLOOKUP(A:A,#REF!,2,FALSE)","v":{"$error":"#REF!"}},{"$f":"VLOOKUP(A:A,#REF!,3,FALSE)","v":{"$error":"#REF!"}},{"$error":"#REF!"},{"$error":"#REF!"}]
["HIM1435",3,3,{"$f":"VLOOKUP(A:A,#REF!,2,FALSE)","v":{"$error":"#REF!"}},{"$f":"VLOOKUP(A:A,#REF!,3,FALSE)","v":{"$error":"#REF!"}},{"$error":"#REF!"},{"$error":"#REF!"}]
["HIM1511",2,2,{"$f":"VLOOKUP(A:A,#REF!,2,FALSE)","v":{"$error":"#REF!"}},{"$f":"VLOOKUP(A:A,#REF!,3,FALSE)","v":{"$error":"#REF!"}},{"$error":"#REF!"},{"$error":"#REF!"}]
["HIM1800",0.01,0.01,{"$f":"VLOOKUP(A:A,#REF!,2,FALSE)","v":{"$error":"#REF!"}},{"$f":"VLOOKUP(A:A,#REF!,3,FALSE)","v":{"$error":"#REF!"}},{"$error":"#REF!"},{"$error":"#REF!"}]
["HIM2012",3,3,{"$f":"VLOOKUP(A:A,#REF!,2,FALSE)","v":{"$error":"#REF!"}},{"$f":"VLOOKUP(A:A,#REF!,3,FALSE)","v":{"$error":"#REF!"}},{"$error":"#REF!"},{"$error":"#REF!"}]
["HIM2111",3,3,{"$f":"VLOOKUP(A:A,#REF!,2,FALSE)","v":{"$error":"#REF!"}},{"$f":"VLOOKUP(A:A,#REF!,3,FALSE)","v":{"$error":"#REF!"}},{"$error":"#REF!"},{"$error":"#REF!"}]
["HIM2214C",3,3,{"$f":"VLOOKUP(A:A,#REF!,2,FALSE)","v":{"$error":"#REF!"}},{"$f":"VLOOKUP(A:A,#REF!,3,FALSE)","v":{"$error":"#REF!"}},{"$error":"#REF!"},{"$error":"#REF!"}]
["HIM2285C",3,3,{"$f":"VLOOKUP(A:A,#REF!,2,FALSE)","v":{"$error":"#REF!"}},{"$f":"VLOOKUP(A:A,#REF!,3,FALSE)","v":{"$error":"#REF!"}},{"$error":"#REF!"},{"$error":"#REF!"}]
["HIM2442",1,1,{"$f":"VLOOKUP(A:A,#REF!,2,FALSE)","v":{"$error":"#REF!"}},{"$f":"VLOOKUP(A:A,#REF!,3,FALSE)","v":{"$error":"#REF!"}},{"$error":"#REF!"},{"$error":"#REF!"}]
["HIM2500",2,2,{"$f":"VLOOKUP(A:A,#REF!,2,FALSE)","v":{"$error":"#REF!"}},{"$f":"VLOOKUP(A:A,#REF!,3,FALSE)","v":{"$error":"#REF!"}},{"$error":"#REF!"},{"$error":"#REF!"}]
["HIM2512",3,3,{"$f":"VLOOKUP(A:A,#REF!,2,FALSE)","v":{"$error":"#REF!"}},{"$f":"VLOOKUP(A:A,#REF!,3,FALSE)","v":{"$error":"#REF!"}},{"$error":"#REF!"},{"$error":"#REF!"}]
["HIM2621",3,3,{"$f":"VLOOKUP(A:A,#REF!,2,FALSE)","v":{"$error":"#REF!"}},{"$f":"VLOOKUP(A:A,#REF!,3,FALSE)","v":{"$error":"#REF!"}},{"$error":"#REF!"},{"$error":"#REF!"}]
["HIM2810",0.01,0.01,{"$f":"VLOOKUP(A:A,#REF!,2,FALSE)","v":{"$error":"#REF!"}},{"$f":"VLOOKUP(A:A,#REF!,3,FALSE)","v":{"$error":"#REF!"}},{"$error":"#REF!"},{"$error":"#REF!"}]
["HIM2822",3,3,{"$f":"VLOOKUP(A:A,#REF!,2,FALSE)","v":{"$error":"#REF!"}},{"$f":"VLOOKUP(A:A,#REF!,3,FALSE)","v":{"$error":"#REF!"}},{"$error":"#REF!"},{"$error":"#REF!"}]
["HIS2930",3,3,{"$f":"VLOOKUP(A:A,#REF!,2,FALSE)","v":{"$error":"#REF!"}},{"$f":"VLOOKUP(A:A,#REF!,3,FALSE)","v":{"$error":"#REF!"}},{"$error":"#REF!"},{"$error":"#REF!"}]
["HLP1082",3,3,{"$f":"VLOOKUP(A:A,#REF!,2,FALSE)","v":{"$error":"#REF!"}},{"$f":"VLOOKUP(A:A,#REF!,3,FALSE)","v":{"$error":"#REF!"}},{"$error":"#REF!"},{"$error":"#REF!"}]
["HSA2010",3,3,{"$f":"VLOOKUP(A:A,#REF!,2,FALSE)","v":{"$error":"#REF!"}},{"$f":"VLOOKUP(A:A,#REF!,3,FALSE)","v":{"$error":"#REF!"}},{"$error":"#REF!"},{"$error":"#REF!"}]
["HSA2117",3,3,{"$f":"VLOOKUP(A:A,#REF!,2,FALSE)","v":{"$error":"#REF!"}},{"$f":"VLOOKUP(A:A,#REF!,3,FALSE)","v":{"$error":"#REF!"}},{"$error":"#REF!"},{"$error":"#REF!"}]
["HSA2322",3,3,{"$f":"VLOOKUP(A:A,#REF!,2,FALSE)","v":{"$error":"#REF!"}},{"$f":"VLOOKUP(A:A,#REF!,3,FALSE)","v":{"$error":"#REF!"}},{"$error":"#REF!"},{"$error":"#REF!"}]
["HSA3110",3,3,{"$f":"VLOOKUP(A:A,#REF!,2,FALSE)","v":{"$error":"#REF!"}},{"$f":"VLOOKUP(A:A,#REF!,3,FALSE)","v":{"$error":"#REF!"}},{"$error":"#REF!"},{"$error":"#REF!"}]
["HSA3113",3,3,{"$f":"VLOOKUP(A:A,#REF!,2,FALSE)","v":{"$error":"#REF!"}},{"$f":"VLOOKUP(A:A,#REF!,3,FALSE)","v":{"$error":"#REF!"}},{"$error":"#REF!"},{"$error":"#REF!"}]
["HSA3170",3,3,{"$f":"VLOOKUP(A:A,#REF!,2,FALSE)","v":{"$error":"#REF!"}},{"$f":"VLOOKUP(A:A,#REF!,3,FALSE)","v":{"$error":"#REF!"}},{"$error":"#REF!"},{"$error":"#REF!"},"CWE"]
["HSA4383",3,3,{"$f":"VLOOKUP(A:A,#REF!,2,FALSE)","v":{"$error":"#REF!"}},{"$f":"VLOOKUP(A:A,#REF!,3,FALSE)","v":{"$error":"#REF!"}},{"$error":"#REF!"},{"$error":"#REF!"}]
["HSA4421",3,3,{"$f":"VLOOKUP(A:A,#REF!,2,FALSE)","v":{"$error":"#REF!"}},{"$f":"VLOOKUP(A:A,#REF!,3,FALSE)","v":{"$error":"#REF!"}},{"$error":"#REF!"},{"$error":"#REF!"}]
["HSA4502",3,3,{"$f":"VLOOKUP(A:A,#REF!,2,FALSE)","v":{"$error":"#REF!"}},{"$f":"VLOOKUP(A:A,#REF!,3,FALSE)","v":{"$error":"#REF!"}},{"$error":"#REF!"},{"$error":"#REF!"},"CWE"]
["HSA4922",3,3,{"$f":"VLOOKUP(A:A,#REF!,2,FALSE)","v":{"$error":"#REF!"}},{"$f":"VLOOKUP(A:A,#REF!,3,FALSE)","v":{"$error":"#REF!"}},{"$error":"#REF!"},{"$error":"#REF!"}]
["HSC0003",3.6,3,{"$f":"VLOOKUP(A:A,#REF!,2,FALSE)","v":{"$error":"#REF!"}},{"$f":"VLOOKUP(A:A,#REF!,3,FALSE)","v":{"$error":"#REF!"}},{"$error":"#REF!"},{"$error":"#REF!"}]
["HSC1524",2,2,{"$f":"VLOOKUP(A:A,#REF!,2,FALSE)","v":{"$error":"#REF!"}},{"$f":"VLOOKUP(A:A,#REF!,3,FALSE)","v":{"$error":"#REF!"}},{"$error":"#REF!"},{"$error":"#REF!"}]
["HSC1531",3,3,{"$f":"VLOOKUP(A:A,#REF!,2,FALSE)","v":{"$error":"#REF!"}},{"$f":"VLOOKUP(A:A,#REF!,3,FALSE)","v":{"$error":"#REF!"}},{"$error":"#REF!"},{"$error":"#REF!"}]
["HSC2100",3,3,{"$f":"VLOOKUP(A:A,#REF!,2,FALSE)","v":{"$error":"#REF!"}},{"$f":"VLOOKUP(A:A,#REF!,3,FALSE)","v":{"$error":"#REF!"}},{"$error":"#REF!"},{"$error":"#REF!"}]
["HSC2400",3,3,{"$f":"VLOOKUP(A:A,#REF!,2,FALSE)","v":{"$error":"#REF!"}},{"$f":"VLOOKUP(A:A,#REF!,3,FALSE)","v":{"$error":"#REF!"}},{"$error":"#REF!"},{"$error":"#REF!"}]
["HSC2520",4,4,{"$f":"VLOOKUP(A:A,#REF!,2,FALSE)","v":{"$error":"#REF!"}},{"$f":"VLOOKUP(A:A,#REF!,3,FALSE)","v":{"$error":"#REF!"}},{"$error":"#REF!"},{"$error":"#REF!"}]
["HSC2561",3,3,{"$f":"VLOOKUP(A:A,#REF!,2,FALSE)","v":{"$error":"#REF!"}},{"$f":"VLOOKUP(A:A,#REF!,3,FALSE)","v":{"$error":"#REF!"}},{"$error":"#REF!"},{"$error":"#REF!"}]
["HSC2660",3,3,{"$f":"VLOOKUP(A:A,#REF!,2,FALSE)","v":{"$error":"#REF!"}},{"$f":"VLOOKUP(A:A,#REF!,3,FALSE)","v":{"$error":"#REF!"}},{"$error":"#REF!"},{"$error":"#REF!"}]
["HSC2669",3,3,{"$f":"VLOOKUP(A:A,#REF!,2,FALSE)","v":{"$error":"#REF!"}},{"$f":"VLOOKUP(A:A,#REF!,3,FALSE)","v":{"$error":"#REF!"}},{"$error":"#REF!"},{"$error":"#REF!"},"CWE"]
["HSC2721",3,3,{"$f":"VLOOKUP(A:A,#REF!,2,FALSE)","v":{"$error":"#REF!"}},{"$f":"VLOOKUP(A:A,#REF!,3,FALSE)","v":{"$error":"#REF!"}},{"$error":"#REF!"},{"$error":"#REF!"}]
["HSC2732",3,3,{"$f":"VLOOKUP(A:A,#REF!,2,FALSE)","v":{"$error":"#REF!"}},{"$f":"VLOOKUP(A:A,#REF!,3,FALSE)","v":{"$error":"#REF!"}},{"$error":"#REF!"},{"$error":"#REF!"}]
["HSC2733",3,3,{"$f":"VLOOKUP(A:A,#REF!,2,FALSE)","v":{"$error":"#REF!"}},{"$f":"VLOOKUP(A:A,#REF!,3,FALSE)","v":{"$error":"#REF!"}},{"$error":"#REF!"},{"$error":"#REF!"}]
["HSC2734",3,3,{"$f":"VLOOKUP(A:A,#REF!,2,FALSE)","v":{"$error":"#REF!"}},{"$f":"VLOOKUP(A:A,#REF!,3,FALSE)","v":{"$error":"#REF!"}},{"$error":"#REF!"},{"$error":"#REF!"}]
["HSC2739",3,3,{"$f":"VLOOKUP(A:A,#REF!,2,FALSE)","v":{"$error":"#REF!"}},{"$f":"VLOOKUP(A:A,#REF!,3,FALSE)","v":{"$error":"#REF!"}},{"$f":"B1796-D1796","v":{"$error":"#REF!"}},{"$f":"C1796-E1796","v":{"$error":"#REF!"}}]
["HSC2810",0.01,0.01,{"$f":"VLOOKUP(A:A,#REF!,2,FALSE)","v":{"$error":"#REF!"}},{"$f":"VLOOKUP(A:A,#REF!,3,FALSE)","v":{"$error":"#REF!"}},{"$error":"#REF!"},{"$error":"#REF!"}]
["HSC2940",0.01,0.01,{"$f":"VLOOKUP(A:A,#REF!,2,FALSE)","v":{"$error":"#REF!"}},{"$f":"VLOOKUP(A:A,#REF!,3,FALSE)","v":{"$error":"#REF!"}},{"$error":"#REF!"},{"$error":"#REF!"}]
["HSC2941",0.01,0.01,{"$f":"VLOOKUP(A:A,#REF!,2,FALSE)","v":{"$error":"#REF!"}},{"$f":"VLOOKUP(A:A,#REF!,3,FALSE)","v":{"$error":"#REF!"}},{"$error":"#REF!"},{"$error":"#REF!"}]
["HSC3624",3,3,{"$f":"VLOOKUP(A:A,#REF!,2,FALSE)","v":{"$error":"#REF!"}},{"$f":"VLOOKUP(A:A,#REF!,3,FALSE)","v":{"$error":"#REF!"}},{"$error":"#REF!"},{"$error":"#REF!"}]
["HSC4652",3,3,{"$f":"VLOOKUP(A:A,#REF!,2,FALSE)","v":{"$error":"#REF!"}},{"$f":"VLOOKUP(A:A,#REF!,3,FALSE)","v":{"$error":"#REF!"}},{"$error":"#REF!"},{"$error":"#REF!"}]
["HSC4730",3,3,{"$f":"VLOOKUP(A:A,#REF!,2,FALSE)","v":{"$error":"#REF!"}},{"$f":"VLOOKUP(A:A,#REF!,3,FALSE)","v":{"$error":"#REF!"}},{"$error":"#REF!"},{"$error":"#REF!"}]
["HUM2020",3,3,{"$f":"VLOOKUP(A:A,#REF!,2,FALSE)","v":{"$error":"#REF!"}},{"$f":"VLOOKUP(A:A,#REF!,3,FALSE)","v":{"$error":"#REF!"}},{"$error":"#REF!"},{"$error":"#REF!"}]
["HUM2210",3,3,{"$f":"VLOOKUP(A:A,#REF!,2,FALSE)","v":{"$error":"#REF!"}},{"$f":"VLOOKUP(A:A,#REF!,3,FALSE)","v":{"$error":"#REF!"}},{"$error":"#REF!"},{"$error":"#REF!"}]
["HUM2230",3,3,{"$f":"VLOOKUP(A:A,#REF!,2,FALSE)","v":{"$error":"#REF!"}},{"$f":"VLOOKUP(A:A,#REF!,3,FALSE)","v":{"$error":"#REF!"}},{"$error":"#REF!"},{"$error":"#REF!"}]
["HUM2250",3,3,{"$f":"VLOOKUP(A:A,#REF!,2,FALSE)","v":{"$error":"#REF!"}},{"$f":"VLOOKUP(A:A,#REF!,3,FALSE)","v":{"$error":"#REF!"}},{"$error":"#REF!"},{"$error":"#REF!"}]
["HUM2410",3,3,{"$f":"VLOOKUP(A:A,#REF!,2,FALSE)","v":{"$error":"#REF!"}},{"$f":"VLOOKUP(A:A,#REF!,3,FALSE)","v":{"$error":"#REF!"}},{"$error":"#REF!"},{"$error":"#REF!"}]
["HUM2450",3,3,{"$f":"VLOOKUP(A:A,#REF!,2,FALSE)","v":{"$error":"#REF!"}},{"$f":"VLOOKUP(A:A,#REF!,3,FALSE)","v":{"$error":"#REF!"}},{"$error":"#REF!"},{"$error":"#REF!"}]
["HUM2472",3,3,{"$f":"VLOOKUP(A:A,#REF!,2,FALSE)","v":{"$error":"#REF!"}},{"$f":"VLOOKUP(A:A,#REF!,3,FALSE)","v":{"$error":"#REF!"}},{"$error":"#REF!"},{"$error":"#REF!"}]
["HUN1201",3,3,{"$f":"VLOOKUP(A:A,#REF!,2,FALSE)","v":{"$error":"#REF!"}},{"$f":"VLOOKUP(A:A,#REF!,3,FALSE)","v":{"$error":"#REF!"}},{"$error":"#REF!"},{"$error":"#REF!"}]
["HUN1203",2,2,{"$f":"VLOOKUP(A:A,#REF!,2,FALSE)","v":{"$error":"#REF!"}},{"$f":"VLOOKUP(A:A,#REF!,3,FALSE)","v":{"$error":"#REF!"}},{"$error":"#REF!"},{"$error":"#REF!"}]
["HUN1931",1,1,{"$f":"VLOOKUP(A:A,#REF!,2,FALSE)","v":{"$error":"#REF!"}},{"$f":"VLOOKUP(A:A,#REF!,3,FALSE)","v":{"$error":"#REF!"}},{"$error":"#REF!"},{"$error":"#REF!"}]
["HUS3020",3,3,{"$f":"VLOOKUP(A:A,#REF!,2,FALSE)","v":{"$error":"#REF!"}},{"$f":"VLOOKUP(A:A,#REF!,3,FALSE)","v":{"$error":"#REF!"}},{"$error":"#REF!"},{"$error":"#REF!"}]
["HUS3022",3,3,{"$f":"VLOOKUP(A:A,#REF!,2,FALSE)","v":{"$error":"#REF!"}},{"$f":"VLOOKUP(A:A,#REF!,3,FALSE)","v":{"$error":"#REF!"}},{"$error":"#REF!"},{"$error":"#REF!"}]
["HUS3105",3,3,{"$f":"VLOOKUP(A:A,#REF!,2,FALSE)","v":{"$error":"#REF!"}},{"$f":"VLOOKUP(A:A,#REF!,3,FALSE)","v":{"$error":"#REF!"}},{"$error":"#REF!"},{"$error":"#REF!"}]
["HUS3201",3,3,{"$f":"VLOOKUP(A:A,#REF!,2,FALSE)","v":{"$error":"#REF!"}},{"$f":"VLOOKUP(A:A,#REF!,3,FALSE)","v":{"$error":"#REF!"}},{"$error":"#REF!"},{"$error":"#REF!"}]
["HUS3304",3,3,{"$f":"VLOOKUP(A:A,#REF!,2,FALSE)","v":{"$error":"#REF!"}},{"$f":"VLOOKUP(A:A,#REF!,3,FALSE)","v":{"$error":"#REF!"}},{"$error":"#REF!"},{"$error":"#REF!"}]
["HUS3323",3,3,{"$f":"VLOOKUP(A:A,#REF!,2,FALSE)","v":{"$error":"#REF!"}},{"$f":"VLOOKUP(A:A,#REF!,3,FALSE)","v":{"$error":"#REF!"}},{"$error":"#REF!"},{"$error":"#REF!"}]
["HUS3350",3,3,{"$f":"VLOOKUP(A:A,#REF!,2,FALSE)","v":{"$error":"#REF!"}},{"$f":"VLOOKUP(A:A,#REF!,3,FALSE)","v":{"$error":"#REF!"}},{"$error":"#REF!"},{"$error":"#REF!"}]
["HUS3351",3,3,{"$f":"VLOOKUP(A:A,#REF!,2,FALSE)","v":{"$error":"#REF!"}},{"$f":"VLOOKUP(A:A,#REF!,3,FALSE)","v":{"$error":"#REF!"}},{"$error":"#REF!"},{"$error":"#REF!"}]
["HUS3354",3,3,{"$f":"VLOOKUP(A:A,#REF!,2,FALSE)","v":{"$error":"#REF!"}},{"$f":"VLOOKUP(A:A,#REF!,3,FALSE)","v":{"$error":"#REF!"}},{"$error":"#REF!"},{"$error":"#REF!"}]
["HUS3361",3,3,{"$f":"VLOOKUP(A:A,#REF!,2,FALSE)","v":{"$error":"#REF!"}},{"$f":"VLOOKUP(A:A,#REF!,3,FALSE)","v":{"$error":"#REF!"}},{"$error":"#REF!"},{"$error":"#REF!"}]
["HUS3505",3,3,{"$f":"VLOOKUP(A:A,#REF!,2,FALSE)","v":{"$error":"#REF!"}},{"$f":"VLOOKUP(A:A,#REF!,3,FALSE)","v":{"$error":"#REF!"}},{"$error":"#REF!"},{"$error":"#REF!"}]
["HUS3574",3,3,{"$f":"VLOOKUP(A:A,#REF!,2,FALSE)","v":{"$error":"#REF!"}},{"$f":"VLOOKUP(A:A,#REF!,3,FALSE)","v":{"$error":"#REF!"}},{"$error":"#REF!"},{"$error":"#REF!"}]
["HUS3650",3,3,{"$f":"VLOOKUP(A:A,#REF!,2,FALSE)","v":{"$error":"#REF!"}},{"$f":"VLOOKUP(A:A,#REF!,3,FALSE)","v":{"$error":"#REF!"}},{"$error":"#REF!"},{"$error":"#REF!"}]
["HUS4321",3,3,{"$f":"VLOOKUP(A:A,#REF!,2,FALSE)","v":{"$error":"#REF!"}},{"$f":"VLOOKUP(A:A,#REF!,3,FALSE)","v":{"$error":"#REF!"}},{"$error":"#REF!"},{"$error":"#REF!"}]
["HUS4352",3,3,{"$f":"VLOOKUP(A:A,#REF!,2,FALSE)","v":{"$error":"#REF!"}},{"$f":"VLOOKUP(A:A,#REF!,3,FALSE)","v":{"$error":"#REF!"}},{"$error":"#REF!"},{"$error":"#REF!"}]
["HUS4442",3,3,{"$f":"VLOOKUP(A:A,#REF!,2,FALSE)","v":{"$error":"#REF!"}},{"$f":"VLOOKUP(A:A,#REF!,3,FALSE)","v":{"$error":"#REF!"}},{"$error":"#REF!"},{"$error":"#REF!"}]
["HUS4526",3,3,{"$f":"VLOOKUP(A:A,#REF!,2,FALSE)","v":{"$error":"#REF!"}},{"$f":"VLOOKUP(A:A,#REF!,3,FALSE)","v":{"$error":"#REF!"}},{"$error":"#REF!"},{"$error":"#REF!"}]
["HUS4560",3,3,{"$f":"VLOOKUP(A:A,#REF!,2,FALSE)","v":{"$error":"#REF!"}},{"$f":"VLOOKUP(A:A,#REF!,3,FALSE)","v":{"$error":"#REF!"}},{"$error":"#REF!"},{"$error":"#REF!"}]
["HUS4601",3,3,{"$f":"VLOOKUP(A:A,#REF!,2,FALSE)","v":{"$error":"#REF!"}},{"$f":"VLOOKUP(A:A,#REF!,3,FALSE)","v":{"$error":"#REF!"}},{"$error":"#REF!"},{"$error":"#REF!"}]
["HUS4660",3,3,{"$f":"VLOOKUP(A:A,#REF!,2,FALSE)","v":{"$error":"#REF!"}},{"$f":"VLOOKUP(A:A,#REF!,3,FALSE)","v":{"$error":"#REF!"}},{"$error":"#REF!"},{"$error":"#REF!"}]
["HUS4700",3,3,{"$f":"VLOOKUP(A:A,#REF!,2,FALSE)","v":{"$error":"#REF!"}},{"$f":"VLOOKUP(A:A,#REF!,3,FALSE)","v":{"$error":"#REF!"}},{"$error":"#REF!"},{"$error":"#REF!"}]
["HUS4722",3,3,{"$f":"VLOOKUP(A:A,#REF!,2,FALSE)","v":{"$error":"#REF!"}},{"$f":"VLOOKUP(A:A,#REF!,3,FALSE)","v":{"$error":"#REF!"}},{"$error":"#REF!"},{"$error":"#REF!"}]
["HUS4945",2,2,{"$f":"VLOOKUP(A:A,#REF!,2,FALSE)","v":{"$error":"#REF!"}},{"$f":"VLOOKUP(A:A,#REF!,3,FALSE)","v":{"$error":"#REF!"}},{"$error":"#REF!"},{"$error":"#REF!"}]
["IDC3021C",4,4,{"$f":"VLOOKUP(A:A,#REF!,2,FALSE)","v":{"$error":"#REF!"}},{"$f":"VLOOKUP(A:A,#REF!,3,FALSE)","v":{"$error":"#REF!"}},{"$error":"#REF!"},{"$error":"#REF!"}]
["IDC4022C",4,4,{"$f":"VLOOKUP(A:A,#REF!,2,FALSE)","v":{"$error":"#REF!"}},{"$f":"VLOOKUP(A:A,#REF!,3,FALSE)","v":{"$error":"#REF!"}},{"$error":"#REF!"},{"$error":"#REF!"}]
["IDC4251C",4,4,{"$f":"VLOOKUP(A:A,#REF!,2,FALSE)","v":{"$error":"#REF!"}},{"$f":"VLOOKUP(A:A,#REF!,3,FALSE)","v":{"$error":"#REF!"}},{"$error":"#REF!"},{"$error":"#REF!"}]
["IDC4252C",4,4,{"$f":"VLOOKUP(A:A,#REF!,2,FALSE)","v":{"$error":"#REF!"}},{"$f":"VLOOKUP(A:A,#REF!,3,FALSE)","v":{"$error":"#REF!"}},{"$error":"#REF!"},{"$error":"#REF!"}]
["IDH2001",2,2,{"$f":"VLOOKUP(A:A,#REF!,2,FALSE)","v":{"$error":"#REF!"}},{"$f":"VLOOKUP(A:A,#REF!,3,FALSE)","v":{"$error":"#REF!"}},{"$error":"#REF!"},{"$error":"#REF!"}]
["IDH2002",1,1,{"$f":"VLOOKUP(A:A,#REF!,2,FALSE)","v":{"$error":"#REF!"}},{"$f":"VLOOKUP(A:A,#REF!,3,FALSE)","v":{"$error":"#REF!"}},{"$error":"#REF!"},{"$error":"#REF!"}]
["IDH2003",1,1,{"$f":"VLOOKUP(A:A,#REF!,2,FALSE)","v":{"$error":"#REF!"}},{"$f":"VLOOKUP(A:A,#REF!,3,FALSE)","v":{"$error":"#REF!"}},{"$error":"#REF!"},{"$error":"#REF!"}]
["IDH2004",2,2,{"$f":"VLOOKUP(A:A,#REF!,2,FALSE)","v":{"$error":"#REF!"}},{"$f":"VLOOKUP(A:A,#REF!,3,FALSE)","v":{"$error":"#REF!"}},{"$error":"#REF!"},{"$error":"#REF!"}]
["IDH2920",1,1,{"$f":"VLOOKUP(A:A,#REF!,2,FALSE)","v":{"$error":"#REF!"}},{"$f":"VLOOKUP(A:A,#REF!,3,FALSE)","v":{"$error":"#REF!"}},{"$error":"#REF!"},{"$error":"#REF!"}]
["IDS1107",3,3,{"$f":"VLOOKUP(A:A,#REF!,2,FALSE)","v":{"$error":"#REF!"}},{"$f":"VLOOKUP(A:A,#REF!,3,FALSE)","v":{"$error":"#REF!"}},{"$error":"#REF!"},{"$error":"#REF!"}]
["IDS1935",2,1,{"$f":"VLOOKUP(A:A,#REF!,2,FALSE)","v":{"$error":"#REF!"}},{"$f":"VLOOKUP(A:A,#REF!,3,FALSE)","v":{"$error":"#REF!"}},{"$error":"#REF!"},{"$error":"#REF!"}]
["IDS2353",3,3,{"$f":"VLOOKUP(A:A,#REF!,2,FALSE)","v":{"$error":"#REF!"}},{"$f":"VLOOKUP(A:A,#REF!,3,FALSE)","v":{"$error":"#REF!"}},{"$error":"#REF!"},{"$error":"#REF!"}]
["IDS2354",3,3,{"$f":"VLOOKUP(A:A,#REF!,2,FALSE)","v":{"$error":"#REF!"}},{"$f":"VLOOKUP(A:A,#REF!,3,FALSE)","v":{"$error":"#REF!"}},{"$error":"#REF!"},{"$error":"#REF!"}]
["IDS2891",3,3,{"$f":"VLOOKUP(A:A,#REF!,2,FALSE)","v":{"$error":"#REF!"}},{"$f":"VLOOKUP(A:A,#REF!,3,FALSE)","v":{"$error":"#REF!"}},{"$error":"#REF!"},{"$error":"#REF!"}]
["IDS2949",0.01,0.01,{"$f":"VLOOKUP(A:A,#REF!,2,FALSE)","v":{"$error":"#REF!"}},{"$f":"VLOOKUP(A:A,#REF!,3,FALSE)","v":{"$error":"#REF!"}},{"$error":"#REF!"},{"$error":"#REF!"}]
["IDS4936",3,3,{"$f":"VLOOKUP(A:A,#REF!,2,FALSE)","v":{"$error":"#REF!"}},{"$f":"VLOOKUP(A:A,#REF!,3,FALSE)","v":{"$error":"#REF!"}},{"$error":"#REF!"},{"$error":"#REF!"}]
["IED0026",1.88,1.56,{"$f":"VLOOKUP(A:A,#REF!,2,FALSE)","v":{"$error":"#REF!"}},{"$f":"VLOOKUP(A:A,#REF!,3,FALSE)","v":{"$error":"#REF!"}},{"$error":"#REF!"},{"$error":"#REF!"}]
["IED0032",3.2,2.66,{"$f":"VLOOKUP(A:A,#REF!,2,FALSE)","v":{"$error":"#REF!"}},{"$f":"VLOOKUP(A:A,#REF!,3,FALSE)","v":{"$error":"#REF!"}},{"$error":"#REF!"},{"$error":"#REF!"}]
["IED0035",0.32,0.26,{"$f":"VLOOKUP(A:A,#REF!,2,FALSE)","v":{"$error":"#REF!"}},{"$f":"VLOOKUP(A:A,#REF!,3,FALSE)","v":{"$error":"#REF!"}},{"$error":"#REF!"},{"$error":"#REF!"}]
["IED0070",0.56000000000000005,0.45,{"$f":"VLOOKUP(A:A,#REF!,2,FALSE)","v":{"$error":"#REF!"}},{"$f":"VLOOKUP(A:A,#REF!,3,FALSE)","v":{"$error":"#REF!"}},{"$error":"#REF!"},{"$error":"#REF!"}]
["IED0071",0.32,0.27,{"$f":"VLOOKUP(A:A,#REF!,2,FALSE)","v":{"$error":"#REF!"}},{"$f":"VLOOKUP(A:A,#REF!,3,FALSE)","v":{"$error":"#REF!"}},{"$error":"#REF!"},{"$error":"#REF!"}]
["IED0072",1.44,1.2,{"$f":"VLOOKUP(A:A,#REF!,2,FALSE)","v":{"$error":"#REF!"}},{"$f":"VLOOKUP(A:A,#REF!,3,FALSE)","v":{"$error":"#REF!"}},{"$error":"#REF!"},{"$error":"#REF!"}]
["IED0112",3.8,3.16,{"$f":"VLOOKUP(A:A,#REF!,2,FALSE)","v":{"$error":"#REF!"}},{"$f":"VLOOKUP(A:A,#REF!,3,FALSE)","v":{"$error":"#REF!"}},{"$error":"#REF!"},{"$error":"#REF!"}]
["IED0147",0.04,0.03,{"$f":"VLOOKUP(A:A,#REF!,2,FALSE)","v":{"$error":"#REF!"}},{"$f":"VLOOKUP(A:A,#REF!,3,FALSE)","v":{"$error":"#REF!"}},{"$error":"#REF!"},{"$error":"#REF!"}]
["IED0233",0.32,0.26,{"$f":"VLOOKUP(A:A,#REF!,2,FALSE)","v":{"$error":"#REF!"}},{"$f":"VLOOKUP(A:A,#REF!,3,FALSE)","v":{"$error":"#REF!"}},{"$f":"B1860-D1860","v":{"$error":"#REF!"}},{"$f":"C1860-E1860","v":{"$error":"#REF!"}}]
["IED0236",0.32,0.26,{"$f":"VLOOKUP(A:A,#REF!,2,FALSE)","v":{"$error":"#REF!"}},{"$f":"VLOOKUP(A:A,#REF!,3,FALSE)","v":{"$error":"#REF!"}},{"$error":"#REF!"},{"$error":"#REF!"}]
["IED0237",0.32,0.26,{"$f":"VLOOKUP(A:A,#REF!,2,FALSE)","v":{"$error":"#REF!"}},{"$f":"VLOOKUP(A:A,#REF!,3,FALSE)","v":{"$error":"#REF!"}},{"$error":"#REF!"},{"$error":"#REF!"}]
["IED0260",2.4,2,{"$f":"VLOOKUP(A:A,#REF!,2,FALSE)","v":{"$error":"#REF!"}},{"$f":"VLOOKUP(A:A,#REF!,3,FALSE)","v":{"$error":"#REF!"}},{"$error":"#REF!"},{"$error":"#REF!"}]
["IED0262",2.4,2,{"$f":"VLOOKUP(A:A,#REF!,2,FALSE)","v":{"$error":"#REF!"}},{"$f":"VLOOKUP(A:A,#REF!,3,FALSE)","v":{"$error":"#REF!"}},{"$error":"#REF!"},{"$error":"#REF!"}]
["IED0263",1.8,1.5,{"$f":"VLOOKUP(A:A,#REF!,2,FALSE)","v":{"$error":"#REF!"}},{"$f":"VLOOKUP(A:A,#REF!,3,FALSE)","v":{"$error":"#REF!"}},{"$error":"#REF!"},{"$error":"#REF!"}]
["IED0264",2.4,2,{"$f":"VLOOKUP(A:A,#REF!,2,FALSE)","v":{"$error":"#REF!"}},{"$f":"VLOOKUP(A:A,#REF!,3,FALSE)","v":{"$error":"#REF!"}},{"$error":"#REF!"},{"$error":"#REF!"}]
["IED0265",1.8,1.5,{"$f":"VLOOKUP(A:A,#REF!,2,FALSE)","v":{"$error":"#REF!"}},{"$f":"VLOOKUP(A:A,#REF!,3,FALSE)","v":{"$error":"#REF!"}},{"$error":"#REF!"},{"$error":"#REF!"}]
["IED0301",1.28,1.06,{"$f":"VLOOKUP(A:A,#REF!,2,FALSE)","v":{"$error":"#REF!"}},{"$f":"VLOOKUP(A:A,#REF!,3,FALSE)","v":{"$error":"#REF!"}},{"$error":"#REF!"},{"$error":"#REF!"}]
["IED0450",1.6,1.3,{"$f":"VLOOKUP(A:A,#REF!,2,FALSE)","v":{"$error":"#REF!"}},{"$f":"VLOOKUP(A:A,#REF!,3,FALSE)","v":{"$error":"#REF!"}},{"$error":"#REF!"},{"$error":"#REF!"}]
["IED0451",1.6,1.33,{"$f":"VLOOKUP(A:A,#REF!,2,FALSE)","v":{"$error":"#REF!"}},{"$f":"VLOOKUP(A:A,#REF!,3,FALSE)","v":{"$error":"#REF!"}},{"$error":"#REF!"},{"$error":"#REF!"}]
["IED0550",1.8,1.5,{"$f":"VLOOKUP(A:A,#REF!,2,FALSE)","v":{"$error":"#REF!"}},{"$f":"VLOOKUP(A:A,#REF!,3,FALSE)","v":{"$error":"#REF!"}},{"$error":"#REF!"},{"$error":"#REF!"}]
["IED0716",0.8,0.66,{"$f":"VLOOKUP(A:A,#REF!,2,FALSE)","v":{"$error":"#REF!"}},{"$f":"VLOOKUP(A:A,#REF!,3,FALSE)","v":{"$error":"#REF!"}},{"$error":"#REF!"},{"$error":"#REF!"}]
["IED0717",0.8,0.66,{"$f":"VLOOKUP(A:A,#REF!,2,FALSE)","v":{"$error":"#REF!"}},{"$f":"VLOOKUP(A:A,#REF!,3,FALSE)","v":{"$error":"#REF!"}},{"$error":"#REF!"},{"$error":"#REF!"}]
["IED0719",0.8,0.66,{"$f":"VLOOKUP(A:A,#REF!,2,FALSE)","v":{"$error":"#REF!"}},{"$f":"VLOOKUP(A:A,#REF!,3,FALSE)","v":{"$error":"#REF!"}},{"$error":"#REF!"},{"$error":"#REF!"}]
["IED0730",0.8,0.66,{"$f":"VLOOKUP(A:A,#REF!,2,FALSE)","v":{"$error":"#REF!"}},{"$f":"VLOOKUP(A:A,#REF!,3,FALSE)","v":{"$error":"#REF!"}},{"$error":"#REF!"},{"$error":"#REF!"}]
["IED0736",3.36,2.8,{"$f":"VLOOKUP(A:A,#REF!,2,FALSE)","v":{"$error":"#REF!"}},{"$f":"VLOOKUP(A:A,#REF!,3,FALSE)","v":{"$error":"#REF!"}},{"$error":"#REF!"},{"$error":"#REF!"}]
["IND1020C",4,4,{"$f":"VLOOKUP(A:A,#REF!,2,FALSE)","v":{"$error":"#REF!"}},{"$f":"VLOOKUP(A:A,#REF!,3,FALSE)","v":{"$error":"#REF!"}},{"$error":"#REF!"},{"$error":"#REF!"}]
["IND1100",3,3,{"$f":"VLOOKUP(A:A,#REF!,2,FALSE)","v":{"$error":"#REF!"}},{"$f":"VLOOKUP(A:A,#REF!,3,FALSE)","v":{"$error":"#REF!"}},{"$error":"#REF!"},{"$error":"#REF!"}]
["IND1130",3,3,{"$f":"VLOOKUP(A:A,#REF!,2,FALSE)","v":{"$error":"#REF!"}},{"$f":"VLOOKUP(A:A,#REF!,3,FALSE)","v":{"$error":"#REF!"}},{"$error":"#REF!"},{"$error":"#REF!"}]
["IND1229",3,3,{"$f":"VLOOKUP(A:A,#REF!,2,FALSE)","v":{"$error":"#REF!"}},{"$f":"VLOOKUP(A:A,#REF!,3,FALSE)","v":{"$error":"#REF!"}},{"$error":"#REF!"},{"$error":"#REF!"}]
["IND1404C",3,3,{"$f":"VLOOKUP(A:A,#REF!,2,FALSE)","v":{"$error":"#REF!"}},{"$f":"VLOOKUP(A:A,#REF!,3,FALSE)","v":{"$error":"#REF!"}},{"$error":"#REF!"},{"$error":"#REF!"}]
["IND1420",3,3,{"$f":"VLOOKUP(A:A,#REF!,2,FALSE)","v":{"$error":"#REF!"}},{"$f":"VLOOKUP(A:A,#REF!,3,FALSE)","v":{"$error":"#REF!"}},{"$error":"#REF!"},{"$error":"#REF!"}]
["IND1429C",4,4,{"$f":"VLOOKUP(A:A,#REF!,2,FALSE)","v":{"$error":"#REF!"}},{"$f":"VLOOKUP(A:A,#REF!,3,FALSE)","v":{"$error":"#REF!"}},{"$error":"#REF!"},{"$error":"#REF!"}]
["IND1606C",4,4,{"$f":"VLOOKUP(A:A,#REF!,2,FALSE)","v":{"$error":"#REF!"}},{"$f":"VLOOKUP(A:A,#REF!,3,FALSE)","v":{"$error":"#REF!"}},{"$error":"#REF!"},{"$error":"#REF!"}]
["IND1932",3,3,{"$f":"VLOOKUP(A:A,#REF!,2,FALSE)","v":{"$error":"#REF!"}},{"$f":"VLOOKUP(A:A,#REF!,3,FALSE)","v":{"$error":"#REF!"}},{"$error":"#REF!"},{"$error":"#REF!"}]
["IND1933",3,3,{"$f":"VLOOKUP(A:A,#REF!,2,FALSE)","v":{"$error":"#REF!"}},{"$f":"VLOOKUP(A:A,#REF!,3,FALSE)","v":{"$error":"#REF!"}},{"$error":"#REF!"},{"$error":"#REF!"}]
["IND1935",3,3,{"$f":"VLOOKUP(A:A,#REF!,2,FALSE)","v":{"$error":"#REF!"}},{"$f":"VLOOKUP(A:A,#REF!,3,FALSE)","v":{"$error":"#REF!"}},{"$error":"#REF!"},{"$error":"#REF!"}]
["IND2210C",4,4,{"$f":"VLOOKUP(A:A,#REF!,2,FALSE)","v":{"$error":"#REF!"}},{"$f":"VLOOKUP(A:A,#REF!,3,FALSE)","v":{"$error":"#REF!"}},{"$error":"#REF!"},{"$error":"#REF!"}]
["IND2222C",4,4,{"$f":"VLOOKUP(A:A,#REF!,2,FALSE)","v":{"$error":"#REF!"}},{"$f":"VLOOKUP(A:A,#REF!,3,FALSE)","v":{"$error":"#REF!"}},{"$error":"#REF!"},{"$error":"#REF!"}]
["IND2224C",4,4,{"$f":"VLOOKUP(A:A,#REF!,2,FALSE)","v":{"$error":"#REF!"}},{"$f":"VLOOKUP(A:A,#REF!,3,FALSE)","v":{"$error":"#REF!"}},{"$error":"#REF!"},{"$error":"#REF!"}]
["IND2307C",4,4,{"$f":"VLOOKUP(A:A,#REF!,2,FALSE)","v":{"$error":"#REF!"}},{"$f":"VLOOKUP(A:A,#REF!,3,FALSE)","v":{"$error":"#REF!"}},{"$error":"#REF!"},{"$error":"#REF!"}]
["IND2318C",4,4,{"$f":"VLOOKUP(A:A,#REF!,2,FALSE)","v":{"$error":"#REF!"}},{"$f":"VLOOKUP(A:A,#REF!,3,FALSE)","v":{"$error":"#REF!"}},{"$error":"#REF!"},{"$error":"#REF!"}]
["IND2410C",3,3,{"$f":"VLOOKUP(A:A,#REF!,2,FALSE)","v":{"$error":"#REF!"}},{"$f":"VLOOKUP(A:A,#REF!,3,FALSE)","v":{"$error":"#REF!"}},{"$error":"#REF!"},{"$error":"#REF!"}]
["IND2433",3,3,{"$f":"VLOOKUP(A:A,#REF!,2,FALSE)","v":{"$error":"#REF!"}},{"$f":"VLOOKUP(A:A,#REF!,3,FALSE)","v":{"$error":"#REF!"}},{"$error":"#REF!"},{"$error":"#REF!"}]
["IND2460C",5,5,{"$f":"VLOOKUP(A:A,#REF!,2,FALSE)","v":{"$error":"#REF!"}},{"$f":"VLOOKUP(A:A,#REF!,3,FALSE)","v":{"$error":"#REF!"}},{"$error":"#REF!"},{"$error":"#REF!"}]
["IND2462",3,3,{"$f":"VLOOKUP(A:A,#REF!,2,FALSE)","v":{"$error":"#REF!"}},{"$f":"VLOOKUP(A:A,#REF!,3,FALSE)","v":{"$error":"#REF!"}},{"$error":"#REF!"},{"$error":"#REF!"}]
["IND2463C",5,5,{"$f":"VLOOKUP(A:A,#REF!,2,FALSE)","v":{"$error":"#REF!"}},{"$f":"VLOOKUP(A:A,#REF!,3,FALSE)","v":{"$error":"#REF!"}},{"$error":"#REF!"},{"$error":"#REF!"}]
["IND2484",3,3,{"$f":"VLOOKUP(A:A,#REF!,2,FALSE)","v":{"$error":"#REF!"}},{"$f":"VLOOKUP(A:A,#REF!,3,FALSE)","v":{"$error":"#REF!"}},{"$error":"#REF!"},{"$error":"#REF!"}]
["IND2500",3,3,{"$f":"VLOOKUP(A:A,#REF!,2,FALSE)","v":{"$error":"#REF!"}},{"$f":"VLOOKUP(A:A,#REF!,3,FALSE)","v":{"$error":"#REF!"}},{"$error":"#REF!"},{"$error":"#REF!"}]
["IND2608",3,3,{"$f":"VLOOKUP(A:A,#REF!,2,FALSE)","v":{"$error":"#REF!"}},{"$f":"VLOOKUP(A:A,#REF!,3,FALSE)","v":{"$error":"#REF!"}},{"$error":"#REF!"},{"$error":"#REF!"}]
["IND2946",0.01,0.01,{"$f":"VLOOKUP(A:A,#REF!,2,FALSE)","v":{"$error":"#REF!"}},{"$f":"VLOOKUP(A:A,#REF!,3,FALSE)","v":{"$error":"#REF!"}},{"$error":"#REF!"},{"$error":"#REF!"}]
["INP1390",3,3,{"$f":"VLOOKUP(A:A,#REF!,2,FALSE)","v":{"$error":"#REF!"}},{"$f":"VLOOKUP(A:A,#REF!,3,FALSE)","v":{"$error":"#REF!"}},{"$error":"#REF!"},{"$error":"#REF!"}]
["INR2002",3,3,{"$f":"VLOOKUP(A:A,#REF!,2,FALSE)","v":{"$error":"#REF!"}},{"$f":"VLOOKUP(A:A,#REF!,3,FALSE)","v":{"$error":"#REF!"}},{"$error":"#REF!"},{"$error":"#REF!"}]
["INT1000",4,4,{"$f":"VLOOKUP(A:A,#REF!,2,FALSE)","v":{"$error":"#REF!"}},{"$f":"VLOOKUP(A:A,#REF!,3,FALSE)","v":{"$error":"#REF!"}},{"$error":"#REF!"},{"$error":"#REF!"}]
["INT1200",4,4,{"$f":"VLOOKUP(A:A,#REF!,2,FALSE)","v":{"$error":"#REF!"}},{"$f":"VLOOKUP(A:A,#REF!,3,FALSE)","v":{"$error":"#REF!"}},{"$error":"#REF!"},{"$error":"#REF!"}]
["INT1201",3,3,{"$f":"VLOOKUP(A:A,#REF!,2,FALSE)","v":{"$error":"#REF!"}},{"$f":"VLOOKUP(A:A,#REF!,3,FALSE)","v":{"$error":"#REF!"}},{"$error":"#REF!"},{"$error":"#REF!"}]
["INT1202",3,3,{"$f":"VLOOKUP(A:A,#REF!,2,FALSE)","v":{"$error":"#REF!"}},{"$f":"VLOOKUP(A:A,#REF!,3,FALSE)","v":{"$error":"#REF!"}},{"$error":"#REF!"},{"$error":"#REF!"}]
["INT1203",4,4,{"$f":"VLOOKUP(A:A,#REF!,2,FALSE)","v":{"$error":"#REF!"}},{"$f":"VLOOKUP(A:A,#REF!,3,FALSE)","v":{"$error":"#REF!"}},{"$error":"#REF!"},{"$error":"#REF!"}]
["INT1210",3,3,{"$f":"VLOOKUP(A:A,#REF!,2,FALSE)","v":{"$error":"#REF!"}},{"$f":"VLOOKUP(A:A,#REF!,3,FALSE)","v":{"$error":"#REF!"}},{"$error":"#REF!"},{"$error":"#REF!"}]
["INT1300",3,3,{"$f":"VLOOKUP(A:A,#REF!,2,FALSE)","v":{"$error":"#REF!"}},{"$f":"VLOOKUP(A:A,#REF!,3,FALSE)","v":{"$error":"#REF!"}},{"$error":"#REF!"},{"$error":"#REF!"}]
["INT1402",3,3,{"$f":"VLOOKUP(A:A,#REF!,2,FALSE)","v":{"$error":"#REF!"}},{"$f":"VLOOKUP(A:A,#REF!,3,FALSE)","v":{"$error":"#REF!"}},{"$error":"#REF!"},{"$error":"#REF!"}]
["INT1930",3,3,{"$f":"VLOOKUP(A:A,#REF!,2,FALSE)","v":{"$error":"#REF!"}},{"$f":"VLOOKUP(A:A,#REF!,3,FALSE)","v":{"$error":"#REF!"}},{"$error":"#REF!"},{"$error":"#REF!"}]
["INT1941",0.01,0.01,{"$f":"VLOOKUP(A:A,#REF!,2,FALSE)","v":{"$error":"#REF!"}},{"$f":"VLOOKUP(A:A,#REF!,3,FALSE)","v":{"$error":"#REF!"}},{"$error":"#REF!"},{"$error":"#REF!"}]
["INT1942",0.01,0.01,{"$f":"VLOOKUP(A:A,#REF!,2,FALSE)","v":{"$error":"#REF!"}},{"$f":"VLOOKUP(A:A,#REF!,3,FALSE)","v":{"$error":"#REF!"}},{"$error":"#REF!"},{"$error":"#REF!"}]
["ISC1075",3,3,{"$f":"VLOOKUP(A:A,#REF!,2,FALSE)","v":{"$error":"#REF!"}},{"$f":"VLOOKUP(A:A,#REF!,3,FALSE)","v":{"$error":"#REF!"}},{"$error":"#REF!"},{"$error":"#REF!"}]
["ISC4930",3,3,{"$f":"VLOOKUP(A:A,#REF!,2,FALSE)","v":{"$error":"#REF!"}},{"$f":"VLOOKUP(A:A,#REF!,3,FALSE)","v":{"$error":"#REF!"}},{"$error":"#REF!"},{"$error":"#REF!"}]
["ISC4934",1,1,{"$f":"VLOOKUP(A:A,#REF!,2,FALSE)","v":{"$error":"#REF!"}},{"$f":"VLOOKUP(A:A,#REF!,3,FALSE)","v":{"$error":"#REF!"}},{"$error":"#REF!"},{"$error":"#REF!"}]
["ISM3013",3,3,{"$f":"VLOOKUP(A:A,#REF!,2,FALSE)","v":{"$error":"#REF!"}},{"$f":"VLOOKUP(A:A,#REF!,3,FALSE)","v":{"$error":"#REF!"}},{"$error":"#REF!"},{"$error":"#REF!"}]
["ISM3014",4,4,{"$f":"VLOOKUP(A:A,#REF!,2,FALSE)","v":{"$error":"#REF!"}},{"$f":"VLOOKUP(A:A,#REF!,3,FALSE)","v":{"$error":"#REF!"}},{"$error":"#REF!"},{"$error":"#REF!"}]
["ISM3113C",4,3.7,{"$f":"VLOOKUP(A:A,#REF!,2,FALSE)","v":{"$error":"#REF!"}},{"$f":"VLOOKUP(A:A,#REF!,3,FALSE)","v":{"$error":"#REF!"}},{"$error":"#REF!"},{"$error":"#REF!"}]
["ISM3232C",4,4,{"$f":"VLOOKUP(A:A,#REF!,2,FALSE)","v":{"$error":"#REF!"}},{"$f":"VLOOKUP(A:A,#REF!,3,FALSE)","v":{"$error":"#REF!"}},{"$error":"#REF!"},{"$error":"#REF!"}]
["ISM4011",3,3,{"$f":"VLOOKUP(A:A,#REF!,2,FALSE)","v":{"$error":"#REF!"}},{"$f":"VLOOKUP(A:A,#REF!,3,FALSE)","v":{"$error":"#REF!"}},{"$error":"#REF!"},{"$error":"#REF!"}]
["ISM4117C",4,3.7,{"$f":"VLOOKUP(A:A,#REF!,2,FALSE)","v":{"$error":"#REF!"}},{"$f":"VLOOKUP(A:A,#REF!,3,FALSE)","v":{"$error":"#REF!"}},{"$error":"#REF!"},{"$error":"#REF!"}]
["ISM4212",4,3.7,{"$f":"VLOOKUP(A:A,#REF!,2,FALSE)","v":{"$error":"#REF!"}},{"$f":"VLOOKUP(A:A,#REF!,3,FALSE)","v":{"$error":"#REF!"}},{"$f":"B1924-D1924","v":{"$error":"#REF!"}},{"$f":"C1924-E1924","v":{"$error":"#REF!"}}]
["ISM4220C",4,4,{"$f":"VLOOKUP(A:A,#REF!,2,FALSE)","v":{"$error":"#REF!"}},{"$f":"VLOOKUP(A:A,#REF!,3,FALSE)","v":{"$error":"#REF!"}},{"$error":"#REF!"},{"$error":"#REF!"}]
["ISM4302",3,3,{"$f":"VLOOKUP(A:A,#REF!,2,FALSE)","v":{"$error":"#REF!"}},{"$f":"VLOOKUP(A:A,#REF!,3,FALSE)","v":{"$error":"#REF!"}},{"$error":"#REF!"},{"$error":"#REF!"}]
["ISM4480",3,3,{"$f":"VLOOKUP(A:A,#REF!,2,FALSE)","v":{"$error":"#REF!"}},{"$f":"VLOOKUP(A:A,#REF!,3,FALSE)","v":{"$error":"#REF!"}},{"$error":"#REF!"},{"$error":"#REF!"}]
["ISM4881",3,3,{"$f":"VLOOKUP(A:A,#REF!,2,FALSE)","v":{"$error":"#REF!"}},{"$f":"VLOOKUP(A:A,#REF!,3,FALSE)","v":{"$error":"#REF!"}},{"$error":"#REF!"},{"$error":"#REF!"}]
["JOU2100",3,3,{"$f":"VLOOKUP(A:A,#REF!,2,FALSE)","v":{"$error":"#REF!"}},{"$f":"VLOOKUP(A:A,#REF!,3,FALSE)","v":{"$error":"#REF!"}},{"$error":"#REF!"},{"$error":"#REF!"}]
["LAE4416",3,3,{"$f":"VLOOKUP(A:A,#REF!,2,FALSE)","v":{"$error":"#REF!"}},{"$f":"VLOOKUP(A:A,#REF!,3,FALSE)","v":{"$error":"#REF!"}},{"$error":"#REF!"},{"$error":"#REF!"}]
["LAH2000",3,3,{"$f":"VLOOKUP(A:A,#REF!,2,FALSE)","v":{"$error":"#REF!"}},{"$f":"VLOOKUP(A:A,#REF!,3,FALSE)","v":{"$error":"#REF!"}},{"$error":"#REF!"},{"$error":"#REF!"}]
["LAT1120",4,4,{"$f":"VLOOKUP(A:A,#REF!,2,FALSE)","v":{"$error":"#REF!"}},{"$f":"VLOOKUP(A:A,#REF!,3,FALSE)","v":{"$error":"#REF!"}},{"$error":"#REF!"},{"$error":"#REF!"}]
["LAT1121",4,4,{"$f":"VLOOKUP(A:A,#REF!,2,FALSE)","v":{"$error":"#REF!"}},{"$f":"VLOOKUP(A:A,#REF!,3,FALSE)","v":{"$error":"#REF!"}},{"$error":"#REF!"},{"$error":"#REF!"}]
["LDR4332",3,3,{"$f":"VLOOKUP(A:A,#REF!,2,FALSE)","v":{"$error":"#REF!"}},{"$f":"VLOOKUP(A:A,#REF!,3,FALSE)","v":{"$error":"#REF!"}},{"$error":"#REF!"},{"$error":"#REF!"}]
["LIS1000",1,1,{"$f":"VLOOKUP(A:A,#REF!,2,FALSE)","v":{"$error":"#REF!"}},{"$f":"VLOOKUP(A:A,#REF!,3,FALSE)","v":{"$error":"#REF!"}},{"$error":"#REF!"},{"$error":"#REF!"}]
["LIS1001",3,3,{"$f":"VLOOKUP(A:A,#REF!,2,FALSE)","v":{"$error":"#REF!"}},{"$f":"VLOOKUP(A:A,#REF!,3,FALSE)","v":{"$error":"#REF!"}},{"$error":"#REF!"},{"$error":"#REF!"}]
["LIT2000",3,3,{"$f":"VLOOKUP(A:A,#REF!,2,FALSE)","v":{"$error":"#REF!"}},{"$f":"VLOOKUP(A:A,#REF!,3,FALSE)","v":{"$error":"#REF!"}},{"$error":"#REF!"},{"$error":"#REF!"}]
["LIT2100",3,3,{"$f":"VLOOKUP(A:A,#REF!,2,FALSE)","v":{"$error":"#REF!"}},{"$f":"VLOOKUP(A:A,#REF!,3,FALSE)","v":{"$error":"#REF!"}},{"$error":"#REF!"},{"$error":"#REF!"}]
["LIT2330",3,3,{"$f":"VLOOKUP(A:A,#REF!,2,FALSE)","v":{"$error":"#REF!"}},{"$f":"VLOOKUP(A:A,#REF!,3,FALSE)","v":{"$error":"#REF!"}},{"$error":"#REF!"},{"$error":"#REF!"}]
["LIT2370",3,3,{"$f":"VLOOKUP(A:A,#REF!,2,FALSE)","v":{"$error":"#REF!"}},{"$f":"VLOOKUP(A:A,#REF!,3,FALSE)","v":{"$error":"#REF!"}},{"$error":"#REF!"},{"$error":"#REF!"}]
["LIT2380",3,3,{"$f":"VLOOKUP(A:A,#REF!,2,FALSE)","v":{"$error":"#REF!"}},{"$f":"VLOOKUP(A:A,#REF!,3,FALSE)","v":{"$error":"#REF!"}},{"$error":"#REF!"},{"$error":"#REF!"}]
["LIT2930",3,3,{"$f":"VLOOKUP(A:A,#REF!,2,FALSE)","v":{"$error":"#REF!"}},{"$f":"VLOOKUP(A:A,#REF!,3,FALSE)","v":{"$error":"#REF!"}},{"$error":"#REF!"},{"$error":"#REF!"}]
["MAC1105",3,3,{"$f":"VLOOKUP(A:A,#REF!,2,FALSE)","v":{"$error":"#REF!"}},{"$f":"VLOOKUP(A:A,#REF!,3,FALSE)","v":{"$error":"#REF!"}},{"$error":"#REF!"},{"$error":"#REF!"}]
["MAC1105C",5,5,{"$f":"VLOOKUP(A:A,#REF!,2,FALSE)","v":{"$error":"#REF!"}},{"$f":"VLOOKUP(A:A,#REF!,3,FALSE)","v":{"$error":"#REF!"}},{"$error":"#REF!"},{"$error":"#REF!"}]
["MAC1114",3,3,{"$f":"VLOOKUP(A:A,#REF!,2,FALSE)","v":{"$error":"#REF!"}},{"$f":"VLOOKUP(A:A,#REF!,3,FALSE)","v":{"$error":"#REF!"}},{"$error":"#REF!"},{"$error":"#REF!"}]
["MAC1140",4,4,{"$f":"VLOOKUP(A:A,#REF!,2,FALSE)","v":{"$error":"#REF!"}},{"$f":"VLOOKUP(A:A,#REF!,3,FALSE)","v":{"$error":"#REF!"}},{"$error":"#REF!"},{"$error":"#REF!"}]
["MAC1147",5,5,{"$f":"VLOOKUP(A:A,#REF!,2,FALSE)","v":{"$error":"#REF!"}},{"$f":"VLOOKUP(A:A,#REF!,3,FALSE)","v":{"$error":"#REF!"}},{"$error":"#REF!"},{"$error":"#REF!"}]
["MAC2233",3,3,{"$f":"VLOOKUP(A:A,#REF!,2,FALSE)","v":{"$error":"#REF!"}},{"$f":"VLOOKUP(A:A,#REF!,3,FALSE)","v":{"$error":"#REF!"}},{"$error":"#REF!"},{"$error":"#REF!"}]
["MAC2311",4,4,{"$f":"VLOOKUP(A:A,#REF!,2,FALSE)","v":{"$error":"#REF!"}},{"$f":"VLOOKUP(A:A,#REF!,3,FALSE)","v":{"$error":"#REF!"}},{"$error":"#REF!"},{"$error":"#REF!"}]
["MAC2312",4,4,{"$f":"VLOOKUP(A:A,#REF!,2,FALSE)","v":{"$error":"#REF!"}},{"$f":"VLOOKUP(A:A,#REF!,3,FALSE)","v":{"$error":"#REF!"}},{"$error":"#REF!"},{"$error":"#REF!"}]
["MAC2313",4,4,{"$f":"VLOOKUP(A:A,#REF!,2,FALSE)","v":{"$error":"#REF!"}},{"$f":"VLOOKUP(A:A,#REF!,3,FALSE)","v":{"$error":"#REF!"}},{"$error":"#REF!"},{"$error":"#REF!"}]
["MAN2021",3,3,{"$f":"VLOOKUP(A:A,#REF!,2,FALSE)","v":{"$error":"#REF!"}},{"$f":"VLOOKUP(A:A,#REF!,3,FALSE)","v":{"$error":"#REF!"}},{"$error":"#REF!"},{"$error":"#REF!"}]
["MAN2043",3,3,{"$f":"VLOOKUP(A:A,#REF!,2,FALSE)","v":{"$error":"#REF!"}},{"$f":"VLOOKUP(A:A,#REF!,3,FALSE)","v":{"$error":"#REF!"}},{"$error":"#REF!"},{"$error":"#REF!"}]
["MAN2125",3,3,{"$f":"VLOOKUP(A:A,#REF!,2,FALSE)","v":{"$error":"#REF!"}},{"$f":"VLOOKUP(A:A,#REF!,3,FALSE)","v":{"$error":"#REF!"}},{"$error":"#REF!"},{"$error":"#REF!"}]
["MAN2582",3,3,{"$f":"VLOOKUP(A:A,#REF!,2,FALSE)","v":{"$error":"#REF!"}},{"$f":"VLOOKUP(A:A,#REF!,3,FALSE)","v":{"$error":"#REF!"}},{"$error":"#REF!"},{"$error":"#REF!"}]
["MAN3065",3,3,{"$f":"VLOOKUP(A:A,#REF!,2,FALSE)","v":{"$error":"#REF!"}},{"$f":"VLOOKUP(A:A,#REF!,3,FALSE)","v":{"$error":"#REF!"}},{"$error":"#REF!"},{"$error":"#REF!"}]
["MAN3240",3,3,{"$f":"VLOOKUP(A:A,#REF!,2,FALSE)","v":{"$error":"#REF!"}},{"$f":"VLOOKUP(A:A,#REF!,3,FALSE)","v":{"$error":"#REF!"}},{"$error":"#REF!"},{"$error":"#REF!"}]
["MAN3353",3,3,{"$f":"VLOOKUP(A:A,#REF!,2,FALSE)","v":{"$error":"#REF!"}},{"$f":"VLOOKUP(A:A,#REF!,3,FALSE)","v":{"$error":"#REF!"}},{"$error":"#REF!"},{"$error":"#REF!"}]
["MAN3505",3,3,{"$f":"VLOOKUP(A:A,#REF!,2,FALSE)","v":{"$error":"#REF!"}},{"$f":"VLOOKUP(A:A,#REF!,3,FALSE)","v":{"$error":"#REF!"}},{"$error":"#REF!"},{"$error":"#REF!"}]
["MAN3583",3,3,{"$f":"VLOOKUP(A:A,#REF!,2,FALSE)","v":{"$error":"#REF!"}},{"$f":"VLOOKUP(A:A,#REF!,3,FALSE)","v":{"$error":"#REF!"}},{"$error":"#REF!"},{"$error":"#REF!"}]
["MAN3600",3,3,{"$f":"VLOOKUP(A:A,#REF!,2,FALSE)","v":{"$error":"#REF!"}},{"$f":"VLOOKUP(A:A,#REF!,3,FALSE)","v":{"$error":"#REF!"}},{"$error":"#REF!"},{"$error":"#REF!"}]
["MAN3781",3,3,{"$f":"VLOOKUP(A:A,#REF!,2,FALSE)","v":{"$error":"#REF!"}},{"$f":"VLOOKUP(A:A,#REF!,3,FALSE)","v":{"$error":"#REF!"}},{"$error":"#REF!"},{"$error":"#REF!"}]
["MAN4101",3,3,{"$f":"VLOOKUP(A:A,#REF!,2,FALSE)","v":{"$error":"#REF!"}},{"$f":"VLOOKUP(A:A,#REF!,3,FALSE)","v":{"$error":"#REF!"}},{"$error":"#REF!"},{"$error":"#REF!"}]
["MAN4102",3,3,{"$f":"VLOOKUP(A:A,#REF!,2,FALSE)","v":{"$error":"#REF!"}},{"$f":"VLOOKUP(A:A,#REF!,3,FALSE)","v":{"$error":"#REF!"}},{"$error":"#REF!"},{"$error":"#REF!"}]
["MAN4120",3,3,{"$f":"VLOOKUP(A:A,#REF!,2,FALSE)","v":{"$error":"#REF!"}},{"$f":"VLOOKUP(A:A,#REF!,3,FALSE)","v":{"$error":"#REF!"}},{"$error":"#REF!"},{"$error":"#REF!"}]
["MAN4162",3,3,{"$f":"VLOOKUP(A:A,#REF!,2,FALSE)","v":{"$error":"#REF!"}},{"$f":"VLOOKUP(A:A,#REF!,3,FALSE)","v":{"$error":"#REF!"}},{"$error":"#REF!"},{"$error":"#REF!"}]
["MAN4301",3,3,{"$f":"VLOOKUP(A:A,#REF!,2,FALSE)","v":{"$error":"#REF!"}},{"$f":"VLOOKUP(A:A,#REF!,3,FALSE)","v":{"$error":"#REF!"}},{"$error":"#REF!"},{"$error":"#REF!"}]
["MAN4320",3,3,{"$f":"VLOOKUP(A:A,#REF!,2,FALSE)","v":{"$error":"#REF!"}},{"$f":"VLOOKUP(A:A,#REF!,3,FALSE)","v":{"$error":"#REF!"}},{"$error":"#REF!"},{"$error":"#REF!"}]
["MAN4330",3,3,{"$f":"VLOOKUP(A:A,#REF!,2,FALSE)","v":{"$error":"#REF!"}},{"$f":"VLOOKUP(A:A,#REF!,3,FALSE)","v":{"$error":"#REF!"}},{"$error":"#REF!"},{"$error":"#REF!"}]
["MAN4350",3,3,{"$f":"VLOOKUP(A:A,#REF!,2,FALSE)","v":{"$error":"#REF!"}},{"$f":"VLOOKUP(A:A,#REF!,3,FALSE)","v":{"$error":"#REF!"}},{"$error":"#REF!"},{"$error":"#REF!"}]
["MAN4401",3,3,{"$f":"VLOOKUP(A:A,#REF!,2,FALSE)","v":{"$error":"#REF!"}},{"$f":"VLOOKUP(A:A,#REF!,3,FALSE)","v":{"$error":"#REF!"}},{"$error":"#REF!"},{"$error":"#REF!"}]
["MAN4402",3,3,{"$f":"VLOOKUP(A:A,#REF!,2,FALSE)","v":{"$error":"#REF!"}},{"$f":"VLOOKUP(A:A,#REF!,3,FALSE)","v":{"$error":"#REF!"}},{"$error":"#REF!"},{"$error":"#REF!"}]
["MAN4504",3,3,{"$f":"VLOOKUP(A:A,#REF!,2,FALSE)","v":{"$error":"#REF!"}},{"$f":"VLOOKUP(A:A,#REF!,3,FALSE)","v":{"$error":"#REF!"}},{"$error":"#REF!"},{"$error":"#REF!"}]
["MAN4720",3,3,{"$f":"VLOOKUP(A:A,#REF!,2,FALSE)","v":{"$error":"#REF!"}},{"$f":"VLOOKUP(A:A,#REF!,3,FALSE)","v":{"$error":"#REF!"}},{"$error":"#REF!"},{"$error":"#REF!"}]
["MAN4741",3,3,{"$f":"VLOOKUP(A:A,#REF!,2,FALSE)","v":{"$error":"#REF!"}},{"$f":"VLOOKUP(A:A,#REF!,3,FALSE)","v":{"$error":"#REF!"}},{"$error":"#REF!"},{"$error":"#REF!"}]
["MAN4900",3,3,{"$f":"VLOOKUP(A:A,#REF!,2,FALSE)","v":{"$error":"#REF!"}},{"$f":"VLOOKUP(A:A,#REF!,3,FALSE)","v":{"$error":"#REF!"}},{"$error":"#REF!"},{"$error":"#REF!"}]
["MAN4902",3,3,{"$f":"VLOOKUP(A:A,#REF!,2,FALSE)","v":{"$error":"#REF!"}},{"$f":"VLOOKUP(A:A,#REF!,3,FALSE)","v":{"$error":"#REF!"}},{"$error":"#REF!"},{"$error":"#REF!"}]
["MAN4910",3,3,{"$f":"VLOOKUP(A:A,#REF!,2,FALSE)","v":{"$error":"#REF!"}},{"$f":"VLOOKUP(A:A,#REF!,3,FALSE)","v":{"$error":"#REF!"}},{"$error":"#REF!"},{"$error":"#REF!"}]
["MAN4930",3,3,{"$f":"VLOOKUP(A:A,#REF!,2,FALSE)","v":{"$error":"#REF!"}},{"$f":"VLOOKUP(A:A,#REF!,3,FALSE)","v":{"$error":"#REF!"}},{"$error":"#REF!"},{"$error":"#REF!"}]
["MAP2302",3,3,{"$f":"VLOOKUP(A:A,#REF!,2,FALSE)","v":{"$error":"#REF!"}},{"$f":"VLOOKUP(A:A,#REF!,3,FALSE)","v":{"$error":"#REF!"}},{"$error":"#REF!"},{"$error":"#REF!"},"Articulate-No FWL"]
["MAR2011",3,3,{"$f":"VLOOKUP(A:A,#REF!,2,FALSE)","v":{"$error":"#REF!"}},{"$f":"VLOOKUP(A:A,#REF!,3,FALSE)","v":{"$error":"#REF!"}},{"$error":"#REF!"},{"$error":"#REF!"},"Articulate-No FWL"]
["MAR3023",3,3,{"$f":"VLOOKUP(A:A,#REF!,2,FALSE)","v":{"$error":"#REF!"}},{"$f":"VLOOKUP(A:A,#REF!,3,FALSE)","v":{"$error":"#REF!"}},{"$error":"#REF!"},{"$error":"#REF!"},"Articulate-No FWL"]
["MAR3334",3,3,{"$f":"VLOOKUP(A:A,#REF!,2,FALSE)","v":{"$error":"#REF!"}},{"$f":"VLOOKUP(A:A,#REF!,3,FALSE)","v":{"$error":"#REF!"}},{"$error":"#REF!"},{"$error":"#REF!"},"Articulate-No FWL"]
["MAR3803",3,3,{"$f":"VLOOKUP(A:A,#REF!,2,FALSE)","v":{"$error":"#REF!"}},{"$f":"VLOOKUP(A:A,#REF!,3,FALSE)","v":{"$error":"#REF!"}},{"$error":"#REF!"},{"$error":"#REF!"},"Articulate-No FWL"]
["MAR4233",3,3,{"$f":"VLOOKUP(A:A,#REF!,2,FALSE)","v":{"$error":"#REF!"}},{"$f":"VLOOKUP(A:A,#REF!,3,FALSE)","v":{"$error":"#REF!"}},{"$error":"#REF!"},{"$error":"#REF!"},"Articulate-No FWL"]
["MAR4413",3,3,{"$f":"VLOOKUP(A:A,#REF!,2,FALSE)","v":{"$error":"#REF!"}},{"$f":"VLOOKUP(A:A,#REF!,3,FALSE)","v":{"$error":"#REF!"}},{"$error":"#REF!"},{"$error":"#REF!"},"Articulate-No FWL"]
["MAR4424",3,3,{"$f":"VLOOKUP(A:A,#REF!,2,FALSE)","v":{"$error":"#REF!"}},{"$f":"VLOOKUP(A:A,#REF!,3,FALSE)","v":{"$error":"#REF!"}},{"$error":"#REF!"},{"$error":"#REF!"},"Articulate-No FWL"]
["MAR4503",3,3,{"$f":"VLOOKUP(A:A,#REF!,2,FALSE)","v":{"$error":"#REF!"}},{"$f":"VLOOKUP(A:A,#REF!,3,FALSE)","v":{"$error":"#REF!"}},{"$f":"B1988-D1988","v":{"$error":"#REF!"}},{"$f":"C1988-E1988","v":{"$error":"#REF!"}}]
["MAR4613",3,3,{"$f":"VLOOKUP(A:A,#REF!,2,FALSE)","v":{"$error":"#REF!"}},{"$f":"VLOOKUP(A:A,#REF!,3,FALSE)","v":{"$error":"#REF!"}},{"$error":"#REF!"},{"$error":"#REF!"}]
["MAR4814",3,3,{"$f":"VLOOKUP(A:A,#REF!,2,FALSE)","v":{"$error":"#REF!"}},{"$f":"VLOOKUP(A:A,#REF!,3,FALSE)","v":{"$error":"#REF!"}},{"$error":"#REF!"},{"$error":"#REF!"}]
["MAR4836",3,3,{"$f":"VLOOKUP(A:A,#REF!,2,FALSE)","v":{"$error":"#REF!"}},{"$f":"VLOOKUP(A:A,#REF!,3,FALSE)","v":{"$error":"#REF!"}},{"$error":"#REF!"},{"$error":"#REF!"}]
["MAT0018",4,4,{"$f":"VLOOKUP(A:A,#REF!,2,FALSE)","v":{"$error":"#REF!"}},{"$f":"VLOOKUP(A:A,#REF!,3,FALSE)","v":{"$error":"#REF!"}},{"$error":"#REF!"},{"$error":"#REF!"}]
["MAT0022",5,5,{"$f":"VLOOKUP(A:A,#REF!,2,FALSE)","v":{"$error":"#REF!"}},{"$f":"VLOOKUP(A:A,#REF!,3,FALSE)","v":{"$error":"#REF!"}},{"$error":"#REF!"},{"$error":"#REF!"}]
["MAT0028",4,4,{"$f":"VLOOKUP(A:A,#REF!,2,FALSE)","v":{"$error":"#REF!"}},{"$f":"VLOOKUP(A:A,#REF!,3,FALSE)","v":{"$error":"#REF!"}},{"$error":"#REF!"},{"$error":"#REF!"}]
["MAT0055",1,1,{"$f":"VLOOKUP(A:A,#REF!,2,FALSE)","v":{"$error":"#REF!"}},{"$f":"VLOOKUP(A:A,#REF!,3,FALSE)","v":{"$error":"#REF!"}},{"$error":"#REF!"},{"$error":"#REF!"}]
["MAT0056",2,2,{"$f":"VLOOKUP(A:A,#REF!,2,FALSE)","v":{"$error":"#REF!"}},{"$f":"VLOOKUP(A:A,#REF!,3,FALSE)","v":{"$error":"#REF!"}},{"$error":"#REF!"},{"$error":"#REF!"}]
["MAT1033",4,4,{"$f":"VLOOKUP(A:A,#REF!,2,FALSE)","v":{"$error":"#REF!"}},{"$f":"VLOOKUP(A:A,#REF!,3,FALSE)","v":{"$error":"#REF!"}},{"$error":"#REF!"},{"$error":"#REF!"}]
["MCB2010C",6,6,{"$f":"VLOOKUP(A:A,#REF!,2,FALSE)","v":{"$error":"#REF!"}},{"$f":"VLOOKUP(A:A,#REF!,3,FALSE)","v":{"$error":"#REF!"}},{"$error":"#REF!"},{"$error":"#REF!"}]
["MCB3020C",6,5.0999999999999996,{"$f":"VLOOKUP(A:A,#REF!,2,FALSE)","v":{"$error":"#REF!"}},{"$f":"VLOOKUP(A:A,#REF!,3,FALSE)","v":{"$error":"#REF!"}},{"$error":"#REF!"},{"$error":"#REF!"}]
["MCB4203",3,3,{"$f":"VLOOKUP(A:A,#REF!,2,FALSE)","v":{"$error":"#REF!"}},{"$f":"VLOOKUP(A:A,#REF!,3,FALSE)","v":{"$error":"#REF!"}},{"$error":"#REF!"},{"$error":"#REF!"}]
["MCB4404",3,3,{"$f":"VLOOKUP(A:A,#REF!,2,FALSE)","v":{"$error":"#REF!"}},{"$f":"VLOOKUP(A:A,#REF!,3,FALSE)","v":{"$error":"#REF!"}},{"$error":"#REF!"},{"$error":"#REF!"}]
["MCB4503",3,3,{"$f":"VLOOKUP(A:A,#REF!,2,FALSE)","v":{"$error":"#REF!"}},{"$f":"VLOOKUP(A:A,#REF!,3,FALSE)","v":{"$error":"#REF!"}},{"$error":"#REF!"},{"$error":"#REF!"}]
["MEA0002C",10,8.33,{"$f":"VLOOKUP(A:A,#REF!,2,FALSE)","v":{"$error":"#REF!"}},{"$f":"VLOOKUP(A:A,#REF!,3,FALSE)","v":{"$error":"#REF!"}},{"$error":"#REF!"},{"$error":"#REF!"}]
["MEA0501C",3,2.5,{"$f":"VLOOKUP(A:A,#REF!,2,FALSE)","v":{"$error":"#REF!"}},{"$f":"VLOOKUP(A:A,#REF!,3,FALSE)","v":{"$error":"#REF!"}},{"$error":"#REF!"},{"$error":"#REF!"}]
["MEA0506C",3.6,3,{"$f":"VLOOKUP(A:A,#REF!,2,FALSE)","v":{"$error":"#REF!"}},{"$f":"VLOOKUP(A:A,#REF!,3,FALSE)","v":{"$error":"#REF!"}},{"$error":"#REF!"},{"$error":"#REF!"}]
["MEA0521C",3,2.5,{"$f":"VLOOKUP(A:A,#REF!,2,FALSE)","v":{"$error":"#REF!"}},{"$f":"VLOOKUP(A:A,#REF!,3,FALSE)","v":{"$error":"#REF!"}},{"$error":"#REF!"},{"$error":"#REF!"}]
["MEA0530C",3.6,3,{"$f":"VLOOKUP(A:A,#REF!,2,FALSE)","v":{"$error":"#REF!"}},{"$f":"VLOOKUP(A:A,#REF!,3,FALSE)","v":{"$error":"#REF!"}},{"$error":"#REF!"},{"$error":"#REF!"}]
["MEA0543C",3,2.5,{"$f":"VLOOKUP(A:A,#REF!,2,FALSE)","v":{"$error":"#REF!"}},{"$f":"VLOOKUP(A:A,#REF!,3,FALSE)","v":{"$error":"#REF!"}},{"$error":"#REF!"},{"$error":"#REF!"}]
["MEA0573C",5,4.16,{"$f":"VLOOKUP(A:A,#REF!,2,FALSE)","v":{"$error":"#REF!"}},{"$f":"VLOOKUP(A:A,#REF!,3,FALSE)","v":{"$error":"#REF!"}},{"$error":"#REF!"},{"$error":"#REF!"}]
["MEA0581C",9.1999999999999993,7.66,{"$f":"VLOOKUP(A:A,#REF!,2,FALSE)","v":{"$error":"#REF!"}},{"$f":"VLOOKUP(A:A,#REF!,3,FALSE)","v":{"$error":"#REF!"}},{"$error":"#REF!"},{"$error":"#REF!"}]
["MEA0942",0.01,0.01,{"$f":"VLOOKUP(A:A,#REF!,2,FALSE)","v":{"$error":"#REF!"}},{"$f":"VLOOKUP(A:A,#REF!,3,FALSE)","v":{"$error":"#REF!"}},{"$error":"#REF!"},{"$error":"#REF!"}]
["MEA1010C",3,2.6,{"$f":"VLOOKUP(A:A,#REF!,2,FALSE)","v":{"$error":"#REF!"}},{"$f":"VLOOKUP(A:A,#REF!,3,FALSE)","v":{"$error":"#REF!"}},{"$error":"#REF!"},{"$error":"#REF!"}]
["MEA1206C",6,5.2,{"$f":"VLOOKUP(A:A,#REF!,2,FALSE)","v":{"$error":"#REF!"}},{"$f":"VLOOKUP(A:A,#REF!,3,FALSE)","v":{"$error":"#REF!"}},{"$error":"#REF!"},{"$error":"#REF!"}]
["MEA1207C",4,3.6,{"$f":"VLOOKUP(A:A,#REF!,2,FALSE)","v":{"$error":"#REF!"}},{"$f":"VLOOKUP(A:A,#REF!,3,FALSE)","v":{"$error":"#REF!"}},{"$error":"#REF!"},{"$error":"#REF!"}]
["MEA1265C",4,3.6,{"$f":"VLOOKUP(A:A,#REF!,2,FALSE)","v":{"$error":"#REF!"}},{"$f":"VLOOKUP(A:A,#REF!,3,FALSE)","v":{"$error":"#REF!"}},{"$error":"#REF!"},{"$error":"#REF!"}]
["MEA1266C",4,3.6,{"$f":"VLOOKUP(A:A,#REF!,2,FALSE)","v":{"$error":"#REF!"}},{"$f":"VLOOKUP(A:A,#REF!,3,FALSE)","v":{"$error":"#REF!"}},{"$error":"#REF!"},{"$error":"#REF!"}]
["MEA1303",5,5,{"$f":"VLOOKUP(A:A,#REF!,2,FALSE)","v":{"$error":"#REF!"}},{"$f":"VLOOKUP(A:A,#REF!,3,FALSE)","v":{"$error":"#REF!"}},{"$error":"#REF!"},{"$error":"#REF!"}]
["MEA1930",1,1,{"$f":"VLOOKUP(A:A,#REF!,2,FALSE)","v":{"$error":"#REF!"}},{"$f":"VLOOKUP(A:A,#REF!,3,FALSE)","v":{"$error":"#REF!"}},{"$error":"#REF!"},{"$error":"#REF!"}]
["MEA1931",1,1,{"$f":"VLOOKUP(A:A,#REF!,2,FALSE)","v":{"$error":"#REF!"}},{"$f":"VLOOKUP(A:A,#REF!,3,FALSE)","v":{"$error":"#REF!"}},{"$error":"#REF!"},{"$error":"#REF!"}]
["MEA2020",5,5,{"$f":"VLOOKUP(A:A,#REF!,2,FALSE)","v":{"$error":"#REF!"}},{"$f":"VLOOKUP(A:A,#REF!,3,FALSE)","v":{"$error":"#REF!"}},{"$error":"#REF!"},{"$error":"#REF!"}]
["MEA2021",4,4,{"$f":"VLOOKUP(A:A,#REF!,2,FALSE)","v":{"$error":"#REF!"}},{"$f":"VLOOKUP(A:A,#REF!,3,FALSE)","v":{"$error":"#REF!"}},{"$error":"#REF!"},{"$error":"#REF!"}]
["MEA2030C",3,2.8,{"$f":"VLOOKUP(A:A,#REF!,2,FALSE)","v":{"$error":"#REF!"}},{"$f":"VLOOKUP(A:A,#REF!,3,FALSE)","v":{"$error":"#REF!"}},{"$error":"#REF!"},{"$error":"#REF!"}]
["MEA2809",0.01,0.01,{"$f":"VLOOKUP(A:A,#REF!,2,FALSE)","v":{"$error":"#REF!"}},{"$f":"VLOOKUP(A:A,#REF!,3,FALSE)","v":{"$error":"#REF!"}},{"$error":"#REF!"},{"$error":"#REF!"}]
["MGF1106",3,3,{"$f":"VLOOKUP(A:A,#REF!,2,FALSE)","v":{"$error":"#REF!"}},{"$f":"VLOOKUP(A:A,#REF!,3,FALSE)","v":{"$error":"#REF!"}},{"$error":"#REF!"},{"$error":"#REF!"}]
["MGF1107",3,3,{"$f":"VLOOKUP(A:A,#REF!,2,FALSE)","v":{"$error":"#REF!"}},{"$f":"VLOOKUP(A:A,#REF!,3,FALSE)","v":{"$error":"#REF!"}},{"$error":"#REF!"},{"$error":"#REF!"}]
["MLT1022C",4,3.4,{"$f":"VLOOKUP(A:A,#REF!,2,FALSE)","v":{"$error":"#REF!"}},{"$f":"VLOOKUP(A:A,#REF!,3,FALSE)","v":{"$error":"#REF!"}},{"$error":"#REF!"},{"$error":"#REF!"}]
["MLT1300C",6,6,{"$f":"VLOOKUP(A:A,#REF!,2,FALSE)","v":{"$error":"#REF!"}},{"$f":"VLOOKUP(A:A,#REF!,3,FALSE)","v":{"$error":"#REF!"}},{"$error":"#REF!"},{"$error":"#REF!"}]
["MLT1301C",5,4.4000000000000004,{"$f":"VLOOKUP(A:A,#REF!,2,FALSE)","v":{"$error":"#REF!"}},{"$f":"VLOOKUP(A:A,#REF!,3,FALSE)","v":{"$error":"#REF!"}},{"$error":"#REF!"},{"$error":"#REF!"}]
["MLT1302C",5,4.4000000000000004,{"$f":"VLOOKUP(A:A,#REF!,2,FALSE)","v":{"$error":"#REF!"}},{"$f":"VLOOKUP(A:A,#REF!,3,FALSE)","v":{"$error":"#REF!"}},{"$error":"#REF!"},{"$error":"#REF!"}]
["MLT1330C",3,3,{"$f":"VLOOKUP(A:A,#REF!,2,FALSE)","v":{"$error":"#REF!"}},{"$f":"VLOOKUP(A:A,#REF!,3,FALSE)","v":{"$error":"#REF!"}},{"$error":"#REF!"},{"$error":"#REF!"}]
["MLT1401C",6,5.2,{"$f":"VLOOKUP(A:A,#REF!,2,FALSE)","v":{"$error":"#REF!"}},{"$f":"VLOOKUP(A:A,#REF!,3,FALSE)","v":{"$error":"#REF!"}},{"$error":"#REF!"},{"$error":"#REF!"}]
["MLT1440C",3,2.6,{"$f":"VLOOKUP(A:A,#REF!,2,FALSE)","v":{"$error":"#REF!"}},{"$f":"VLOOKUP(A:A,#REF!,3,FALSE)","v":{"$error":"#REF!"}},{"$error":"#REF!"},{"$error":"#REF!"}]
["MLT2150C",3,2.6,{"$f":"VLOOKUP(A:A,#REF!,2,FALSE)","v":{"$error":"#REF!"}},{"$f":"VLOOKUP(A:A,#REF!,3,FALSE)","v":{"$error":"#REF!"}},{"$error":"#REF!"},{"$error":"#REF!"}]
["MLT2190C",6,6,{"$f":"VLOOKUP(A:A,#REF!,2,FALSE)","v":{"$error":"#REF!"}},{"$f":"VLOOKUP(A:A,#REF!,3,FALSE)","v":{"$error":"#REF!"}},{"$error":"#REF!"},{"$error":"#REF!"}]
["MLT2191",4,4,{"$f":"VLOOKUP(A:A,#REF!,2,FALSE)","v":{"$error":"#REF!"}},{"$f":"VLOOKUP(A:A,#REF!,3,FALSE)","v":{"$error":"#REF!"}},{"$error":"#REF!"},{"$error":"#REF!"}]
["MLT2191L",2,1.6,{"$f":"VLOOKUP(A:A,#REF!,2,FALSE)","v":{"$error":"#REF!"}},{"$f":"VLOOKUP(A:A,#REF!,3,FALSE)","v":{"$error":"#REF!"}},{"$error":"#REF!"},{"$error":"#REF!"}]
["MLT2192",4,4,{"$f":"VLOOKUP(A:A,#REF!,2,FALSE)","v":{"$error":"#REF!"}},{"$f":"VLOOKUP(A:A,#REF!,3,FALSE)","v":{"$error":"#REF!"}},{"$error":"#REF!"},{"$error":"#REF!"}]
["MLT2192L",2,1.6,{"$f":"VLOOKUP(A:A,#REF!,2,FALSE)","v":{"$error":"#REF!"}},{"$f":"VLOOKUP(A:A,#REF!,3,FALSE)","v":{"$error":"#REF!"}},{"$error":"#REF!"},{"$error":"#REF!"}]
["MLT2193C",4,4,{"$f":"VLOOKUP(A:A,#REF!,2,FALSE)","v":{"$error":"#REF!"}},{"$f":"VLOOKUP(A:A,#REF!,3,FALSE)","v":{"$error":"#REF!"}},{"$error":"#REF!"},{"$error":"#REF!"}]
["MLT2194",3,3,{"$f":"VLOOKUP(A:A,#REF!,2,FALSE)","v":{"$error":"#REF!"}},{"$f":"VLOOKUP(A:A,#REF!,3,FALSE)","v":{"$error":"#REF!"}},{"$error":"#REF!"},{"$error":"#REF!"}]
["MLT2194L",2,1.6,{"$f":"VLOOKUP(A:A,#REF!,2,FALSE)","v":{"$error":"#REF!"}},{"$f":"VLOOKUP(A:A,#REF!,3,FALSE)","v":{"$error":"#REF!"}},{"$error":"#REF!"},{"$error":"#REF!"}]
["MLT2230C",3,3,{"$f":"VLOOKUP(A:A,#REF!,2,FALSE)","v":{"$error":"#REF!"}},{"$f":"VLOOKUP(A:A,#REF!,3,FALSE)","v":{"$error":"#REF!"}},{"$error":"#REF!"},{"$error":"#REF!"}]
["MLT2500C",6,5.2,{"$f":"VLOOKUP(A:A,#REF!,2,FALSE)","v":{"$error":"#REF!"}},{"$f":"VLOOKUP(A:A,#REF!,3,FALSE)","v":{"$error":"#REF!"}},{"$error":"#REF!"},{"$error":"#REF!"}]
["MLT2525C",6,5.2,{"$f":"VLOOKUP(A:A,#REF!,2,FALSE)","v":{"$error":"#REF!"}},{"$f":"VLOOKUP(A:A,#REF!,3,FALSE)","v":{"$error":"#REF!"}},{"$error":"#REF!"},{"$error":"#REF!"}]
["MLT2610C",6,5.2,{"$f":"VLOOKUP(A:A,#REF!,2,FALSE)","v":{"$error":"#REF!"}},{"$f":"VLOOKUP(A:A,#REF!,3,FALSE)","v":{"$error":"#REF!"}},{"$error":"#REF!"},{"$error":"#REF!"}]
["MLT2800L",0.01,0.01,{"$f":"VLOOKUP(A:A,#REF!,2,FALSE)","v":{"$error":"#REF!"}},{"$f":"VLOOKUP(A:A,#REF!,3,FALSE)","v":{"$error":"#REF!"}},{"$error":"#REF!"},{"$error":"#REF!"}]
["MLT2801L",0.01,0.01,{"$f":"VLOOKUP(A:A,#REF!,2,FALSE)","v":{"$error":"#REF!"}},{"$f":"VLOOKUP(A:A,#REF!,3,FALSE)","v":{"$error":"#REF!"}},{"$error":"#REF!"},{"$error":"#REF!"}]
["MLT2840L",0.01,0.01,{"$f":"VLOOKUP(A:A,#REF!,2,FALSE)","v":{"$error":"#REF!"}},{"$f":"VLOOKUP(A:A,#REF!,3,FALSE)","v":{"$error":"#REF!"}},{"$error":"#REF!"},{"$error":"#REF!"}]
["MLT2841L",0.01,0.01,{"$f":"VLOOKUP(A:A,#REF!,2,FALSE)","v":{"$error":"#REF!"}},{"$f":"VLOOKUP(A:A,#REF!,3,FALSE)","v":{"$error":"#REF!"}},{"$error":"#REF!"},{"$error":"#REF!"}]
["MLT2930C",3,2.6,{"$f":"VLOOKUP(A:A,#REF!,2,FALSE)","v":{"$error":"#REF!"}},{"$f":"VLOOKUP(A:A,#REF!,3,FALSE)","v":{"$error":"#REF!"}},{"$error":"#REF!"},{"$error":"#REF!"}]
["MMC1000",3,3,{"$f":"VLOOKUP(A:A,#REF!,2,FALSE)","v":{"$error":"#REF!"}},{"$f":"VLOOKUP(A:A,#REF!,3,FALSE)","v":{"$error":"#REF!"}},{"$error":"#REF!"},{"$error":"#REF!"}]
["MMC2100",3,3,{"$f":"VLOOKUP(A:A,#REF!,2,FALSE)","v":{"$error":"#REF!"}},{"$f":"VLOOKUP(A:A,#REF!,3,FALSE)","v":{"$error":"#REF!"}},{"$f":"B2052-D2052","v":{"$error":"#REF!"}},{"$f":"C2052-E2052","v":{"$error":"#REF!"}}]
["MMC3200",3,3,{"$f":"VLOOKUP(A:A,#REF!,2,FALSE)","v":{"$error":"#REF!"}},{"$f":"VLOOKUP(A:A,#REF!,3,FALSE)","v":{"$error":"#REF!"}},{"$error":"#REF!"},{"$error":"#REF!"}]
["MMC3420",3,3,{"$f":"VLOOKUP(A:A,#REF!,2,FALSE)","v":{"$error":"#REF!"}},{"$f":"VLOOKUP(A:A,#REF!,3,FALSE)","v":{"$error":"#REF!"}},{"$error":"#REF!"},{"$error":"#REF!"}]
["MMC4131C",4,4,{"$f":"VLOOKUP(A:A,#REF!,2,FALSE)","v":{"$error":"#REF!"}},{"$f":"VLOOKUP(A:A,#REF!,3,FALSE)","v":{"$error":"#REF!"}},{"$error":"#REF!"},{"$error":"#REF!"}]
["MMC4263",3,3,{"$f":"VLOOKUP(A:A,#REF!,2,FALSE)","v":{"$error":"#REF!"}},{"$f":"VLOOKUP(A:A,#REF!,3,FALSE)","v":{"$error":"#REF!"}},{"$error":"#REF!"},{"$error":"#REF!"}]
["MMC4303",3,3,{"$f":"VLOOKUP(A:A,#REF!,2,FALSE)","v":{"$error":"#REF!"}},{"$f":"VLOOKUP(A:A,#REF!,3,FALSE)","v":{"$error":"#REF!"}},{"$error":"#REF!"},{"$error":"#REF!"}]
["MNA1949A",0,0,{"$f":"VLOOKUP(A:A,#REF!,2,FALSE)","v":{"$error":"#REF!"}},{"$f":"VLOOKUP(A:A,#REF!,3,FALSE)","v":{"$error":"#REF!"}},{"$error":"#REF!"},{"$error":"#REF!"}]
["MNA1949B",0,0,{"$f":"VLOOKUP(A:A,#REF!,2,FALSE)","v":{"$error":"#REF!"}},{"$f":"VLOOKUP(A:A,#REF!,3,FALSE)","v":{"$error":"#REF!"}},{"$error":"#REF!"},{"$error":"#REF!"}]
["MNA1949C",0,0,{"$f":"VLOOKUP(A:A,#REF!,2,FALSE)","v":{"$error":"#REF!"}},{"$f":"VLOOKUP(A:A,#REF!,3,FALSE)","v":{"$error":"#REF!"}},{"$error":"#REF!"},{"$error":"#REF!"}]
["MNA1949D",0,0,{"$f":"VLOOKUP(A:A,#REF!,2,FALSE)","v":{"$error":"#REF!"}},{"$f":"VLOOKUP(A:A,#REF!,3,FALSE)","v":{"$error":"#REF!"}},{"$error":"#REF!"},{"$error":"#REF!"}]
["MNA1949E",0,0,{"$f":"VLOOKUP(A:A,#REF!,2,FALSE)","v":{"$error":"#REF!"}},{"$f":"VLOOKUP(A:A,#REF!,3,FALSE)","v":{"$error":"#REF!"}},{"$error":"#REF!"},{"$error":"#REF!"}]
["MNA1949F",0,0,{"$f":"VLOOKUP(A:A,#REF!,2,FALSE)","v":{"$error":"#REF!"}},{"$f":"VLOOKUP(A:A,#REF!,3,FALSE)","v":{"$error":"#REF!"}},{"$error":"#REF!"},{"$error":"#REF!"}]
["MNA1949G",0,0,{"$f":"VLOOKUP(A:A,#REF!,2,FALSE)","v":{"$error":"#REF!"}},{"$f":"VLOOKUP(A:A,#REF!,3,FALSE)","v":{"$error":"#REF!"}},{"$error":"#REF!"},{"$error":"#REF!"}]
["MNA1949H",0,0,{"$f":"VLOOKUP(A:A,#REF!,2,FALSE)","v":{"$error":"#REF!"}},{"$f":"VLOOKUP(A:A,#REF!,3,FALSE)","v":{"$error":"#REF!"}},{"$error":"#REF!"},{"$error":"#REF!"}]
["MNA2216",3,3,{"$f":"VLOOKUP(A:A,#REF!,2,FALSE)","v":{"$error":"#REF!"}},{"$f":"VLOOKUP(A:A,#REF!,3,FALSE)","v":{"$error":"#REF!"}},{"$error":"#REF!"},{"$error":"#REF!"}]
["MSL1001",2,2,{"$f":"VLOOKUP(A:A,#REF!,2,FALSE)","v":{"$error":"#REF!"}},{"$f":"VLOOKUP(A:A,#REF!,3,FALSE)","v":{"$error":"#REF!"}},{"$error":"#REF!"},{"$error":"#REF!"}]
["MSL1001L",2,1.4,{"$f":"VLOOKUP(A:A,#REF!,2,FALSE)","v":{"$error":"#REF!"}},{"$f":"VLOOKUP(A:A,#REF!,3,FALSE)","v":{"$error":"#REF!"}},{"$error":"#REF!"},{"$error":"#REF!"}]
["MSL1002",2,2,{"$f":"VLOOKUP(A:A,#REF!,2,FALSE)","v":{"$error":"#REF!"}},{"$f":"VLOOKUP(A:A,#REF!,3,FALSE)","v":{"$error":"#REF!"}},{"$error":"#REF!"},{"$error":"#REF!"}]
["MSL1002L",2,1.4,{"$f":"VLOOKUP(A:A,#REF!,2,FALSE)","v":{"$error":"#REF!"}},{"$f":"VLOOKUP(A:A,#REF!,3,FALSE)","v":{"$error":"#REF!"}},{"$error":"#REF!"},{"$error":"#REF!"}]
["MSL2101",2,2,{"$f":"VLOOKUP(A:A,#REF!,2,FALSE)","v":{"$error":"#REF!"}},{"$f":"VLOOKUP(A:A,#REF!,3,FALSE)","v":{"$error":"#REF!"}},{"$error":"#REF!"},{"$error":"#REF!"}]
["MSL2101L",2,1.4,{"$f":"VLOOKUP(A:A,#REF!,2,FALSE)","v":{"$error":"#REF!"}},{"$f":"VLOOKUP(A:A,#REF!,3,FALSE)","v":{"$error":"#REF!"}},{"$error":"#REF!"},{"$error":"#REF!"}]
["MSL2102",2,2,{"$f":"VLOOKUP(A:A,#REF!,2,FALSE)","v":{"$error":"#REF!"}},{"$f":"VLOOKUP(A:A,#REF!,3,FALSE)","v":{"$error":"#REF!"}},{"$error":"#REF!"},{"$error":"#REF!"}]
["MSL2102L",2,1.4,{"$f":"VLOOKUP(A:A,#REF!,2,FALSE)","v":{"$error":"#REF!"}},{"$f":"VLOOKUP(A:A,#REF!,3,FALSE)","v":{"$error":"#REF!"}},{"$error":"#REF!"},{"$error":"#REF!"}]
["MSL3201",3,3,{"$f":"VLOOKUP(A:A,#REF!,2,FALSE)","v":{"$error":"#REF!"}},{"$f":"VLOOKUP(A:A,#REF!,3,FALSE)","v":{"$error":"#REF!"}},{"$error":"#REF!"},{"$error":"#REF!"}]
["MSL3201L",3,3,{"$f":"VLOOKUP(A:A,#REF!,2,FALSE)","v":{"$error":"#REF!"}},{"$f":"VLOOKUP(A:A,#REF!,3,FALSE)","v":{"$error":"#REF!"}},{"$error":"#REF!"},{"$error":"#REF!"}]
["MSL3202",3,3,{"$f":"VLOOKUP(A:A,#REF!,2,FALSE)","v":{"$error":"#REF!"}},{"$f":"VLOOKUP(A:A,#REF!,3,FALSE)","v":{"$error":"#REF!"}},{"$error":"#REF!"},{"$error":"#REF!"}]
["MSL3202L",3,3,{"$f":"VLOOKUP(A:A,#REF!,2,FALSE)","v":{"$error":"#REF!"}},{"$f":"VLOOKUP(A:A,#REF!,3,FALSE)","v":{"$error":"#REF!"}},{"$error":"#REF!"},{"$error":"#REF!"}]
["MSL4301",3,3,{"$f":"VLOOKUP(A:A,#REF!,2,FALSE)","v":{"$error":"#REF!"}},{"$f":"VLOOKUP(A:A,#REF!,3,FALSE)","v":{"$error":"#REF!"}},{"$error":"#REF!"},{"$error":"#REF!"}]
["MSL4301L",3,3,{"$f":"VLOOKUP(A:A,#REF!,2,FALSE)","v":{"$error":"#REF!"}},{"$f":"VLOOKUP(A:A,#REF!,3,FALSE)","v":{"$error":"#REF!"}},{"$error":"#REF!"},{"$error":"#REF!"}]
["MSL4302",3,3,{"$f":"VLOOKUP(A:A,#REF!,2,FALSE)","v":{"$error":"#REF!"}},{"$f":"VLOOKUP(A:A,#REF!,3,FALSE)","v":{"$error":"#REF!"}},{"$error":"#REF!"},{"$error":"#REF!"}]
["MSL4302L",3,3,{"$f":"VLOOKUP(A:A,#REF!,2,FALSE)","v":{"$error":"#REF!"}},{"$f":"VLOOKUP(A:A,#REF!,3,FALSE)","v":{"$error":"#REF!"}},{"$error":"#REF!"},{"$error":"#REF!"}]
["MSL4905",1,1,{"$f":"VLOOKUP(A:A,#REF!,2,FALSE)","v":{"$error":"#REF!"}},{"$f":"VLOOKUP(A:A,#REF!,3,FALSE)","v":{"$error":"#REF!"}},{"$error":"#REF!"},{"$error":"#REF!"}]
["MSL4941",4,4,{"$f":"VLOOKUP(A:A,#REF!,2,FALSE)","v":{"$error":"#REF!"}},{"$f":"VLOOKUP(A:A,#REF!,3,FALSE)","v":{"$error":"#REF!"}},{"$error":"#REF!"},{"$error":"#REF!"}]
["MSS0156",6,5,{"$f":"VLOOKUP(A:A,#REF!,2,FALSE)","v":{"$error":"#REF!"}},{"$f":"VLOOKUP(A:A,#REF!,3,FALSE)","v":{"$error":"#REF!"}},{"$error":"#REF!"},{"$error":"#REF!"}]
["MSS0215",0.4,0.33,{"$f":"VLOOKUP(A:A,#REF!,2,FALSE)","v":{"$error":"#REF!"}},{"$f":"VLOOKUP(A:A,#REF!,3,FALSE)","v":{"$error":"#REF!"}},{"$error":"#REF!"},{"$error":"#REF!"}]
["MSS0254",6.2,5.16,{"$f":"VLOOKUP(A:A,#REF!,2,FALSE)","v":{"$error":"#REF!"}},{"$f":"VLOOKUP(A:A,#REF!,3,FALSE)","v":{"$error":"#REF!"}},{"$error":"#REF!"},{"$error":"#REF!"}]
["MSS0315",0.6,0.5,{"$f":"VLOOKUP(A:A,#REF!,2,FALSE)","v":{"$error":"#REF!"}},{"$f":"VLOOKUP(A:A,#REF!,3,FALSE)","v":{"$error":"#REF!"}},{"$error":"#REF!"},{"$error":"#REF!"}]
["MTG2204",3,3,{"$f":"VLOOKUP(A:A,#REF!,2,FALSE)","v":{"$error":"#REF!"}},{"$f":"VLOOKUP(A:A,#REF!,3,FALSE)","v":{"$error":"#REF!"}},{"$error":"#REF!"},{"$error":"#REF!"}]
["MUL2010",3,3,{"$f":"VLOOKUP(A:A,#REF!,2,FALSE)","v":{"$error":"#REF!"}},{"$f":"VLOOKUP(A:A,#REF!,3,FALSE)","v":{"$error":"#REF!"}},{"$error":"#REF!"},{"$error":"#REF!"}]
["MUM1600",6,4,{"$f":"VLOOKUP(A:A,#REF!,2,FALSE)","v":{"$error":"#REF!"}},{"$f":"VLOOKUP(A:A,#REF!,3,FALSE)","v":{"$error":"#REF!"}},{"$error":"#REF!"},{"$error":"#REF!"}]
["MUM1601",6,4,{"$f":"VLOOKUP(A:A,#REF!,2,FALSE)","v":{"$error":"#REF!"}},{"$f":"VLOOKUP(A:A,#REF!,3,FALSE)","v":{"$error":"#REF!"}},{"$error":"#REF!"},{"$error":"#REF!"}]
["MUM2623",3,3,{"$f":"VLOOKUP(A:A,#REF!,2,FALSE)","v":{"$error":"#REF!"}},{"$f":"VLOOKUP(A:A,#REF!,3,FALSE)","v":{"$error":"#REF!"}},{"$error":"#REF!"},{"$error":"#REF!"}]
["MUM2634",3,3,{"$f":"VLOOKUP(A:A,#REF!,2,FALSE)","v":{"$error":"#REF!"}},{"$f":"VLOOKUP(A:A,#REF!,3,FALSE)","v":{"$error":"#REF!"}},{"$error":"#REF!"},{"$error":"#REF!"}]
["MUN1013",3,3,{"$f":"VLOOKUP(A:A,#REF!,2,FALSE)","v":{"$error":"#REF!"}},{"$f":"VLOOKUP(A:A,#REF!,3,FALSE)","v":{"$error":"#REF!"}},{"$error":"#REF!"},{"$error":"#REF!"}]
["MUN1130",5,5,{"$f":"VLOOKUP(A:A,#REF!,2,FALSE)","v":{"$error":"#REF!"}},{"$f":"VLOOKUP(A:A,#REF!,3,FALSE)","v":{"$error":"#REF!"}},{"$error":"#REF!"},{"$error":"#REF!"}]
["MUN1280",2,2,{"$f":"VLOOKUP(A:A,#REF!,2,FALSE)","v":{"$error":"#REF!"}},{"$f":"VLOOKUP(A:A,#REF!,3,FALSE)","v":{"$error":"#REF!"}},{"$error":"#REF!"},{"$error":"#REF!"}]
["MUN1310",5,5,{"$f":"VLOOKUP(A:A,#REF!,2,FALSE)","v":{"$error":"#REF!"}},{"$f":"VLOOKUP(A:A,#REF!,3,FALSE)","v":{"$error":"#REF!"}},{"$error":"#REF!"},{"$error":"#REF!"}]
["MUN1340",3,3,{"$f":"VLOOKUP(A:A,#REF!,2,FALSE)","v":{"$error":"#REF!"}},{"$f":"VLOOKUP(A:A,#REF!,3,FALSE)","v":{"$error":"#REF!"}},{"$error":"#REF!"},{"$error":"#REF!"}]
["MUN1391",5,5,{"$f":"VLOOKUP(A:A,#REF!,2,FALSE)","v":{"$error":"#REF!"}},{"$f":"VLOOKUP(A:A,#REF!,3,FALSE)","v":{"$error":"#REF!"}},{"$error":"#REF!"},{"$error":"#REF!"}]
["MUN1450",3,3,{"$f":"VLOOKUP(A:A,#REF!,2,FALSE)","v":{"$error":"#REF!"}},{"$f":"VLOOKUP(A:A,#REF!,3,FALSE)","v":{"$error":"#REF!"}},{"$error":"#REF!"},{"$error":"#REF!"}]
["MUN1460",3,3,{"$f":"VLOOKUP(A:A,#REF!,2,FALSE)","v":{"$error":"#REF!"}},{"$f":"VLOOKUP(A:A,#REF!,3,FALSE)","v":{"$error":"#REF!"}},{"$error":"#REF!"},{"$error":"#REF!"}]
["MUN1480",3,3,{"$f":"VLOOKUP(A:A,#REF!,2,FALSE)","v":{"$error":"#REF!"}},{"$f":"VLOOKUP(A:A,#REF!,3,FALSE)","v":{"$error":"#REF!"}},{"$error":"#REF!"},{"$error":"#REF!"}]
["MUN1640",3,3,{"$f":"VLOOKUP(A:A,#REF!,2,FALSE)","v":{"$error":"#REF!"}},{"$f":"VLOOKUP(A:A,#REF!,3,FALSE)","v":{"$error":"#REF!"}},{"$error":"#REF!"},{"$error":"#REF!"}]
["MUN1710",3,3,{"$f":"VLOOKUP(A:A,#REF!,2,FALSE)","v":{"$error":"#REF!"}},{"$f":"VLOOKUP(A:A,#REF!,3,FALSE)","v":{"$error":"#REF!"}},{"$error":"#REF!"},{"$error":"#REF!"}]
["MUN1711",3,3,{"$f":"VLOOKUP(A:A,#REF!,2,FALSE)","v":{"$error":"#REF!"}},{"$f":"VLOOKUP(A:A,#REF!,3,FALSE)","v":{"$error":"#REF!"}},{"$error":"#REF!"},{"$error":"#REF!"}]
["MUS1010",1,1,{"$f":"VLOOKUP(A:A,#REF!,2,FALSE)","v":{"$error":"#REF!"}},{"$f":"VLOOKUP(A:A,#REF!,3,FALSE)","v":{"$error":"#REF!"}},{"$error":"#REF!"},{"$error":"#REF!"}]
["MUT1001",3,3,{"$f":"VLOOKUP(A:A,#REF!,2,FALSE)","v":{"$error":"#REF!"}},{"$f":"VLOOKUP(A:A,#REF!,3,FALSE)","v":{"$error":"#REF!"}},{"$error":"#REF!"},{"$error":"#REF!"}]
["MUT1111",3,3,{"$f":"VLOOKUP(A:A,#REF!,2,FALSE)","v":{"$error":"#REF!"}},{"$f":"VLOOKUP(A:A,#REF!,3,FALSE)","v":{"$error":"#REF!"}},{"$error":"#REF!"},{"$error":"#REF!"}]
["MUT1112",3,3,{"$f":"VLOOKUP(A:A,#REF!,2,FALSE)","v":{"$error":"#REF!"}},{"$f":"VLOOKUP(A:A,#REF!,3,FALSE)","v":{"$error":"#REF!"}},{"$error":"#REF!"},{"$error":"#REF!"}]
["MUT1241",2,2,{"$f":"VLOOKUP(A:A,#REF!,2,FALSE)","v":{"$error":"#REF!"}},{"$f":"VLOOKUP(A:A,#REF!,3,FALSE)","v":{"$error":"#REF!"}},{"$error":"#REF!"},{"$error":"#REF!"}]
["MUT1242",2,2,{"$f":"VLOOKUP(A:A,#REF!,2,FALSE)","v":{"$error":"#REF!"}},{"$f":"VLOOKUP(A:A,#REF!,3,FALSE)","v":{"$error":"#REF!"}},{"$error":"#REF!"},{"$error":"#REF!"}]
["MUT1641",2,2,{"$f":"VLOOKUP(A:A,#REF!,2,FALSE)","v":{"$error":"#REF!"}},{"$f":"VLOOKUP(A:A,#REF!,3,FALSE)","v":{"$error":"#REF!"}},{"$error":"#REF!"},{"$error":"#REF!"}]
["MUT1642",2,2,{"$f":"VLOOKUP(A:A,#REF!,2,FALSE)","v":{"$error":"#REF!"}},{"$f":"VLOOKUP(A:A,#REF!,3,FALSE)","v":{"$error":"#REF!"}},{"$error":"#REF!"},{"$error":"#REF!"}]
["MUT2116",3,3,{"$f":"VLOOKUP(A:A,#REF!,2,FALSE)","v":{"$error":"#REF!"}},{"$f":"VLOOKUP(A:A,#REF!,3,FALSE)","v":{"$error":"#REF!"}},{"$error":"#REF!"},{"$error":"#REF!"}]
["MUT2117",3,3,{"$f":"VLOOKUP(A:A,#REF!,2,FALSE)","v":{"$error":"#REF!"}},{"$f":"VLOOKUP(A:A,#REF!,3,FALSE)","v":{"$error":"#REF!"}},{"$f":"B2116-D2116","v":{"$error":"#REF!"}},{"$f":"C2116-E2116","v":{"$error":"#REF!"}}]
["MUT2246",2,2,{"$f":"VLOOKUP(A:A,#REF!,2,FALSE)","v":{"$error":"#REF!"}},{"$f":"VLOOKUP(A:A,#REF!,3,FALSE)","v":{"$error":"#REF!"}},{"$error":"#REF!"},{"$error":"#REF!"}]
["MUT2247",2,2,{"$f":"VLOOKUP(A:A,#REF!,2,FALSE)","v":{"$error":"#REF!"}},{"$f":"VLOOKUP(A:A,#REF!,3,FALSE)","v":{"$error":"#REF!"}},{"$error":"#REF!"},{"$error":"#REF!"}]
["MVB1011",1,1,{"$f":"VLOOKUP(A:A,#REF!,2,FALSE)","v":{"$error":"#REF!"}},{"$f":"VLOOKUP(A:A,#REF!,3,FALSE)","v":{"$error":"#REF!"}},{"$error":"#REF!"},{"$error":"#REF!"}]
["MVB1012",1,1,{"$f":"VLOOKUP(A:A,#REF!,2,FALSE)","v":{"$error":"#REF!"}},{"$f":"VLOOKUP(A:A,#REF!,3,FALSE)","v":{"$error":"#REF!"}},{"$error":"#REF!"},{"$error":"#REF!"}]
["MVB1013",1,1,{"$f":"VLOOKUP(A:A,#REF!,2,FALSE)","v":{"$error":"#REF!"}},{"$f":"VLOOKUP(A:A,#REF!,3,FALSE)","v":{"$error":"#REF!"}},{"$error":"#REF!"},{"$error":"#REF!"}]
["MVB1014",1,1,{"$f":"VLOOKUP(A:A,#REF!,2,FALSE)","v":{"$error":"#REF!"}},{"$f":"VLOOKUP(A:A,#REF!,3,FALSE)","v":{"$error":"#REF!"}},{"$error":"#REF!"},{"$error":"#REF!"}]
["MVB1015",1,1,{"$f":"VLOOKUP(A:A,#REF!,2,FALSE)","v":{"$error":"#REF!"}},{"$f":"VLOOKUP(A:A,#REF!,3,FALSE)","v":{"$error":"#REF!"}},{"$error":"#REF!"},{"$error":"#REF!"}]
["MVB1211",0.5,0.5,{"$f":"VLOOKUP(A:A,#REF!,2,FALSE)","v":{"$error":"#REF!"}},{"$f":"VLOOKUP(A:A,#REF!,3,FALSE)","v":{"$error":"#REF!"}},{"$error":"#REF!"},{"$error":"#REF!"}]
["MVB1212",0.5,0.5,{"$f":"VLOOKUP(A:A,#REF!,2,FALSE)","v":{"$error":"#REF!"}},{"$f":"VLOOKUP(A:A,#REF!,3,FALSE)","v":{"$error":"#REF!"}},{"$error":"#REF!"},{"$error":"#REF!"}]
["MVB1213",0.5,0.5,{"$f":"VLOOKUP(A:A,#REF!,2,FALSE)","v":{"$error":"#REF!"}},{"$f":"VLOOKUP(A:A,#REF!,3,FALSE)","v":{"$error":"#REF!"}},{"$error":"#REF!"},{"$error":"#REF!"}]
["MVB1214",0.5,0.5,{"$f":"VLOOKUP(A:A,#REF!,2,FALSE)","v":{"$error":"#REF!"}},{"$f":"VLOOKUP(A:A,#REF!,3,FALSE)","v":{"$error":"#REF!"}},{"$error":"#REF!"},{"$error":"#REF!"}]
["MVB1215",0.5,0.5,{"$f":"VLOOKUP(A:A,#REF!,2,FALSE)","v":{"$error":"#REF!"}},{"$f":"VLOOKUP(A:A,#REF!,3,FALSE)","v":{"$error":"#REF!"}},{"$error":"#REF!"},{"$error":"#REF!"}]
["MVB1311",1,1,{"$f":"VLOOKUP(A:A,#REF!,2,FALSE)","v":{"$error":"#REF!"}},{"$f":"VLOOKUP(A:A,#REF!,3,FALSE)","v":{"$error":"#REF!"}},{"$error":"#REF!"},{"$error":"#REF!"}]
["MVB1312",1,1,{"$f":"VLOOKUP(A:A,#REF!,2,FALSE)","v":{"$error":"#REF!"}},{"$f":"VLOOKUP(A:A,#REF!,3,FALSE)","v":{"$error":"#REF!"}},{"$error":"#REF!"},{"$error":"#REF!"}]
["MVB1313",1,1,{"$f":"VLOOKUP(A:A,#REF!,2,FALSE)","v":{"$error":"#REF!"}},{"$f":"VLOOKUP(A:A,#REF!,3,FALSE)","v":{"$error":"#REF!"}},{"$error":"#REF!"},{"$error":"#REF!"}]
["MVB1314",1,1,{"$f":"VLOOKUP(A:A,#REF!,2,FALSE)","v":{"$error":"#REF!"}},{"$f":"VLOOKUP(A:A,#REF!,3,FALSE)","v":{"$error":"#REF!"}},{"$error":"#REF!"},{"$error":"#REF!"}]
["MVB1315",1,1,{"$f":"VLOOKUP(A:A,#REF!,2,FALSE)","v":{"$error":"#REF!"}},{"$f":"VLOOKUP(A:A,#REF!,3,FALSE)","v":{"$error":"#REF!"}},{"$error":"#REF!"},{"$error":"#REF!"}]
["MVB2221",0.5,0.5,{"$f":"VLOOKUP(A:A,#REF!,2,FALSE)","v":{"$error":"#REF!"}},{"$f":"VLOOKUP(A:A,#REF!,3,FALSE)","v":{"$error":"#REF!"}},{"$error":"#REF!"},{"$error":"#REF!"}]
["MVB2222",0.5,0.5,{"$f":"VLOOKUP(A:A,#REF!,2,FALSE)","v":{"$error":"#REF!"}},{"$f":"VLOOKUP(A:A,#REF!,3,FALSE)","v":{"$error":"#REF!"}},{"$error":"#REF!"},{"$error":"#REF!"}]
["MVB2223",0.5,0.5,{"$f":"VLOOKUP(A:A,#REF!,2,FALSE)","v":{"$error":"#REF!"}},{"$f":"VLOOKUP(A:A,#REF!,3,FALSE)","v":{"$error":"#REF!"}},{"$error":"#REF!"},{"$error":"#REF!"}]
["MVB2224",0.5,0.5,{"$f":"VLOOKUP(A:A,#REF!,2,FALSE)","v":{"$error":"#REF!"}},{"$f":"VLOOKUP(A:A,#REF!,3,FALSE)","v":{"$error":"#REF!"}},{"$error":"#REF!"},{"$error":"#REF!"}]
["MVB2225",0.5,0.5,{"$f":"VLOOKUP(A:A,#REF!,2,FALSE)","v":{"$error":"#REF!"}},{"$f":"VLOOKUP(A:A,#REF!,3,FALSE)","v":{"$error":"#REF!"}},{"$error":"#REF!"},{"$error":"#REF!"}]
["MVB2321",1,1,{"$f":"VLOOKUP(A:A,#REF!,2,FALSE)","v":{"$error":"#REF!"}},{"$f":"VLOOKUP(A:A,#REF!,3,FALSE)","v":{"$error":"#REF!"}},{"$error":"#REF!"},{"$error":"#REF!"}]
["MVB2322",1,1,{"$f":"VLOOKUP(A:A,#REF!,2,FALSE)","v":{"$error":"#REF!"}},{"$f":"VLOOKUP(A:A,#REF!,3,FALSE)","v":{"$error":"#REF!"}},{"$error":"#REF!"},{"$error":"#REF!"}]
["MVB2323",1,1,{"$f":"VLOOKUP(A:A,#REF!,2,FALSE)","v":{"$error":"#REF!"}},{"$f":"VLOOKUP(A:A,#REF!,3,FALSE)","v":{"$error":"#REF!"}},{"$error":"#REF!"},{"$error":"#REF!"}]
["MVB2324",1,1,{"$f":"VLOOKUP(A:A,#REF!,2,FALSE)","v":{"$error":"#REF!"}},{"$f":"VLOOKUP(A:A,#REF!,3,FALSE)","v":{"$error":"#REF!"}},{"$error":"#REF!"},{"$error":"#REF!"}]
["MVB2325",1,1,{"$f":"VLOOKUP(A:A,#REF!,2,FALSE)","v":{"$error":"#REF!"}},{"$f":"VLOOKUP(A:A,#REF!,3,FALSE)","v":{"$error":"#REF!"}},{"$error":"#REF!"},{"$error":"#REF!"}]
["MVK1011",1,1,{"$f":"VLOOKUP(A:A,#REF!,2,FALSE)","v":{"$error":"#REF!"}},{"$f":"VLOOKUP(A:A,#REF!,3,FALSE)","v":{"$error":"#REF!"}},{"$error":"#REF!"},{"$error":"#REF!"}]
["MVK1013",1,1,{"$f":"VLOOKUP(A:A,#REF!,2,FALSE)","v":{"$error":"#REF!"}},{"$f":"VLOOKUP(A:A,#REF!,3,FALSE)","v":{"$error":"#REF!"}},{"$error":"#REF!"},{"$error":"#REF!"}]
["MVK1111",2,2,{"$f":"VLOOKUP(A:A,#REF!,2,FALSE)","v":{"$error":"#REF!"}},{"$f":"VLOOKUP(A:A,#REF!,3,FALSE)","v":{"$error":"#REF!"}},{"$error":"#REF!"},{"$error":"#REF!"}]
["MVK1211",0.5,0.5,{"$f":"VLOOKUP(A:A,#REF!,2,FALSE)","v":{"$error":"#REF!"}},{"$f":"VLOOKUP(A:A,#REF!,3,FALSE)","v":{"$error":"#REF!"}},{"$error":"#REF!"},{"$error":"#REF!"}]
["MVK1213",0.5,0.5,{"$f":"VLOOKUP(A:A,#REF!,2,FALSE)","v":{"$error":"#REF!"}},{"$f":"VLOOKUP(A:A,#REF!,3,FALSE)","v":{"$error":"#REF!"}},{"$error":"#REF!"},{"$error":"#REF!"}]
["MVK1311",1,1,{"$f":"VLOOKUP(A:A,#REF!,2,FALSE)","v":{"$error":"#REF!"}},{"$f":"VLOOKUP(A:A,#REF!,3,FALSE)","v":{"$error":"#REF!"}},{"$error":"#REF!"},{"$error":"#REF!"}]
["MVK1313",1,1,{"$f":"VLOOKUP(A:A,#REF!,2,FALSE)","v":{"$error":"#REF!"}},{"$f":"VLOOKUP(A:A,#REF!,3,FALSE)","v":{"$error":"#REF!"}},{"$error":"#REF!"},{"$error":"#REF!"}]
["MVK1811",2,2,{"$f":"VLOOKUP(A:A,#REF!,2,FALSE)","v":{"$error":"#REF!"}},{"$f":"VLOOKUP(A:A,#REF!,3,FALSE)","v":{"$error":"#REF!"}},{"$error":"#REF!"},{"$error":"#REF!"}]
["MVK1812",2,2,{"$f":"VLOOKUP(A:A,#REF!,2,FALSE)","v":{"$error":"#REF!"}},{"$f":"VLOOKUP(A:A,#REF!,3,FALSE)","v":{"$error":"#REF!"}},{"$error":"#REF!"},{"$error":"#REF!"}]
["MVK2121",2,2,{"$f":"VLOOKUP(A:A,#REF!,2,FALSE)","v":{"$error":"#REF!"}},{"$f":"VLOOKUP(A:A,#REF!,3,FALSE)","v":{"$error":"#REF!"}},{"$error":"#REF!"},{"$error":"#REF!"}]
["MVK2221",0.5,0.5,{"$f":"VLOOKUP(A:A,#REF!,2,FALSE)","v":{"$error":"#REF!"}},{"$f":"VLOOKUP(A:A,#REF!,3,FALSE)","v":{"$error":"#REF!"}},{"$error":"#REF!"},{"$error":"#REF!"}]
["MVK2223",0.5,0.5,{"$f":"VLOOKUP(A:A,#REF!,2,FALSE)","v":{"$error":"#REF!"}},{"$f":"VLOOKUP(A:A,#REF!,3,FALSE)","v":{"$error":"#REF!"}},{"$error":"#REF!"},{"$error":"#REF!"}]
["MVK2321",1,1,{"$f":"VLOOKUP(A:A,#REF!,2,FALSE)","v":{"$error":"#REF!"}},{"$f":"VLOOKUP(A:A,#REF!,3,FALSE)","v":{"$error":"#REF!"}},{"$error":"#REF!"},{"$error":"#REF!"}]
["MVK2323",1,1,{"$f":"VLOOKUP(A:A,#REF!,2,FALSE)","v":{"$error":"#REF!"}},{"$f":"VLOOKUP(A:A,#REF!,3,FALSE)","v":{"$error":"#REF!"}},{"$error":"#REF!"},{"$error":"#REF!"}]
["MVO1010",1,1,{"$f":"VLOOKUP(A:A,#REF!,2,FALSE)","v":{"$error":"#REF!"}},{"$f":"VLOOKUP(A:A,#REF!,3,FALSE)","v":{"$error":"#REF!"}},{"$error":"#REF!"},{"$error":"#REF!"}]
["MVO1210",0.5,0.5,{"$f":"VLOOKUP(A:A,#REF!,2,FALSE)","v":{"$error":"#REF!"}},{"$f":"VLOOKUP(A:A,#REF!,3,FALSE)","v":{"$error":"#REF!"}},{"$error":"#REF!"},{"$error":"#REF!"}]
["MVO1310",1,1,{"$f":"VLOOKUP(A:A,#REF!,2,FALSE)","v":{"$error":"#REF!"}},{"$f":"VLOOKUP(A:A,#REF!,3,FALSE)","v":{"$error":"#REF!"}},{"$error":"#REF!"},{"$error":"#REF!"}]
["MVO2220",0.5,0.5,{"$f":"VLOOKUP(A:A,#REF!,2,FALSE)","v":{"$error":"#REF!"}},{"$f":"VLOOKUP(A:A,#REF!,3,FALSE)","v":{"$error":"#REF!"}},{"$error":"#REF!"},{"$error":"#REF!"}]
["MVO2320",1,1,{"$f":"VLOOKUP(A:A,#REF!,2,FALSE)","v":{"$error":"#REF!"}},{"$f":"VLOOKUP(A:A,#REF!,3,FALSE)","v":{"$error":"#REF!"}},{"$error":"#REF!"},{"$error":"#REF!"}]
["MVP1011",1,1,{"$f":"VLOOKUP(A:A,#REF!,2,FALSE)","v":{"$error":"#REF!"}},{"$f":"VLOOKUP(A:A,#REF!,3,FALSE)","v":{"$error":"#REF!"}},{"$error":"#REF!"},{"$error":"#REF!"}]
["MVP1211",0.5,0.5,{"$f":"VLOOKUP(A:A,#REF!,2,FALSE)","v":{"$error":"#REF!"}},{"$f":"VLOOKUP(A:A,#REF!,3,FALSE)","v":{"$error":"#REF!"}},{"$error":"#REF!"},{"$error":"#REF!"}]
["MVP1311",1,1,{"$f":"VLOOKUP(A:A,#REF!,2,FALSE)","v":{"$error":"#REF!"}},{"$f":"VLOOKUP(A:A,#REF!,3,FALSE)","v":{"$error":"#REF!"}},{"$error":"#REF!"},{"$error":"#REF!"}]
["MVP2221",0.5,0.5,{"$f":"VLOOKUP(A:A,#REF!,2,FALSE)","v":{"$error":"#REF!"}},{"$f":"VLOOKUP(A:A,#REF!,3,FALSE)","v":{"$error":"#REF!"}},{"$error":"#REF!"},{"$error":"#REF!"}]
["MVP2321",1,1,{"$f":"VLOOKUP(A:A,#REF!,2,FALSE)","v":{"$error":"#REF!"}},{"$f":"VLOOKUP(A:A,#REF!,3,FALSE)","v":{"$error":"#REF!"}},{"$error":"#REF!"},{"$error":"#REF!"}]
["MVS1011",1,1,{"$f":"VLOOKUP(A:A,#REF!,2,FALSE)","v":{"$error":"#REF!"}},{"$f":"VLOOKUP(A:A,#REF!,3,FALSE)","v":{"$error":"#REF!"}},{"$error":"#REF!"},{"$error":"#REF!"}]
["MVS1012",1,1,{"$f":"VLOOKUP(A:A,#REF!,2,FALSE)","v":{"$error":"#REF!"}},{"$f":"VLOOKUP(A:A,#REF!,3,FALSE)","v":{"$error":"#REF!"}},{"$error":"#REF!"},{"$error":"#REF!"}]
["MVS1013",1,1,{"$f":"VLOOKUP(A:A,#REF!,2,FALSE)","v":{"$error":"#REF!"}},{"$f":"VLOOKUP(A:A,#REF!,3,FALSE)","v":{"$error":"#REF!"}},{"$error":"#REF!"},{"$error":"#REF!"},"Inactive"]
["MVS1014",1,1,{"$f":"VLOOKUP(A:A,#REF!,2,FALSE)","v":{"$error":"#REF!"}},{"$f":"VLOOKUP(A:A,#REF!,3,FALSE)","v":{"$error":"#REF!"}},{"$error":"#REF!"},{"$error":"#REF!"}]
["MVS1016",1,1,{"$f":"VLOOKUP(A:A,#REF!,2,FALSE)","v":{"$error":"#REF!"}},{"$f":"VLOOKUP(A:A,#REF!,3,FALSE)","v":{"$error":"#REF!"}},{"$error":"#REF!"},{"$error":"#REF!"}]
["MVS1116",2,2,{"$f":"VLOOKUP(A:A,#REF!,2,FALSE)","v":{"$error":"#REF!"}},{"$f":"VLOOKUP(A:A,#REF!,3,FALSE)","v":{"$error":"#REF!"}},{"$error":"#REF!"},{"$error":"#REF!"}]
["MVS1211",0.5,0.5,{"$f":"VLOOKUP(A:A,#REF!,2,FALSE)","v":{"$error":"#REF!"}},{"$f":"VLOOKUP(A:A,#REF!,3,FALSE)","v":{"$error":"#REF!"}},{"$error":"#REF!"},{"$error":"#REF!"}]
["MVS1212",0.5,0.5,{"$f":"VLOOKUP(A:A,#REF!,2,FALSE)","v":{"$error":"#REF!"}},{"$f":"VLOOKUP(A:A,#REF!,3,FALSE)","v":{"$error":"#REF!"}},{"$error":"#REF!"},{"$error":"#REF!"}]
["MVS1213",0.5,0.5,{"$f":"VLOOKUP(A:A,#REF!,2,FALSE)","v":{"$error":"#REF!"}},{"$f":"VLOOKUP(A:A,#REF!,3,FALSE)","v":{"$error":"#REF!"}},{"$error":"#REF!"},{"$error":"#REF!"},"Inactive"]
["MVS1214",0.5,0.5,{"$f":"VLOOKUP(A:A,#REF!,2,FALSE)","v":{"$error":"#REF!"}},{"$f":"VLOOKUP(A:A,#REF!,3,FALSE)","v":{"$error":"#REF!"}},{"$error":"#REF!"},{"$error":"#REF!"},"Inactive"]
["MVS1216",0.5,0.5,{"$f":"VLOOKUP(A:A,#REF!,2,FALSE)","v":{"$error":"#REF!"}},{"$f":"VLOOKUP(A:A,#REF!,3,FALSE)","v":{"$error":"#REF!"}},{"$error":"#REF!"},{"$error":"#REF!"}]
["MVS1311",1,1,{"$f":"VLOOKUP(A:A,#REF!,2,FALSE)","v":{"$error":"#REF!"}},{"$f":"VLOOKUP(A:A,#REF!,3,FALSE)","v":{"$error":"#REF!"}},{"$error":"#REF!"},{"$error":"#REF!"}]
["MVS1312",1,1,{"$f":"VLOOKUP(A:A,#REF!,2,FALSE)","v":{"$error":"#REF!"}},{"$f":"VLOOKUP(A:A,#REF!,3,FALSE)","v":{"$error":"#REF!"}},{"$f":"B2180-D2180","v":{"$error":"#REF!"}},{"$f":"C2180-E2180","v":{"$error":"#REF!"}}]
["MVS1313",1,1,{"$f":"VLOOKUP(A:A,#REF!,2,FALSE)","v":{"$error":"#REF!"}},{"$f":"VLOOKUP(A:A,#REF!,3,FALSE)","v":{"$error":"#REF!"}},{"$error":"#REF!"},{"$error":"#REF!"},"Nursing Bridge"]
["MVS1314",1,1,{"$f":"VLOOKUP(A:A,#REF!,2,FALSE)","v":{"$error":"#REF!"}},{"$f":"VLOOKUP(A:A,#REF!,3,FALSE)","v":{"$error":"#REF!"}},{"$error":"#REF!"},{"$error":"#REF!"}]
["MVS1316",1,1,{"$f":"VLOOKUP(A:A,#REF!,2,FALSE)","v":{"$error":"#REF!"}},{"$f":"VLOOKUP(A:A,#REF!,3,FALSE)","v":{"$error":"#REF!"}},{"$error":"#REF!"},{"$error":"#REF!"}]
["MVS2126",2,2,{"$f":"VLOOKUP(A:A,#REF!,2,FALSE)","v":{"$error":"#REF!"}},{"$f":"VLOOKUP(A:A,#REF!,3,FALSE)","v":{"$error":"#REF!"}},{"$error":"#REF!"},{"$error":"#REF!"}]
["MVS2221",0.5,0.5,{"$f":"VLOOKUP(A:A,#REF!,2,FALSE)","v":{"$error":"#REF!"}},{"$f":"VLOOKUP(A:A,#REF!,3,FALSE)","v":{"$error":"#REF!"}},{"$error":"#REF!"},{"$error":"#REF!"}]
["MVS2222",0.5,0.5,{"$f":"VLOOKUP(A:A,#REF!,2,FALSE)","v":{"$error":"#REF!"}},{"$f":"VLOOKUP(A:A,#REF!,3,FALSE)","v":{"$error":"#REF!"}},{"$error":"#REF!"},{"$error":"#REF!"}]
["MVS2223",0.5,0.5,{"$f":"VLOOKUP(A:A,#REF!,2,FALSE)","v":{"$error":"#REF!"}},{"$f":"VLOOKUP(A:A,#REF!,3,FALSE)","v":{"$error":"#REF!"}},{"$error":"#REF!"},{"$error":"#REF!"}]
["MVS2224",0.5,0.5,{"$f":"VLOOKUP(A:A,#REF!,2,FALSE)","v":{"$error":"#REF!"}},{"$f":"VLOOKUP(A:A,#REF!,3,FALSE)","v":{"$error":"#REF!"}},{"$error":"#REF!"},{"$error":"#REF!"}]
["MVS2226",0.5,0.5,{"$f":"VLOOKUP(A:A,#REF!,2,FALSE)","v":{"$error":"#REF!"}},{"$f":"VLOOKUP(A:A,#REF!,3,FALSE)","v":{"$error":"#REF!"}},{"$error":"#REF!"},{"$error":"#REF!"}]
["MVS2321",1,1,{"$f":"VLOOKUP(A:A,#REF!,2,FALSE)","v":{"$error":"#REF!"}},{"$f":"VLOOKUP(A:A,#REF!,3,FALSE)","v":{"$error":"#REF!"}},{"$error":"#REF!"},{"$error":"#REF!"}]
["MVS2322",1,1,{"$f":"VLOOKUP(A:A,#REF!,2,FALSE)","v":{"$error":"#REF!"}},{"$f":"VLOOKUP(A:A,#REF!,3,FALSE)","v":{"$error":"#REF!"}},{"$error":"#REF!"},{"$error":"#REF!"}]
["MVS2323",1,1,{"$f":"VLOOKUP(A:A,#REF!,2,FALSE)","v":{"$error":"#REF!"}},{"$f":"VLOOKUP(A:A,#REF!,3,FALSE)","v":{"$error":"#REF!"}},{"$error":"#REF!"},{"$error":"#REF!"}]
["MVS2324",1,1,{"$f":"VLOOKUP(A:A,#REF!,2,FALSE)","v":{"$error":"#REF!"}},{"$f":"VLOOKUP(A:A,#REF!,3,FALSE)","v":{"$error":"#REF!"}},{"$error":"#REF!"},{"$error":"#REF!"}]
["MVS2326",1,1,{"$f":"VLOOKUP(A:A,#REF!,2,FALSE)","v":{"$error":"#REF!"}},{"$f":"VLOOKUP(A:A,#REF!,3,FALSE)","v":{"$error":"#REF!"}},{"$error":"#REF!"},{"$error":"#REF!"}]
["MVV1111",2,2,{"$f":"VLOOKUP(A:A,#REF!,2,FALSE)","v":{"$error":"#REF!"}},{"$f":"VLOOKUP(A:A,#REF!,3,FALSE)","v":{"$error":"#REF!"}},{"$error":"#REF!"},{"$error":"#REF!"}]
["MVV1211",0.5,0.5,{"$f":"VLOOKUP(A:A,#REF!,2,FALSE)","v":{"$error":"#REF!"}},{"$f":"VLOOKUP(A:A,#REF!,3,FALSE)","v":{"$error":"#REF!"}},{"$error":"#REF!"},{"$error":"#REF!"}]
["MVV1311",1,1,{"$f":"VLOOKUP(A:A,#REF!,2,FALSE)","v":{"$error":"#REF!"}},{"$f":"VLOOKUP(A:A,#REF!,3,FALSE)","v":{"$error":"#REF!"}},{"$error":"#REF!"},{"$error":"#REF!"}]
["MVV1411",1,1,{"$f":"VLOOKUP(A:A,#REF!,2,FALSE)","v":{"$error":"#REF!"}},{"$f":"VLOOKUP(A:A,#REF!,3,FALSE)","v":{"$error":"#REF!"}},{"$error":"#REF!"},{"$error":"#REF!"}]
["MVV2221",0.5,0.5,{"$f":"VLOOKUP(A:A,#REF!,2,FALSE)","v":{"$error":"#REF!"}},{"$f":"VLOOKUP(A:A,#REF!,3,FALSE)","v":{"$error":"#REF!"}},{"$error":"#REF!"},{"$error":"#REF!"}]
["MVV2321",1,1,{"$f":"VLOOKUP(A:A,#REF!,2,FALSE)","v":{"$error":"#REF!"}},{"$f":"VLOOKUP(A:A,#REF!,3,FALSE)","v":{"$error":"#REF!"}},{"$error":"#REF!"},{"$error":"#REF!"}]
["MVW1011",1,1,{"$f":"VLOOKUP(A:A,#REF!,2,FALSE)","v":{"$error":"#REF!"}},{"$f":"VLOOKUP(A:A,#REF!,3,FALSE)","v":{"$error":"#REF!"}},{"$error":"#REF!"},{"$error":"#REF!"}]
["MVW1012",1,1,{"$f":"VLOOKUP(A:A,#REF!,2,FALSE)","v":{"$error":"#REF!"}},{"$f":"VLOOKUP(A:A,#REF!,3,FALSE)","v":{"$error":"#REF!"}},{"$error":"#REF!"},{"$error":"#REF!"}]
["MVW1013",1,1,{"$f":"VLOOKUP(A:A,#REF!,2,FALSE)","v":{"$error":"#REF!"}},{"$f":"VLOOKUP(A:A,#REF!,3,FALSE)","v":{"$error":"#REF!"}},{"$error":"#REF!"},{"$error":"#REF!"}]
["MVW1014",1,1,{"$f":"VLOOKUP(A:A,#REF!,2,FALSE)","v":{"$error":"#REF!"}},{"$f":"VLOOKUP(A:A,#REF!,3,FALSE)","v":{"$error":"#REF!"}},{"$error":"#REF!"},{"$error":"#REF!"}]
["MVW1015",1,1,{"$f":"VLOOKUP(A:A,#REF!,2,FALSE)","v":{"$error":"#REF!"}},{"$f":"VLOOKUP(A:A,#REF!,3,FALSE)","v":{"$error":"#REF!"}},{"$error":"#REF!"},{"$error":"#REF!"}]
["MVW1211",0.5,0.5,{"$f":"VLOOKUP(A:A,#REF!,2,FALSE)","v":{"$error":"#REF!"}},{"$f":"VLOOKUP(A:A,#REF!,3,FALSE)","v":{"$error":"#REF!"}},{"$error":"#REF!"},{"$error":"#REF!"}]
["MVW1212",0.5,0.5,{"$f":"VLOOKUP(A:A,#REF!,2,FALSE)","v":{"$error":"#REF!"}},{"$f":"VLOOKUP(A:A,#REF!,3,FALSE)","v":{"$error":"#REF!"}},{"$error":"#REF!"},{"$error":"#REF!"}]
["MVW1213",0.5,0.5,{"$f":"VLOOKUP(A:A,#REF!,2,FALSE)","v":{"$error":"#REF!"}},{"$f":"VLOOKUP(A:A,#REF!,3,FALSE)","v":{"$error":"#REF!"}},{"$error":"#REF!"},{"$error":"#REF!"}]
["MVW1214",0.5,0.5,{"$f":"VLOOKUP(A:A,#REF!,2,FALSE)","v":{"$error":"#REF!"}},{"$f":"VLOOKUP(A:A,#REF!,3,FALSE)","v":{"$error":"#REF!"}},{"$error":"#REF!"},{"$error":"#REF!"}]
["MVW1215",0.5,0.5,{"$f":"VLOOKUP(A:A,#REF!,2,FALSE)","v":{"$error":"#REF!"}},{"$f":"VLOOKUP(A:A,#REF!,3,FALSE)","v":{"$error":"#REF!"}},{"$error":"#REF!"},{"$error":"#REF!"}]
["MVW1311",1,1,{"$f":"VLOOKUP(A:A,#REF!,2,FALSE)","v":{"$error":"#REF!"}},{"$f":"VLOOKUP(A:A,#REF!,3,FALSE)","v":{"$error":"#REF!"}},{"$error":"#REF!"},{"$error":"#REF!"},"Orientation-No FWL"]
["MVW1312",1,1,{"$f":"VLOOKUP(A:A,#REF!,2,FALSE)","v":{"$error":"#REF!"}},{"$f":"VLOOKUP(A:A,#REF!,3,FALSE)","v":{"$error":"#REF!"}},{"$error":"#REF!"},{"$error":"#REF!"},"Orientation-No FWL"]
["MVW1313",1,1,{"$f":"VLOOKUP(A:A,#REF!,2,FALSE)","v":{"$error":"#REF!"}},{"$f":"VLOOKUP(A:A,#REF!,3,FALSE)","v":{"$error":"#REF!"}},{"$error":"#REF!"},{"$error":"#REF!"},"Orientation-No FWL"]
["MVW1314",1,1,{"$f":"VLOOKUP(A:A,#REF!,2,FALSE)","v":{"$error":"#REF!"}},{"$f":"VLOOKUP(A:A,#REF!,3,FALSE)","v":{"$error":"#REF!"}},{"$error":"#REF!"},{"$error":"#REF!"},"Orientation-No FWL"]
["MVW1315",1,1,{"$f":"VLOOKUP(A:A,#REF!,2,FALSE)","v":{"$error":"#REF!"}},{"$f":"VLOOKUP(A:A,#REF!,3,FALSE)","v":{"$error":"#REF!"}},{"$error":"#REF!"},{"$error":"#REF!"},"Orientation-No FWL"]
["MVW2221",0.5,0.5,{"$f":"VLOOKUP(A:A,#REF!,2,FALSE)","v":{"$error":"#REF!"}},{"$f":"VLOOKUP(A:A,#REF!,3,FALSE)","v":{"$error":"#REF!"}},{"$error":"#REF!"},{"$error":"#REF!"},"Orientation-No FWL"]
["MVW2222",0.5,0.5,{"$f":"VLOOKUP(A:A,#REF!,2,FALSE)","v":{"$error":"#REF!"}},{"$f":"VLOOKUP(A:A,#REF!,3,FALSE)","v":{"$error":"#REF!"}},{"$error":"#REF!"},{"$error":"#REF!"},"Orientation-No FWL"]
["MVW2223",0.5,0.5,{"$f":"VLOOKUP(A:A,#REF!,2,FALSE)","v":{"$error":"#REF!"}},{"$f":"VLOOKUP(A:A,#REF!,3,FALSE)","v":{"$error":"#REF!"}},{"$error":"#REF!"},{"$error":"#REF!"},"Orientation-No FWL"]
["MVW2224",0.5,0.5,{"$f":"VLOOKUP(A:A,#REF!,2,FALSE)","v":{"$error":"#REF!"}},{"$f":"VLOOKUP(A:A,#REF!,3,FALSE)","v":{"$error":"#REF!"}},{"$error":"#REF!"},{"$error":"#REF!"}]
["MVW2225",0.5,0.5,{"$f":"VLOOKUP(A:A,#REF!,2,FALSE)","v":{"$error":"#REF!"}},{"$f":"VLOOKUP(A:A,#REF!,3,FALSE)","v":{"$error":"#REF!"}},{"$error":"#REF!"},{"$error":"#REF!"}]
["MVW2321",1,1,{"$f":"VLOOKUP(A:A,#REF!,2,FALSE)","v":{"$error":"#REF!"}},{"$f":"VLOOKUP(A:A,#REF!,3,FALSE)","v":{"$error":"#REF!"}},{"$error":"#REF!"},{"$error":"#REF!"}]
["MVW2322",1,1,{"$f":"VLOOKUP(A:A,#REF!,2,FALSE)","v":{"$error":"#REF!"}},{"$f":"VLOOKUP(A:A,#REF!,3,FALSE)","v":{"$error":"#REF!"}},{"$error":"#REF!"},{"$error":"#REF!"}]
["MVW2323",1,1,{"$f":"VLOOKUP(A:A,#REF!,2,FALSE)","v":{"$error":"#REF!"}},{"$f":"VLOOKUP(A:A,#REF!,3,FALSE)","v":{"$error":"#REF!"}},{"$error":"#REF!"},{"$error":"#REF!"}]
["MVW2324",1,1,{"$f":"VLOOKUP(A:A,#REF!,2,FALSE)","v":{"$error":"#REF!"}},{"$f":"VLOOKUP(A:A,#REF!,3,FALSE)","v":{"$error":"#REF!"}},{"$error":"#REF!"},{"$error":"#REF!"}]
["MVW2325",1,1,{"$f":"VLOOKUP(A:A,#REF!,2,FALSE)","v":{"$error":"#REF!"}},{"$f":"VLOOKUP(A:A,#REF!,3,FALSE)","v":{"$error":"#REF!"}},{"$error":"#REF!"},{"$error":"#REF!"}]
["NSP3185",3,3,{"$f":"VLOOKUP(A:A,#REF!,2,FALSE)","v":{"$error":"#REF!"}},{"$f":"VLOOKUP(A:A,#REF!,3,FALSE)","v":{"$error":"#REF!"}},{"$error":"#REF!"},{"$error":"#REF!"}]
["NUR1008C",7.75,7.52,{"$f":"VLOOKUP(A:A,#REF!,2,FALSE)","v":{"$error":"#REF!"}},{"$f":"VLOOKUP(A:A,#REF!,3,FALSE)","v":{"$error":"#REF!"}},{"$error":"#REF!"},{"$error":"#REF!"}]
["NUR1020C",7.75,7.52,{"$f":"VLOOKUP(A:A,#REF!,2,FALSE)","v":{"$error":"#REF!"}},{"$f":"VLOOKUP(A:A,#REF!,3,FALSE)","v":{"$error":"#REF!"}},{"$error":"#REF!"},{"$error":"#REF!"}]
["NUR1023C",7.75,7.52,{"$f":"VLOOKUP(A:A,#REF!,2,FALSE)","v":{"$error":"#REF!"}},{"$f":"VLOOKUP(A:A,#REF!,3,FALSE)","v":{"$error":"#REF!"}},{"$error":"#REF!"},{"$error":"#REF!"}]
["NUR1025C",7.75,7.52,{"$f":"VLOOKUP(A:A,#REF!,2,FALSE)","v":{"$error":"#REF!"}},{"$f":"VLOOKUP(A:A,#REF!,3,FALSE)","v":{"$error":"#REF!"}},{"$error":"#REF!"},{"$error":"#REF!"}]
["NUR1212C",7.75,7.52,{"$f":"VLOOKUP(A:A,#REF!,2,FALSE)","v":{"$error":"#REF!"}},{"$f":"VLOOKUP(A:A,#REF!,3,FALSE)","v":{"$error":"#REF!"}},{"$error":"#REF!"},{"$error":"#REF!"}]
["NUR1411C",7.75,7.52,{"$f":"VLOOKUP(A:A,#REF!,2,FALSE)","v":{"$error":"#REF!"}},{"$f":"VLOOKUP(A:A,#REF!,3,FALSE)","v":{"$error":"#REF!"}},{"$error":"#REF!"},{"$error":"#REF!"}]
["NUR1460C",7.75,7.52,{"$f":"VLOOKUP(A:A,#REF!,2,FALSE)","v":{"$error":"#REF!"}},{"$f":"VLOOKUP(A:A,#REF!,3,FALSE)","v":{"$error":"#REF!"}},{"$error":"#REF!"},{"$error":"#REF!"}]
["NUR1997",0,0,{"$f":"VLOOKUP(A:A,#REF!,2,FALSE)","v":{"$error":"#REF!"}},{"$f":"VLOOKUP(A:A,#REF!,3,FALSE)","v":{"$error":"#REF!"}},{"$error":"#REF!"},{"$error":"#REF!"}]
["NUR2214C",7.75,7.52,{"$f":"VLOOKUP(A:A,#REF!,2,FALSE)","v":{"$error":"#REF!"}},{"$f":"VLOOKUP(A:A,#REF!,3,FALSE)","v":{"$error":"#REF!"}},{"$error":"#REF!"},{"$error":"#REF!"}]
["NUR2242C",7.75,7.52,{"$f":"VLOOKUP(A:A,#REF!,2,FALSE)","v":{"$error":"#REF!"}},{"$f":"VLOOKUP(A:A,#REF!,3,FALSE)","v":{"$error":"#REF!"}},{"$error":"#REF!"},{"$error":"#REF!"}]
["NUR2243C",7.75,7.52,{"$f":"VLOOKUP(A:A,#REF!,2,FALSE)","v":{"$error":"#REF!"}},{"$f":"VLOOKUP(A:A,#REF!,3,FALSE)","v":{"$error":"#REF!"}},{"$error":"#REF!"},{"$error":"#REF!"}]
["NUR2960",2,2,{"$f":"VLOOKUP(A:A,#REF!,2,FALSE)","v":{"$error":"#REF!"}},{"$f":"VLOOKUP(A:A,#REF!,3,FALSE)","v":{"$error":"#REF!"}},{"$error":"#REF!"},{"$error":"#REF!"}]
["NUR3094C",3,3,{"$f":"VLOOKUP(A:A,#REF!,2,FALSE)","v":{"$error":"#REF!"}},{"$f":"VLOOKUP(A:A,#REF!,3,FALSE)","v":{"$error":"#REF!"}},{"$error":"#REF!"},{"$error":"#REF!"}]
["NUR3125",4,4,{"$f":"VLOOKUP(A:A,#REF!,2,FALSE)","v":{"$error":"#REF!"}},{"$f":"VLOOKUP(A:A,#REF!,3,FALSE)","v":{"$error":"#REF!"}},{"$error":"#REF!"},{"$error":"#REF!"}]
["NUR3164",3,3,{"$f":"VLOOKUP(A:A,#REF!,2,FALSE)","v":{"$error":"#REF!"}},{"$f":"VLOOKUP(A:A,#REF!,3,FALSE)","v":{"$error":"#REF!"}},{"$error":"#REF!"},{"$error":"#REF!"}]
["NUR3636C",4,4,{"$f":"VLOOKUP(A:A,#REF!,2,FALSE)","v":{"$error":"#REF!"}},{"$f":"VLOOKUP(A:A,#REF!,3,FALSE)","v":{"$error":"#REF!"}},{"$error":"#REF!"},{"$error":"#REF!"}]
["NUR3805",3,3,{"$f":"VLOOKUP(A:A,#REF!,2,FALSE)","v":{"$error":"#REF!"}},{"$f":"VLOOKUP(A:A,#REF!,3,FALSE)","v":{"$error":"#REF!"}},{"$error":"#REF!"},{"$error":"#REF!"}]
["NUR3846",3,3,{"$f":"VLOOKUP(A:A,#REF!,2,FALSE)","v":{"$error":"#REF!"}},{"$f":"VLOOKUP(A:A,#REF!,3,FALSE)","v":{"$error":"#REF!"}},{"$f":"B2244-D2244","v":{"$error":"#REF!"}},{"$f":"C2244-E2244","v":{"$error":"#REF!"}}]
["NUR4169C",4,4,{"$f":"VLOOKUP(A:A,#REF!,2,FALSE)","v":{"$error":"#REF!"}},{"$f":"VLOOKUP(A:A,#REF!,3,FALSE)","v":{"$error":"#REF!"}},{"$error":"#REF!"},{"$error":"#REF!"}]
["NUR4827",3,3,{"$f":"VLOOKUP(A:A,#REF!,2,FALSE)","v":{"$error":"#REF!"}},{"$f":"VLOOKUP(A:A,#REF!,3,FALSE)","v":{"$error":"#REF!"}},{"$error":"#REF!"},{"$error":"#REF!"}]
["OCB2000C",6,6,{"$f":"VLOOKUP(A:A,#REF!,2,FALSE)","v":{"$error":"#REF!"}},{"$f":"VLOOKUP(A:A,#REF!,3,FALSE)","v":{"$error":"#REF!"}},{"$error":"#REF!"},{"$error":"#REF!"}]
["OCE2001",3,3,{"$f":"VLOOKUP(A:A,#REF!,2,FALSE)","v":{"$error":"#REF!"}},{"$f":"VLOOKUP(A:A,#REF!,3,FALSE)","v":{"$error":"#REF!"}},{"$error":"#REF!"},{"$error":"#REF!"}]
["OCE2001L",3,2.1,{"$f":"VLOOKUP(A:A,#REF!,2,FALSE)","v":{"$error":"#REF!"}},{"$f":"VLOOKUP(A:A,#REF!,3,FALSE)","v":{"$error":"#REF!"}},{"$error":"#REF!"},{"$error":"#REF!"},"AcGRP 23"]
["OPT1110",4,4,{"$f":"VLOOKUP(A:A,#REF!,2,FALSE)","v":{"$error":"#REF!"}},{"$f":"VLOOKUP(A:A,#REF!,3,FALSE)","v":{"$error":"#REF!"}},{"$error":"#REF!"},{"$error":"#REF!"},"AcGRP 23"]
["OPT1210",3,3,{"$f":"VLOOKUP(A:A,#REF!,2,FALSE)","v":{"$error":"#REF!"}},{"$f":"VLOOKUP(A:A,#REF!,3,FALSE)","v":{"$error":"#REF!"}},{"$error":"#REF!"},{"$error":"#REF!"}]
["OPT1330",4,4,{"$f":"VLOOKUP(A:A,#REF!,2,FALSE)","v":{"$error":"#REF!"}},{"$f":"VLOOKUP(A:A,#REF!,3,FALSE)","v":{"$error":"#REF!"}},{"$error":"#REF!"},{"$error":"#REF!"}]
["OPT2222",3,3,{"$f":"VLOOKUP(A:A,#REF!,2,FALSE)","v":{"$error":"#REF!"}},{"$f":"VLOOKUP(A:A,#REF!,3,FALSE)","v":{"$error":"#REF!"}},{"$error":"#REF!"},{"$error":"#REF!"}]
["OPT2223",3,3,{"$f":"VLOOKUP(A:A,#REF!,2,FALSE)","v":{"$error":"#REF!"}},{"$f":"VLOOKUP(A:A,#REF!,3,FALSE)","v":{"$error":"#REF!"}},{"$error":"#REF!"},{"$error":"#REF!"}]
["OPT2350",3,3,{"$f":"VLOOKUP(A:A,#REF!,2,FALSE)","v":{"$error":"#REF!"}},{"$f":"VLOOKUP(A:A,#REF!,3,FALSE)","v":{"$error":"#REF!"}},{"$error":"#REF!"},{"$error":"#REF!"}]
["OPT2351",3,3,{"$f":"VLOOKUP(A:A,#REF!,2,FALSE)","v":{"$error":"#REF!"}},{"$f":"VLOOKUP(A:A,#REF!,3,FALSE)","v":{"$error":"#REF!"}},{"$error":"#REF!"},{"$error":"#REF!"}]
["OPT2375C",6,4.8,{"$f":"VLOOKUP(A:A,#REF!,2,FALSE)","v":{"$error":"#REF!"}},{"$f":"VLOOKUP(A:A,#REF!,3,FALSE)","v":{"$error":"#REF!"}},{"$error":"#REF!"},{"$error":"#REF!"}]
["OPT2800L",8,6.4,{"$f":"VLOOKUP(A:A,#REF!,2,FALSE)","v":{"$error":"#REF!"}},{"$f":"VLOOKUP(A:A,#REF!,3,FALSE)","v":{"$error":"#REF!"}},{"$error":"#REF!"},{"$error":"#REF!"}]
["OPT2801L",8,6.4,{"$f":"VLOOKUP(A:A,#REF!,2,FALSE)","v":{"$error":"#REF!"}},{"$f":"VLOOKUP(A:A,#REF!,3,FALSE)","v":{"$error":"#REF!"}},{"$error":"#REF!"},{"$error":"#REF!"}]
["OPT2802L",8,6.4,{"$f":"VLOOKUP(A:A,#REF!,2,FALSE)","v":{"$error":"#REF!"}},{"$f":"VLOOKUP(A:A,#REF!,3,FALSE)","v":{"$error":"#REF!"}},{"$error":"#REF!"},{"$error":"#REF!"}]
["OPT2940",0.01,0.01,{"$f":"VLOOKUP(A:A,#REF!,2,FALSE)","v":{"$error":"#REF!"}},{"$f":"VLOOKUP(A:A,#REF!,3,FALSE)","v":{"$error":"#REF!"}},{"$error":"#REF!"},{"$error":"#REF!"}]
["OPT2941",0.01,0.01,{"$f":"VLOOKUP(A:A,#REF!,2,FALSE)","v":{"$error":"#REF!"}},{"$f":"VLOOKUP(A:A,#REF!,3,FALSE)","v":{"$error":"#REF!"}},{"$error":"#REF!"},{"$error":"#REF!"}]
["OPT2943",0.01,0.01,{"$f":"VLOOKUP(A:A,#REF!,2,FALSE)","v":{"$error":"#REF!"}},{"$f":"VLOOKUP(A:A,#REF!,3,FALSE)","v":{"$error":"#REF!"}},{"$error":"#REF!"},{"$error":"#REF!"}]
["ORI0100",0,0,{"$f":"VLOOKUP(A:A,#REF!,2,FALSE)","v":{"$error":"#REF!"}},{"$f":"VLOOKUP(A:A,#REF!,3,FALSE)","v":{"$error":"#REF!"}},{"$error":"#REF!"},{"$error":"#REF!"}]
["ORI0101",0,0,{"$f":"VLOOKUP(A:A,#REF!,2,FALSE)","v":{"$error":"#REF!"}},{"$f":"VLOOKUP(A:A,#REF!,3,FALSE)","v":{"$error":"#REF!"}},{"$error":"#REF!"},{"$error":"#REF!"}]
["ORI0301C",0,0,{"$f":"VLOOKUP(A:A,#REF!,2,FALSE)","v":{"$error":"#REF!"}},{"$f":"VLOOKUP(A:A,#REF!,3,FALSE)","v":{"$error":"#REF!"}},{"$error":"#REF!"},{"$error":"#REF!"}]
["ORI0301D",0,0,{"$f":"VLOOKUP(A:A,#REF!,2,FALSE)","v":{"$error":"#REF!"}},{"$f":"VLOOKUP(A:A,#REF!,3,FALSE)","v":{"$error":"#REF!"}},{"$error":"#REF!"},{"$error":"#REF!"}]
["ORI0301N",0,0,{"$f":"VLOOKUP(A:A,#REF!,2,FALSE)","v":{"$error":"#REF!"}},{"$f":"VLOOKUP(A:A,#REF!,3,FALSE)","v":{"$error":"#REF!"}},{"$error":"#REF!"},{"$error":"#REF!"}]
["ORI0301S",0,0,{"$f":"VLOOKUP(A:A,#REF!,2,FALSE)","v":{"$error":"#REF!"}},{"$f":"VLOOKUP(A:A,#REF!,3,FALSE)","v":{"$error":"#REF!"}},{"$error":"#REF!"},{"$error":"#REF!"}]
["ORI0400",0,0,{"$f":"VLOOKUP(A:A,#REF!,2,FALSE)","v":{"$error":"#REF!"}},{"$f":"VLOOKUP(A:A,#REF!,3,FALSE)","v":{"$error":"#REF!"}},{"$error":"#REF!"},{"$error":"#REF!"}]
["ORI0500",0,0,{"$f":"VLOOKUP(A:A,#REF!,2,FALSE)","v":{"$error":"#REF!"}},{"$f":"VLOOKUP(A:A,#REF!,3,FALSE)","v":{"$error":"#REF!"}},{"$error":"#REF!"},{"$error":"#REF!"}]
["ORI2000",3,3,{"$f":"VLOOKUP(A:A,#REF!,2,FALSE)","v":{"$error":"#REF!"}},{"$f":"VLOOKUP(A:A,#REF!,3,FALSE)","v":{"$error":"#REF!"}},{"$error":"#REF!"},{"$error":"#REF!"}]
["ORI2312",3,2,{"$f":"VLOOKUP(A:A,#REF!,2,FALSE)","v":{"$error":"#REF!"}},{"$f":"VLOOKUP(A:A,#REF!,3,FALSE)","v":{"$error":"#REF!"}},{"$error":"#REF!"},{"$error":"#REF!"}]
["OST1100",3,3,{"$f":"VLOOKUP(A:A,#REF!,2,FALSE)","v":{"$error":"#REF!"}},{"$f":"VLOOKUP(A:A,#REF!,3,FALSE)","v":{"$error":"#REF!"}},{"$error":"#REF!"},{"$error":"#REF!"}]
["OST1355",3,3,{"$f":"VLOOKUP(A:A,#REF!,2,FALSE)","v":{"$error":"#REF!"}},{"$f":"VLOOKUP(A:A,#REF!,3,FALSE)","v":{"$error":"#REF!"}},{"$error":"#REF!"},{"$error":"#REF!"}]
["OST1384",3,3,{"$f":"VLOOKUP(A:A,#REF!,2,FALSE)","v":{"$error":"#REF!"}},{"$f":"VLOOKUP(A:A,#REF!,3,FALSE)","v":{"$error":"#REF!"}},{"$error":"#REF!"},{"$error":"#REF!"}]
["OST1464",3,3,{"$f":"VLOOKUP(A:A,#REF!,2,FALSE)","v":{"$error":"#REF!"}},{"$f":"VLOOKUP(A:A,#REF!,3,FALSE)","v":{"$error":"#REF!"}},{"$error":"#REF!"},{"$error":"#REF!"}]
["OST1581",3,3,{"$f":"VLOOKUP(A:A,#REF!,2,FALSE)","v":{"$error":"#REF!"}},{"$f":"VLOOKUP(A:A,#REF!,3,FALSE)","v":{"$error":"#REF!"}},{"$error":"#REF!"},{"$error":"#REF!"}]
["OST1943",0.01,0.01,{"$f":"VLOOKUP(A:A,#REF!,2,FALSE)","v":{"$error":"#REF!"}},{"$f":"VLOOKUP(A:A,#REF!,3,FALSE)","v":{"$error":"#REF!"}},{"$error":"#REF!"},{"$error":"#REF!"}]
["OST2335",3,3,{"$f":"VLOOKUP(A:A,#REF!,2,FALSE)","v":{"$error":"#REF!"}},{"$f":"VLOOKUP(A:A,#REF!,3,FALSE)","v":{"$error":"#REF!"}},{"$error":"#REF!"},{"$error":"#REF!"}]
["OST2501",3,3,{"$f":"VLOOKUP(A:A,#REF!,2,FALSE)","v":{"$error":"#REF!"}},{"$f":"VLOOKUP(A:A,#REF!,3,FALSE)","v":{"$error":"#REF!"}},{"$error":"#REF!"},{"$error":"#REF!"}]
["OST2771",4,3.7,{"$f":"VLOOKUP(A:A,#REF!,2,FALSE)","v":{"$error":"#REF!"}},{"$f":"VLOOKUP(A:A,#REF!,3,FALSE)","v":{"$error":"#REF!"}},{"$error":"#REF!"},{"$error":"#REF!"}]
["OTH1001",3,3,{"$f":"VLOOKUP(A:A,#REF!,2,FALSE)","v":{"$error":"#REF!"}},{"$f":"VLOOKUP(A:A,#REF!,3,FALSE)","v":{"$error":"#REF!"}},{"$error":"#REF!"},{"$error":"#REF!"}]
["OTH1003C",4,3.6,{"$f":"VLOOKUP(A:A,#REF!,2,FALSE)","v":{"$error":"#REF!"}},{"$f":"VLOOKUP(A:A,#REF!,3,FALSE)","v":{"$error":"#REF!"}},{"$error":"#REF!"},{"$error":"#REF!"}]
["OTH1014C",4,3.6,{"$f":"VLOOKUP(A:A,#REF!,2,FALSE)","v":{"$error":"#REF!"}},{"$f":"VLOOKUP(A:A,#REF!,3,FALSE)","v":{"$error":"#REF!"}},{"$error":"#REF!"},{"$error":"#REF!"}]
["OTH1019C",4,3.6,{"$f":"VLOOKUP(A:A,#REF!,2,FALSE)","v":{"$error":"#REF!"}},{"$f":"VLOOKUP(A:A,#REF!,3,FALSE)","v":{"$error":"#REF!"}},{"$error":"#REF!"},{"$error":"#REF!"}]
["OTH1520C",7,6.2,{"$f":"VLOOKUP(A:A,#REF!,2,FALSE)","v":{"$error":"#REF!"}},{"$f":"VLOOKUP(A:A,#REF!,3,FALSE)","v":{"$error":"#REF!"}},{"$error":"#REF!"},{"$error":"#REF!"}]
["OTH1704",3,3,{"$f":"VLOOKUP(A:A,#REF!,2,FALSE)","v":{"$error":"#REF!"}},{"$f":"VLOOKUP(A:A,#REF!,3,FALSE)","v":{"$error":"#REF!"}},{"$error":"#REF!"},{"$error":"#REF!"}]
["OTH1800",0.01,0.01,{"$f":"VLOOKUP(A:A,#REF!,2,FALSE)","v":{"$error":"#REF!"}},{"$f":"VLOOKUP(A:A,#REF!,3,FALSE)","v":{"$error":"#REF!"}},{"$error":"#REF!"},{"$error":"#REF!"}]
["OTH2165C",4,3.6,{"$f":"VLOOKUP(A:A,#REF!,2,FALSE)","v":{"$error":"#REF!"}},{"$f":"VLOOKUP(A:A,#REF!,3,FALSE)","v":{"$error":"#REF!"}},{"$error":"#REF!"},{"$error":"#REF!"}]
["OTH2300C",4,3.6,{"$f":"VLOOKUP(A:A,#REF!,2,FALSE)","v":{"$error":"#REF!"}},{"$f":"VLOOKUP(A:A,#REF!,3,FALSE)","v":{"$error":"#REF!"}},{"$error":"#REF!"},{"$error":"#REF!"}]
["OTH2420C",5,4.5999999999999996,{"$f":"VLOOKUP(A:A,#REF!,2,FALSE)","v":{"$error":"#REF!"}},{"$f":"VLOOKUP(A:A,#REF!,3,FALSE)","v":{"$error":"#REF!"}},{"$error":"#REF!"},{"$error":"#REF!"}]
["OTH2432C",7,6.2,{"$f":"VLOOKUP(A:A,#REF!,2,FALSE)","v":{"$error":"#REF!"}},{"$f":"VLOOKUP(A:A,#REF!,3,FALSE)","v":{"$error":"#REF!"}},{"$error":"#REF!"},{"$error":"#REF!"}]
["OTH2602C",4,3.6,{"$f":"VLOOKUP(A:A,#REF!,2,FALSE)","v":{"$error":"#REF!"}},{"$f":"VLOOKUP(A:A,#REF!,3,FALSE)","v":{"$error":"#REF!"}},{"$error":"#REF!"},{"$error":"#REF!"}]
["OTH2840",0.01,0.01,{"$f":"VLOOKUP(A:A,#REF!,2,FALSE)","v":{"$error":"#REF!"}},{"$f":"VLOOKUP(A:A,#REF!,3,FALSE)","v":{"$error":"#REF!"}},{"$error":"#REF!"},{"$error":"#REF!"}]
["OTH2841",0.01,0.01,{"$f":"VLOOKUP(A:A,#REF!,2,FALSE)","v":{"$error":"#REF!"}},{"$f":"VLOOKUP(A:A,#REF!,3,FALSE)","v":{"$error":"#REF!"}},{"$error":"#REF!"},{"$error":"#REF!"}]
["OTH2933",1,1,{"$f":"VLOOKUP(A:A,#REF!,2,FALSE)","v":{"$error":"#REF!"}},{"$f":"VLOOKUP(A:A,#REF!,3,FALSE)","v":{"$error":"#REF!"}},{"$error":"#REF!"},{"$error":"#REF!"}]
["PAD4204",3,3,{"$f":"VLOOKUP(A:A,#REF!,2,FALSE)","v":{"$error":"#REF!"}},{"$f":"VLOOKUP(A:A,#REF!,3,FALSE)","v":{"$error":"#REF!"}},{"$error":"#REF!"},{"$error":"#REF!"}]
["PAD4232",3,3,{"$f":"VLOOKUP(A:A,#REF!,2,FALSE)","v":{"$error":"#REF!"}},{"$f":"VLOOKUP(A:A,#REF!,3,FALSE)","v":{"$error":"#REF!"}},{"$error":"#REF!"},{"$error":"#REF!"}]
["PAD4414",3,3,{"$f":"VLOOKUP(A:A,#REF!,2,FALSE)","v":{"$error":"#REF!"}},{"$f":"VLOOKUP(A:A,#REF!,3,FALSE)","v":{"$error":"#REF!"}},{"$error":"#REF!"},{"$error":"#REF!"}]
["PAD4882",3,3,{"$f":"VLOOKUP(A:A,#REF!,2,FALSE)","v":{"$error":"#REF!"}},{"$f":"VLOOKUP(A:A,#REF!,3,FALSE)","v":{"$error":"#REF!"}},{"$error":"#REF!"},{"$error":"#REF!"}]
["PCA0111",0,0,{"$f":"VLOOKUP(A:A,#REF!,2,FALSE)","v":{"$error":"#REF!"}},{"$f":"VLOOKUP(A:A,#REF!,3,FALSE)","v":{"$error":"#REF!"}},{"$error":"#REF!"},{"$error":"#REF!"}]
["PCA0119",0,0,{"$f":"VLOOKUP(A:A,#REF!,2,FALSE)","v":{"$error":"#REF!"}},{"$f":"VLOOKUP(A:A,#REF!,3,FALSE)","v":{"$error":"#REF!"}},{"$error":"#REF!"},{"$error":"#REF!"}]
["PCB3103C",5,4.4000000000000004,{"$f":"VLOOKUP(A:A,#REF!,2,FALSE)","v":{"$error":"#REF!"}},{"$f":"VLOOKUP(A:A,#REF!,3,FALSE)","v":{"$error":"#REF!"}},{"$error":"#REF!"},{"$error":"#REF!"}]
["PCB3513C",6,5.0999999999999996,{"$f":"VLOOKUP(A:A,#REF!,2,FALSE)","v":{"$error":"#REF!"}},{"$f":"VLOOKUP(A:A,#REF!,3,FALSE)","v":{"$error":"#REF!"}},{"$error":"#REF!"},{"$error":"#REF!"}]
["PCB3713C",7,5.8,{"$f":"VLOOKUP(A:A,#REF!,2,FALSE)","v":{"$error":"#REF!"}},{"$f":"VLOOKUP(A:A,#REF!,3,FALSE)","v":{"$error":"#REF!"}},{"$error":"#REF!"},{"$error":"#REF!"}]
["PEM1131",3,2.25,{"$f":"VLOOKUP(A:A,#REF!,2,FALSE)","v":{"$error":"#REF!"}},{"$f":"VLOOKUP(A:A,#REF!,3,FALSE)","v":{"$error":"#REF!"}},{"$error":"#REF!"},{"$error":"#REF!"}]
["PEM1171",3,2.25,{"$f":"VLOOKUP(A:A,#REF!,2,FALSE)","v":{"$error":"#REF!"}},{"$f":"VLOOKUP(A:A,#REF!,3,FALSE)","v":{"$error":"#REF!"}},{"$f":"B2308-D2308","v":{"$error":"#REF!"}},{"$f":"C2308-E2308","v":{"$error":"#REF!"}}]
["PEM2930",3,2.25,{"$f":"VLOOKUP(A:A,#REF!,2,FALSE)","v":{"$error":"#REF!"}},{"$f":"VLOOKUP(A:A,#REF!,3,FALSE)","v":{"$error":"#REF!"}},{"$error":"#REF!"},{"$error":"#REF!"}]
["PET2210",3,3,{"$f":"VLOOKUP(A:A,#REF!,2,FALSE)","v":{"$error":"#REF!"}},{"$f":"VLOOKUP(A:A,#REF!,3,FALSE)","v":{"$error":"#REF!"}},{"$error":"#REF!"},{"$error":"#REF!"}]
["PGY2151C",6,4,{"$f":"VLOOKUP(A:A,#REF!,2,FALSE)","v":{"$error":"#REF!"}},{"$f":"VLOOKUP(A:A,#REF!,3,FALSE)","v":{"$error":"#REF!"}},{"$error":"#REF!"},{"$error":"#REF!"}]
["PGY2401C",6,4,{"$f":"VLOOKUP(A:A,#REF!,2,FALSE)","v":{"$error":"#REF!"}},{"$f":"VLOOKUP(A:A,#REF!,3,FALSE)","v":{"$error":"#REF!"}},{"$error":"#REF!"},{"$error":"#REF!"}]
["PGY2404C",6,4,{"$f":"VLOOKUP(A:A,#REF!,2,FALSE)","v":{"$error":"#REF!"}},{"$f":"VLOOKUP(A:A,#REF!,3,FALSE)","v":{"$error":"#REF!"}},{"$error":"#REF!"},{"$error":"#REF!"}]
["PGY2801C",6,4,{"$f":"VLOOKUP(A:A,#REF!,2,FALSE)","v":{"$error":"#REF!"}},{"$f":"VLOOKUP(A:A,#REF!,3,FALSE)","v":{"$error":"#REF!"}},{"$error":"#REF!"},{"$error":"#REF!"}]
["PGY3440C",6,6,{"$f":"VLOOKUP(A:A,#REF!,2,FALSE)","v":{"$error":"#REF!"}},{"$f":"VLOOKUP(A:A,#REF!,3,FALSE)","v":{"$error":"#REF!"}},{"$error":"#REF!"},{"$error":"#REF!"}]
["PGY4235C",6,6,{"$f":"VLOOKUP(A:A,#REF!,2,FALSE)","v":{"$error":"#REF!"}},{"$f":"VLOOKUP(A:A,#REF!,3,FALSE)","v":{"$error":"#REF!"}},{"$error":"#REF!"},{"$error":"#REF!"}]
["PHC2100",3,3,{"$f":"VLOOKUP(A:A,#REF!,2,FALSE)","v":{"$error":"#REF!"}},{"$f":"VLOOKUP(A:A,#REF!,3,FALSE)","v":{"$error":"#REF!"}},{"$error":"#REF!"},{"$error":"#REF!"}]
["PHI2010",3,3,{"$f":"VLOOKUP(A:A,#REF!,2,FALSE)","v":{"$error":"#REF!"}},{"$f":"VLOOKUP(A:A,#REF!,3,FALSE)","v":{"$error":"#REF!"}},{"$error":"#REF!"},{"$error":"#REF!"}]
["PHI2600",3,3,{"$f":"VLOOKUP(A:A,#REF!,2,FALSE)","v":{"$error":"#REF!"}},{"$f":"VLOOKUP(A:A,#REF!,3,FALSE)","v":{"$error":"#REF!"}},{"$error":"#REF!"},{"$error":"#REF!"}]
["PHI2603",3,3,{"$f":"VLOOKUP(A:A,#REF!,2,FALSE)","v":{"$error":"#REF!"}},{"$f":"VLOOKUP(A:A,#REF!,3,FALSE)","v":{"$error":"#REF!"}},{"$error":"#REF!"},{"$error":"#REF!"}]
["PHT1000",3,3,{"$f":"VLOOKUP(A:A,#REF!,2,FALSE)","v":{"$error":"#REF!"}},{"$f":"VLOOKUP(A:A,#REF!,3,FALSE)","v":{"$error":"#REF!"}},{"$error":"#REF!"},{"$error":"#REF!"}]
["PHT1120C",5,4.4000000000000004,{"$f":"VLOOKUP(A:A,#REF!,2,FALSE)","v":{"$error":"#REF!"}},{"$f":"VLOOKUP(A:A,#REF!,3,FALSE)","v":{"$error":"#REF!"}},{"$error":"#REF!"},{"$error":"#REF!"}]
["PHT1200C",7,6.2,{"$f":"VLOOKUP(A:A,#REF!,2,FALSE)","v":{"$error":"#REF!"}},{"$f":"VLOOKUP(A:A,#REF!,3,FALSE)","v":{"$error":"#REF!"}},{"$error":"#REF!"},{"$error":"#REF!"}]
["PHT1300",3,3,{"$f":"VLOOKUP(A:A,#REF!,2,FALSE)","v":{"$error":"#REF!"}},{"$f":"VLOOKUP(A:A,#REF!,3,FALSE)","v":{"$error":"#REF!"}},{"$error":"#REF!"},{"$error":"#REF!"}]
["PHT2220C",6,5.2,{"$f":"VLOOKUP(A:A,#REF!,2,FALSE)","v":{"$error":"#REF!"}},{"$f":"VLOOKUP(A:A,#REF!,3,FALSE)","v":{"$error":"#REF!"}},{"$error":"#REF!"},{"$error":"#REF!"}]
["PHT2224C",3,2.6,{"$f":"VLOOKUP(A:A,#REF!,2,FALSE)","v":{"$error":"#REF!"}},{"$f":"VLOOKUP(A:A,#REF!,3,FALSE)","v":{"$error":"#REF!"}},{"$error":"#REF!"},{"$error":"#REF!"}]
["PHT2252C",7,6.2,{"$f":"VLOOKUP(A:A,#REF!,2,FALSE)","v":{"$error":"#REF!"}},{"$f":"VLOOKUP(A:A,#REF!,3,FALSE)","v":{"$error":"#REF!"}},{"$error":"#REF!"},{"$error":"#REF!"}]
["PHT2253C",8,6.8,{"$f":"VLOOKUP(A:A,#REF!,2,FALSE)","v":{"$error":"#REF!"}},{"$f":"VLOOKUP(A:A,#REF!,3,FALSE)","v":{"$error":"#REF!"}},{"$error":"#REF!"},{"$error":"#REF!"}]
["PHT2282C",4,3.6,{"$f":"VLOOKUP(A:A,#REF!,2,FALSE)","v":{"$error":"#REF!"}},{"$f":"VLOOKUP(A:A,#REF!,3,FALSE)","v":{"$error":"#REF!"}},{"$error":"#REF!"},{"$error":"#REF!"}]
["PHT2801L",0.01,0.01,{"$f":"VLOOKUP(A:A,#REF!,2,FALSE)","v":{"$error":"#REF!"}},{"$f":"VLOOKUP(A:A,#REF!,3,FALSE)","v":{"$error":"#REF!"}},{"$error":"#REF!"},{"$error":"#REF!"}]
["PHT2810L",0.01,0.01,{"$f":"VLOOKUP(A:A,#REF!,2,FALSE)","v":{"$error":"#REF!"}},{"$f":"VLOOKUP(A:A,#REF!,3,FALSE)","v":{"$error":"#REF!"}},{"$error":"#REF!"},{"$error":"#REF!"}]
["PHT2820L",0.01,0.01,{"$f":"VLOOKUP(A:A,#REF!,2,FALSE)","v":{"$error":"#REF!"}},{"$f":"VLOOKUP(A:A,#REF!,3,FALSE)","v":{"$error":"#REF!"}},{"$error":"#REF!"},{"$error":"#REF!"}]
["PHT2931",2,2,{"$f":"VLOOKUP(A:A,#REF!,2,FALSE)","v":{"$error":"#REF!"}},{"$f":"VLOOKUP(A:A,#REF!,3,FALSE)","v":{"$error":"#REF!"}},{"$error":"#REF!"},{"$error":"#REF!"}]
["PHY1020C",4,4,{"$f":"VLOOKUP(A:A,#REF!,2,FALSE)","v":{"$error":"#REF!"}},{"$f":"VLOOKUP(A:A,#REF!,3,FALSE)","v":{"$error":"#REF!"}},{"$error":"#REF!"},{"$error":"#REF!"}]
["PHY2048C",6,6,{"$f":"VLOOKUP(A:A,#REF!,2,FALSE)","v":{"$error":"#REF!"}},{"$f":"VLOOKUP(A:A,#REF!,3,FALSE)","v":{"$error":"#REF!"}},{"$error":"#REF!"},{"$error":"#REF!"}]
["PHY2049C",6,6,{"$f":"VLOOKUP(A:A,#REF!,2,FALSE)","v":{"$error":"#REF!"}},{"$f":"VLOOKUP(A:A,#REF!,3,FALSE)","v":{"$error":"#REF!"}},{"$error":"#REF!"},{"$error":"#REF!"}]
["PHY2053C",6,6,{"$f":"VLOOKUP(A:A,#REF!,2,FALSE)","v":{"$error":"#REF!"}},{"$f":"VLOOKUP(A:A,#REF!,3,FALSE)","v":{"$error":"#REF!"}},{"$error":"#REF!"},{"$error":"#REF!"}]
["PHY2054C",6,6,{"$f":"VLOOKUP(A:A,#REF!,2,FALSE)","v":{"$error":"#REF!"}},{"$f":"VLOOKUP(A:A,#REF!,3,FALSE)","v":{"$error":"#REF!"}},{"$error":"#REF!"},{"$error":"#REF!"}]
["PLA1003",3,3,{"$f":"VLOOKUP(A:A,#REF!,2,FALSE)","v":{"$error":"#REF!"}},{"$f":"VLOOKUP(A:A,#REF!,3,FALSE)","v":{"$error":"#REF!"}},{"$error":"#REF!"},{"$error":"#REF!"},"CWE"]
["PLA1104",3,3,{"$f":"VLOOKUP(A:A,#REF!,2,FALSE)","v":{"$error":"#REF!"}},{"$f":"VLOOKUP(A:A,#REF!,3,FALSE)","v":{"$error":"#REF!"}},{"$error":"#REF!"},{"$error":"#REF!"}]
["PLA1303",3,3,{"$f":"VLOOKUP(A:A,#REF!,2,FALSE)","v":{"$error":"#REF!"}},{"$f":"VLOOKUP(A:A,#REF!,3,FALSE)","v":{"$error":"#REF!"}},{"$error":"#REF!"},{"$error":"#REF!"}]
["PLA1423",3,3,{"$f":"VLOOKUP(A:A,#REF!,2,FALSE)","v":{"$error":"#REF!"}},{"$f":"VLOOKUP(A:A,#REF!,3,FALSE)","v":{"$error":"#REF!"}},{"$error":"#REF!"},{"$error":"#REF!"}]
["PLA1933",3,3,{"$f":"VLOOKUP(A:A,#REF!,2,FALSE)","v":{"$error":"#REF!"}},{"$f":"VLOOKUP(A:A,#REF!,3,FALSE)","v":{"$error":"#REF!"}},{"$error":"#REF!"},{"$error":"#REF!"},"CWE"]
["PLA2114",4,4,{"$f":"VLOOKUP(A:A,#REF!,2,FALSE)","v":{"$error":"#REF!"}},{"$f":"VLOOKUP(A:A,#REF!,3,FALSE)","v":{"$error":"#REF!"}},{"$error":"#REF!"},{"$error":"#REF!"}]
["PLA2200",3,3,{"$f":"VLOOKUP(A:A,#REF!,2,FALSE)","v":{"$error":"#REF!"}},{"$f":"VLOOKUP(A:A,#REF!,3,FALSE)","v":{"$error":"#REF!"}},{"$error":"#REF!"},{"$error":"#REF!"},"CWE/5.33"]
["PLA2241",3,3,{"$f":"VLOOKUP(A:A,#REF!,2,FALSE)","v":{"$error":"#REF!"}},{"$f":"VLOOKUP(A:A,#REF!,3,FALSE)","v":{"$error":"#REF!"}},{"$error":"#REF!"},{"$error":"#REF!"}]
["PLA2273",3,3,{"$f":"VLOOKUP(A:A,#REF!,2,FALSE)","v":{"$error":"#REF!"}},{"$f":"VLOOKUP(A:A,#REF!,3,FALSE)","v":{"$error":"#REF!"}},{"$error":"#REF!"},{"$error":"#REF!"}]
["PLA2465",3,3,{"$f":"VLOOKUP(A:A,#REF!,2,FALSE)","v":{"$error":"#REF!"}},{"$f":"VLOOKUP(A:A,#REF!,3,FALSE)","v":{"$error":"#REF!"}},{"$error":"#REF!"},{"$error":"#REF!"}]
["PLA2600",3,3,{"$f":"VLOOKUP(A:A,#REF!,2,FALSE)","v":{"$error":"#REF!"}},{"$f":"VLOOKUP(A:A,#REF!,3,FALSE)","v":{"$error":"#REF!"}},{"$error":"#REF!"},{"$error":"#REF!"}]
["PLA2610",3,3,{"$f":"VLOOKUP(A:A,#REF!,2,FALSE)","v":{"$error":"#REF!"}},{"$f":"VLOOKUP(A:A,#REF!,3,FALSE)","v":{"$error":"#REF!"}},{"$error":"#REF!"},{"$error":"#REF!"}]
["PLA2732",3,3,{"$f":"VLOOKUP(A:A,#REF!,2,FALSE)","v":{"$error":"#REF!"}},{"$f":"VLOOKUP(A:A,#REF!,3,FALSE)","v":{"$error":"#REF!"}},{"$error":"#REF!"},{"$error":"#REF!"},"CWE"]
["PLA2763",3,3,{"$f":"VLOOKUP(A:A,#REF!,2,FALSE)","v":{"$error":"#REF!"}},{"$f":"VLOOKUP(A:A,#REF!,3,FALSE)","v":{"$error":"#REF!"}},{"$error":"#REF!"},{"$error":"#REF!"},"CWE"]
["PLA2800",3,3,{"$f":"VLOOKUP(A:A,#REF!,2,FALSE)","v":{"$error":"#REF!"}},{"$f":"VLOOKUP(A:A,#REF!,3,FALSE)","v":{"$error":"#REF!"}},{"$error":"#REF!"},{"$error":"#REF!"}]
["PLA2880",3,3,{"$f":"VLOOKUP(A:A,#REF!,2,FALSE)","v":{"$error":"#REF!"}},{"$f":"VLOOKUP(A:A,#REF!,3,FALSE)","v":{"$error":"#REF!"}},{"$error":"#REF!"},{"$error":"#REF!"}]
["PLA2944",4,3,{"$f":"VLOOKUP(A:A,#REF!,2,FALSE)","v":{"$error":"#REF!"}},{"$f":"VLOOKUP(A:A,#REF!,3,FALSE)","v":{"$error":"#REF!"}},{"$error":"#REF!"},{"$error":"#REF!"}]
["PLA2949",0.01,0.01,{"$f":"VLOOKUP(A:A,#REF!,2,FALSE)","v":{"$error":"#REF!"}},{"$f":"VLOOKUP(A:A,#REF!,3,FALSE)","v":{"$error":"#REF!"}},{"$error":"#REF!"},{"$error":"#REF!"},"CWE"]
["PLA2950",3,3,{"$f":"VLOOKUP(A:A,#REF!,2,FALSE)","v":{"$error":"#REF!"}},{"$f":"VLOOKUP(A:A,#REF!,3,FALSE)","v":{"$error":"#REF!"}},{"$error":"#REF!"},{"$error":"#REF!"},"CWE"]
["PMT0070",3,2.5,{"$f":"VLOOKUP(A:A,#REF!,2,FALSE)","v":{"$error":"#REF!"}},{"$f":"VLOOKUP(A:A,#REF!,3,FALSE)","v":{"$error":"#REF!"}},{"$error":"#REF!"},{"$error":"#REF!"}]
["PMT0070L",3,2.5,{"$f":"VLOOKUP(A:A,#REF!,2,FALSE)","v":{"$error":"#REF!"}},{"$f":"VLOOKUP(A:A,#REF!,3,FALSE)","v":{"$error":"#REF!"}},{"$error":"#REF!"},{"$error":"#REF!"},"CWE"]
["PMT0071",2,1.67,{"$f":"VLOOKUP(A:A,#REF!,2,FALSE)","v":{"$error":"#REF!"}},{"$f":"VLOOKUP(A:A,#REF!,3,FALSE)","v":{"$error":"#REF!"}},{"$error":"#REF!"},{"$error":"#REF!"},"CWE"]
["PMT0071L",4,3.34,{"$f":"VLOOKUP(A:A,#REF!,2,FALSE)","v":{"$error":"#REF!"}},{"$f":"VLOOKUP(A:A,#REF!,3,FALSE)","v":{"$error":"#REF!"}},{"$error":"#REF!"},{"$error":"#REF!"}]
["PMT0072",2,1.67,{"$f":"VLOOKUP(A:A,#REF!,2,FALSE)","v":{"$error":"#REF!"}},{"$f":"VLOOKUP(A:A,#REF!,3,FALSE)","v":{"$error":"#REF!"}},{"$error":"#REF!"},{"$error":"#REF!"},"CWE"]
["PMT0072L",4,3.34,{"$f":"VLOOKUP(A:A,#REF!,2,FALSE)","v":{"$error":"#REF!"}},{"$f":"VLOOKUP(A:A,#REF!,3,FALSE)","v":{"$error":"#REF!"}},{"$error":"#REF!"},{"$error":"#REF!"}]
["PMT0073",2,1.67,{"$f":"VLOOKUP(A:A,#REF!,2,FALSE)","v":{"$error":"#REF!"}},{"$f":"VLOOKUP(A:A,#REF!,3,FALSE)","v":{"$error":"#REF!"}},{"$error":"#REF!"},{"$error":"#REF!"}]
["PMT0073L",4,3.34,{"$f":"VLOOKUP(A:A,#REF!,2,FALSE)","v":{"$error":"#REF!"}},{"$f":"VLOOKUP(A:A,#REF!,3,FALSE)","v":{"$error":"#REF!"}},{"$error":"#REF!"},{"$error":"#REF!"}]
["PMT0074",9,7.5,{"$f":"VLOOKUP(A:A,#REF!,2,FALSE)","v":{"$error":"#REF!"}},{"$f":"VLOOKUP(A:A,#REF!,3,FALSE)","v":{"$error":"#REF!"}},{"$error":"#REF!"},{"$error":"#REF!"}]
["PMT0074L",9,7.5,{"$f":"VLOOKUP(A:A,#REF!,2,FALSE)","v":{"$error":"#REF!"}},{"$f":"VLOOKUP(A:A,#REF!,3,FALSE)","v":{"$error":"#REF!"}},{"$error":"#REF!"},{"$error":"#REF!"}]
["PMT0101",4.5999999999999996,3.83,{"$f":"VLOOKUP(A:A,#REF!,2,FALSE)","v":{"$error":"#REF!"}},{"$f":"VLOOKUP(A:A,#REF!,3,FALSE)","v":{"$error":"#REF!"}},{"$error":"#REF!"},{"$error":"#REF!"}]
["PMT0108",4.5999999999999996,3.83,{"$f":"VLOOKUP(A:A,#REF!,2,FALSE)","v":{"$error":"#REF!"}},{"$f":"VLOOKUP(A:A,#REF!,3,FALSE)","v":{"$error":"#REF!"}},{"$error":"#REF!"},{"$error":"#REF!"}]
["PMT0121",4.5999999999999996,3.83,{"$f":"VLOOKUP(A:A,#REF!,2,FALSE)","v":{"$error":"#REF!"}},{"$f":"VLOOKUP(A:A,#REF!,3,FALSE)","v":{"$error":"#REF!"}},{"$error":"#REF!"},{"$error":"#REF!"}]
["PMT0127",4.5999999999999996,3.83,{"$f":"VLOOKUP(A:A,#REF!,2,FALSE)","v":{"$error":"#REF!"}},{"$f":"VLOOKUP(A:A,#REF!,3,FALSE)","v":{"$error":"#REF!"}},{"$error":"#REF!"},{"$error":"#REF!"}]
["PMT0137C",4,3.33,{"$f":"VLOOKUP(A:A,#REF!,2,FALSE)","v":{"$error":"#REF!"}},{"$f":"VLOOKUP(A:A,#REF!,3,FALSE)","v":{"$error":"#REF!"}},{"$f":"B2372-D2372","v":{"$error":"#REF!"}},{"$f":"C2372-E2372","v":{"$error":"#REF!"}},"CWE"]
["PMT0138C",3.2,2.66,{"$f":"VLOOKUP(A:A,#REF!,2,FALSE)","v":{"$error":"#REF!"}},{"$f":"VLOOKUP(A:A,#REF!,3,FALSE)","v":{"$error":"#REF!"}},{"$error":"#REF!"},{"$error":"#REF!"}]
["PMT0141C",3.6,3,{"$f":"VLOOKUP(A:A,#REF!,2,FALSE)","v":{"$error":"#REF!"}},{"$f":"VLOOKUP(A:A,#REF!,3,FALSE)","v":{"$error":"#REF!"}},{"$error":"#REF!"},{"$error":"#REF!"},"CWE"]
["PMT0147C",3.2,2.66,{"$f":"VLOOKUP(A:A,#REF!,2,FALSE)","v":{"$error":"#REF!"}},{"$f":"VLOOKUP(A:A,#REF!,3,FALSE)","v":{"$error":"#REF!"}},{"$error":"#REF!"},{"$error":"#REF!"}]
["PMT0151C",5,4.16,{"$f":"VLOOKUP(A:A,#REF!,2,FALSE)","v":{"$error":"#REF!"}},{"$f":"VLOOKUP(A:A,#REF!,3,FALSE)","v":{"$error":"#REF!"}},{"$error":"#REF!"},{"$error":"#REF!"}]
["PMT0164C",4.5999999999999996,3.83,{"$f":"VLOOKUP(A:A,#REF!,2,FALSE)","v":{"$error":"#REF!"}},{"$f":"VLOOKUP(A:A,#REF!,3,FALSE)","v":{"$error":"#REF!"}},{"$error":"#REF!"},{"$error":"#REF!"}]
["PMT1203",4,3.7,{"$f":"VLOOKUP(A:A,#REF!,2,FALSE)","v":{"$error":"#REF!"}},{"$f":"VLOOKUP(A:A,#REF!,3,FALSE)","v":{"$error":"#REF!"}},{"$error":"#REF!"},{"$error":"#REF!"}]
["PMT2213",4,3.1,{"$f":"VLOOKUP(A:A,#REF!,2,FALSE)","v":{"$error":"#REF!"}},{"$f":"VLOOKUP(A:A,#REF!,3,FALSE)","v":{"$error":"#REF!"}},{"$error":"#REF!"},{"$error":"#REF!"}]
["PMT2214",4,3.1,{"$f":"VLOOKUP(A:A,#REF!,2,FALSE)","v":{"$error":"#REF!"}},{"$f":"VLOOKUP(A:A,#REF!,3,FALSE)","v":{"$error":"#REF!"}},{"$error":"#REF!"},{"$error":"#REF!"}]
["PMT2250",4,3.1,{"$f":"VLOOKUP(A:A,#REF!,2,FALSE)","v":{"$error":"#REF!"}},{"$f":"VLOOKUP(A:A,#REF!,3,FALSE)","v":{"$error":"#REF!"}},{"$error":"#REF!"},{"$error":"#REF!"},"CWE"]
["PMT2254",4,3.1,{"$f":"VLOOKUP(A:A,#REF!,2,FALSE)","v":{"$error":"#REF!"}},{"$f":"VLOOKUP(A:A,#REF!,3,FALSE)","v":{"$error":"#REF!"}},{"$error":"#REF!"},{"$error":"#REF!"}]
["POR1120",4,4,{"$f":"VLOOKUP(A:A,#REF!,2,FALSE)","v":{"$error":"#REF!"}},{"$f":"VLOOKUP(A:A,#REF!,3,FALSE)","v":{"$error":"#REF!"}},{"$error":"#REF!"},{"$error":"#REF!"}]
["POR1121",4,4,{"$f":"VLOOKUP(A:A,#REF!,2,FALSE)","v":{"$error":"#REF!"}},{"$f":"VLOOKUP(A:A,#REF!,3,FALSE)","v":{"$error":"#REF!"}},{"$error":"#REF!"},{"$error":"#REF!"},"CWE"]
["POS2041",3,3,{"$f":"VLOOKUP(A:A,#REF!,2,FALSE)","v":{"$error":"#REF!"}},{"$f":"VLOOKUP(A:A,#REF!,3,FALSE)","v":{"$error":"#REF!"}},{"$error":"#REF!"},{"$error":"#REF!"}]
["POS2112",3,3,{"$f":"VLOOKUP(A:A,#REF!,2,FALSE)","v":{"$error":"#REF!"}},{"$f":"VLOOKUP(A:A,#REF!,3,FALSE)","v":{"$error":"#REF!"}},{"$error":"#REF!"},{"$error":"#REF!"}]
["PRN0098",6,5,{"$f":"VLOOKUP(A:A,#REF!,2,FALSE)","v":{"$error":"#REF!"}},{"$f":"VLOOKUP(A:A,#REF!,3,FALSE)","v":{"$error":"#REF!"}},{"$error":"#REF!"},{"$error":"#REF!"}]
["PRN0098L",6,5,{"$f":"VLOOKUP(A:A,#REF!,2,FALSE)","v":{"$error":"#REF!"}},{"$f":"VLOOKUP(A:A,#REF!,3,FALSE)","v":{"$error":"#REF!"}},{"$error":"#REF!"},{"$error":"#REF!"}]
["PRN0099",6,5,{"$f":"VLOOKUP(A:A,#REF!,2,FALSE)","v":{"$error":"#REF!"}},{"$f":"VLOOKUP(A:A,#REF!,3,FALSE)","v":{"$error":"#REF!"}},{"$error":"#REF!"},{"$error":"#REF!"}]
["PRN0099L",6,5,{"$f":"VLOOKUP(A:A,#REF!,2,FALSE)","v":{"$error":"#REF!"}},{"$f":"VLOOKUP(A:A,#REF!,3,FALSE)","v":{"$error":"#REF!"}},{"$error":"#REF!"},{"$error":"#REF!"}]
["PRN0290",6,5,{"$f":"VLOOKUP(A:A,#REF!,2,FALSE)","v":{"$error":"#REF!"}},{"$f":"VLOOKUP(A:A,#REF!,3,FALSE)","v":{"$error":"#REF!"}},{"$error":"#REF!"},{"$error":"#REF!"}]
["PRN0290L",6,5,{"$f":"VLOOKUP(A:A,#REF!,2,FALSE)","v":{"$error":"#REF!"}},{"$f":"VLOOKUP(A:A,#REF!,3,FALSE)","v":{"$error":"#REF!"}},{"$error":"#REF!"},{"$error":"#REF!"}]
["PRN0291",6,5,{"$f":"VLOOKUP(A:A,#REF!,2,FALSE)","v":{"$error":"#REF!"}},{"$f":"VLOOKUP(A:A,#REF!,3,FALSE)","v":{"$error":"#REF!"}},{"$error":"#REF!"},{"$error":"#REF!"},"CWE"]
["PRN0291L",6,5,{"$f":"VLOOKUP(A:A,#REF!,2,FALSE)","v":{"$error":"#REF!"}},{"$f":"VLOOKUP(A:A,#REF!,3,FALSE)","v":{"$error":"#REF!"}},{"$error":"#REF!"},{"$error":"#REF!"}]
["PRN0690",3,2.5,{"$f":"VLOOKUP(A:A,#REF!,2,FALSE)","v":{"$error":"#REF!"}},{"$f":"VLOOKUP(A:A,#REF!,3,FALSE)","v":{"$error":"#REF!"}},{"$error":"#REF!"},{"$error":"#REF!"}]
["PRN0690L",3,2.5,{"$f":"VLOOKUP(A:A,#REF!,2,FALSE)","v":{"$error":"#REF!"}},{"$f":"VLOOKUP(A:A,#REF!,3,FALSE)","v":{"$error":"#REF!"}},{"$error":"#REF!"},{"$error":"#REF!"}]
["PSC1341",3,3,{"$f":"VLOOKUP(A:A,#REF!,2,FALSE)","v":{"$error":"#REF!"}},{"$f":"VLOOKUP(A:A,#REF!,3,FALSE)","v":{"$error":"#REF!"}},{"$error":"#REF!"},{"$error":"#REF!"}]
["PSR0017",1.6,1.33,{"$f":"VLOOKUP(A:A,#REF!,2,FALSE)","v":{"$error":"#REF!"}},{"$f":"VLOOKUP(A:A,#REF!,3,FALSE)","v":{"$error":"#REF!"}},{"$error":"#REF!"},{"$error":"#REF!"}]
["PSR0018",0.96,0.8,{"$f":"VLOOKUP(A:A,#REF!,2,FALSE)","v":{"$error":"#REF!"}},{"$f":"VLOOKUP(A:A,#REF!,3,FALSE)","v":{"$error":"#REF!"}},{"$error":"#REF!"},{"$error":"#REF!"},"CWE"]
["PSR0019",0.96,0.8,{"$f":"VLOOKUP(A:A,#REF!,2,FALSE)","v":{"$error":"#REF!"}},{"$f":"VLOOKUP(A:A,#REF!,3,FALSE)","v":{"$error":"#REF!"}},{"$error":"#REF!"},{"$error":"#REF!"}]
["PSR0020",0.32,0.26,{"$f":"VLOOKUP(A:A,#REF!,2,FALSE)","v":{"$error":"#REF!"}},{"$f":"VLOOKUP(A:A,#REF!,3,FALSE)","v":{"$error":"#REF!"}},{"$error":"#REF!"},{"$error":"#REF!"}]
["PSR0021",0.32,0.26,{"$f":"VLOOKUP(A:A,#REF!,2,FALSE)","v":{"$error":"#REF!"}},{"$f":"VLOOKUP(A:A,#REF!,3,FALSE)","v":{"$error":"#REF!"}},{"$error":"#REF!"},{"$error":"#REF!"}]
["PSR0024",0.32,0.26,{"$f":"VLOOKUP(A:A,#REF!,2,FALSE)","v":{"$error":"#REF!"}},{"$f":"VLOOKUP(A:A,#REF!,3,FALSE)","v":{"$error":"#REF!"}},{"$error":"#REF!"},{"$error":"#REF!"}]
["PSR0027",1.6,1.33,{"$f":"VLOOKUP(A:A,#REF!,2,FALSE)","v":{"$error":"#REF!"}},{"$f":"VLOOKUP(A:A,#REF!,3,FALSE)","v":{"$error":"#REF!"}},{"$error":"#REF!"},{"$error":"#REF!"}]
["PSR0028",5.33,5.33,{"$f":"VLOOKUP(A:A,#REF!,2,FALSE)","v":{"$error":"#REF!"}},{"$f":"VLOOKUP(A:A,#REF!,3,FALSE)","v":{"$error":"#REF!"}},{"$error":"#REF!"},{"$error":"#REF!"},"CWE"]
["PSR0029",0.96,1.33,{"$f":"VLOOKUP(A:A,#REF!,2,FALSE)","v":{"$error":"#REF!"}},{"$f":"VLOOKUP(A:A,#REF!,3,FALSE)","v":{"$error":"#REF!"}},{"$error":"#REF!"},{"$error":"#REF!"},"CWE"]
["PSR0035",1.6,1.33,{"$f":"VLOOKUP(A:A,#REF!,2,FALSE)","v":{"$error":"#REF!"}},{"$f":"VLOOKUP(A:A,#REF!,3,FALSE)","v":{"$error":"#REF!"}},{"$error":"#REF!"},{"$error":"#REF!"},"CWE"]
["PSR0036",0.96,0.8,{"$f":"VLOOKUP(A:A,#REF!,2,FALSE)","v":{"$error":"#REF!"}},{"$f":"VLOOKUP(A:A,#REF!,3,FALSE)","v":{"$error":"#REF!"}},{"$error":"#REF!"},{"$error":"#REF!"}]
["PSR0037",0.64,0.53,{"$f":"VLOOKUP(A:A,#REF!,2,FALSE)","v":{"$error":"#REF!"}},{"$f":"VLOOKUP(A:A,#REF!,3,FALSE)","v":{"$error":"#REF!"}},{"$error":"#REF!"},{"$error":"#REF!"},"CWE"]
["PSR0040",1.6,1.33,{"$f":"VLOOKUP(A:A,#REF!,2,FALSE)","v":{"$error":"#REF!"}},{"$f":"VLOOKUP(A:A,#REF!,3,FALSE)","v":{"$error":"#REF!"}},{"$error":"#REF!"},{"$error":"#REF!"}]
["PSR0042",1.6,1.33,{"$f":"VLOOKUP(A:A,#REF!,2,FALSE)","v":{"$error":"#REF!"}},{"$f":"VLOOKUP(A:A,#REF!,3,FALSE)","v":{"$error":"#REF!"}},{"$error":"#REF!"},{"$error":"#REF!"}]
["PSR0043",1.6,1.33,{"$f":"VLOOKUP(A:A,#REF!,2,FALSE)","v":{"$error":"#REF!"}},{"$f":"VLOOKUP(A:A,#REF!,3,FALSE)","v":{"$error":"#REF!"}},{"$error":"#REF!"},{"$error":"#REF!"}]
["PSR0051",0.32,0.26,{"$f":"VLOOKUP(A:A,#REF!,2,FALSE)","v":{"$error":"#REF!"}},{"$f":"VLOOKUP(A:A,#REF!,3,FALSE)","v":{"$error":"#REF!"}},{"$error":"#REF!"},{"$error":"#REF!"}]
["PSR0057",0.96,0.8,{"$f":"VLOOKUP(A:A,#REF!,2,FALSE)","v":{"$error":"#REF!"}},{"$f":"VLOOKUP(A:A,#REF!,3,FALSE)","v":{"$error":"#REF!"}},{"$error":"#REF!"},{"$error":"#REF!"}]
["PSR0067",1.6,1.6,{"$f":"VLOOKUP(A:A,#REF!,2,FALSE)","v":{"$error":"#REF!"}},{"$f":"VLOOKUP(A:A,#REF!,3,FALSE)","v":{"$error":"#REF!"}},{"$error":"#REF!"},{"$error":"#REF!"}]
["PSR0074",0.64,0.53,{"$f":"VLOOKUP(A:A,#REF!,2,FALSE)","v":{"$error":"#REF!"}},{"$f":"VLOOKUP(A:A,#REF!,3,FALSE)","v":{"$error":"#REF!"}},{"$error":"#REF!"},{"$error":"#REF!"}]
["PSR0080",14.56,12.13,{"$f":"VLOOKUP(A:A,#REF!,2,FALSE)","v":{"$error":"#REF!"}},{"$f":"VLOOKUP(A:A,#REF!,3,FALSE)","v":{"$error":"#REF!"}},{"$error":"#REF!"},{"$error":"#REF!"}]
["PSR0082",0.2,0.16,{"$f":"VLOOKUP(A:A,#REF!,2,FALSE)","v":{"$error":"#REF!"}},{"$f":"VLOOKUP(A:A,#REF!,3,FALSE)","v":{"$error":"#REF!"}},{"$error":"#REF!"},{"$error":"#REF!"}]
["PSR0200",1.28,1.06,{"$f":"VLOOKUP(A:A,#REF!,2,FALSE)","v":{"$error":"#REF!"}},{"$f":"VLOOKUP(A:A,#REF!,3,FALSE)","v":{"$error":"#REF!"}},{"$error":"#REF!"},{"$error":"#REF!"}]
["PSR0262",0.32,0.26,{"$f":"VLOOKUP(A:A,#REF!,2,FALSE)","v":{"$error":"#REF!"}},{"$f":"VLOOKUP(A:A,#REF!,3,FALSE)","v":{"$error":"#REF!"}},{"$error":"#REF!"},{"$error":"#REF!"},"CWE"]
["PSR0263",0.32,0.26,{"$f":"VLOOKUP(A:A,#REF!,2,FALSE)","v":{"$error":"#REF!"}},{"$f":"VLOOKUP(A:A,#REF!,3,FALSE)","v":{"$error":"#REF!"}},{"$error":"#REF!"},{"$error":"#REF!"}]
["PSR0267",1.6,1.33,{"$f":"VLOOKUP(A:A,#REF!,2,FALSE)","v":{"$error":"#REF!"}},{"$f":"VLOOKUP(A:A,#REF!,3,FALSE)","v":{"$error":"#REF!"}},{"$error":"#REF!"},{"$error":"#REF!"}]
["PSR0270",0.96,0.8,{"$f":"VLOOKUP(A:A,#REF!,2,FALSE)","v":{"$error":"#REF!"}},{"$f":"VLOOKUP(A:A,#REF!,3,FALSE)","v":{"$error":"#REF!"}},{"$error":"#REF!"},{"$error":"#REF!"}]
["PSR0271",0.16,0.13,{"$f":"VLOOKUP(A:A,#REF!,2,FALSE)","v":{"$error":"#REF!"}},{"$f":"VLOOKUP(A:A,#REF!,3,FALSE)","v":{"$error":"#REF!"}},{"$error":"#REF!"},{"$error":"#REF!"},"CWE"]
["PSR0272",0.16,0.13,{"$f":"VLOOKUP(A:A,#REF!,2,FALSE)","v":{"$error":"#REF!"}},{"$f":"VLOOKUP(A:A,#REF!,3,FALSE)","v":{"$error":"#REF!"}},{"$error":"#REF!"},{"$error":"#REF!"}]
["PSR0273",1.8,1.5,{"$f":"VLOOKUP(A:A,#REF!,2,FALSE)","v":{"$error":"#REF!"}},{"$f":"VLOOKUP(A:A,#REF!,3,FALSE)","v":{"$error":"#REF!"}},{"$error":"#REF!"},{"$error":"#REF!"}]
["PSR0274",1.8,1.5,{"$f":"VLOOKUP(A:A,#REF!,2,FALSE)","v":{"$error":"#REF!"}},{"$f":"VLOOKUP(A:A,#REF!,3,FALSE)","v":{"$error":"#REF!"}},{"$error":"#REF!"},{"$error":"#REF!"}]
["PSR0275",1.8,1.5,{"$f":"VLOOKUP(A:A,#REF!,2,FALSE)","v":{"$error":"#REF!"}},{"$f":"VLOOKUP(A:A,#REF!,3,FALSE)","v":{"$error":"#REF!"}},{"$error":"#REF!"},{"$error":"#REF!"}]
["PSR0276",0.32,0.26,{"$f":"VLOOKUP(A:A,#REF!,2,FALSE)","v":{"$error":"#REF!"}},{"$f":"VLOOKUP(A:A,#REF!,3,FALSE)","v":{"$error":"#REF!"}},{"$error":"#REF!"},{"$error":"#REF!"}]
["PSR0277",0.16,0.13,{"$f":"VLOOKUP(A:A,#REF!,2,FALSE)","v":{"$error":"#REF!"}},{"$f":"VLOOKUP(A:A,#REF!,3,FALSE)","v":{"$error":"#REF!"}},{"$error":"#REF!"},{"$error":"#REF!"},"CWE"]
["PSR0350",1.76,1.46,{"$f":"VLOOKUP(A:A,#REF!,2,FALSE)","v":{"$error":"#REF!"}},{"$f":"VLOOKUP(A:A,#REF!,3,FALSE)","v":{"$error":"#REF!"}},{"$error":"#REF!"},{"$error":"#REF!"}]
["PSR0351",0.16,0.13,{"$f":"VLOOKUP(A:A,#REF!,2,FALSE)","v":{"$error":"#REF!"}},{"$f":"VLOOKUP(A:A,#REF!,3,FALSE)","v":{"$error":"#REF!"}},{"$error":"#REF!"},{"$error":"#REF!"}]
["PSR0352",0.64,0.53,{"$f":"VLOOKUP(A:A,#REF!,2,FALSE)","v":{"$error":"#REF!"}},{"$f":"VLOOKUP(A:A,#REF!,3,FALSE)","v":{"$error":"#REF!"}},{"$error":"#REF!"},{"$error":"#REF!"}]
["PSR0353",1.6,1.33,{"$f":"VLOOKUP(A:A,#REF!,2,FALSE)","v":{"$error":"#REF!"}},{"$f":"VLOOKUP(A:A,#REF!,3,FALSE)","v":{"$error":"#REF!"}},{"$error":"#REF!"},{"$error":"#REF!"},"CWE"]
["PSR0354",0.96,0.8,{"$f":"VLOOKUP(A:A,#REF!,2,FALSE)","v":{"$error":"#REF!"}},{"$f":"VLOOKUP(A:A,#REF!,3,FALSE)","v":{"$error":"#REF!"}},{"$error":"#REF!"},{"$error":"#REF!"}]
["PSR0406",1.6,1.33,{"$f":"VLOOKUP(A:A,#REF!,2,FALSE)","v":{"$error":"#REF!"}},{"$f":"VLOOKUP(A:A,#REF!,3,FALSE)","v":{"$error":"#REF!"}},{"$f":"B2436-D2436","v":{"$error":"#REF!"}},{"$f":"C2436-E2436","v":{"$error":"#REF!"}}]
["PSR0409",0.32,0.26,{"$f":"VLOOKUP(A:A,#REF!,2,FALSE)","v":{"$error":"#REF!"}},{"$f":"VLOOKUP(A:A,#REF!,3,FALSE)","v":{"$error":"#REF!"}},{"$error":"#REF!"},{"$error":"#REF!"}]
["PSR0415",0.72,0.6,{"$f":"VLOOKUP(A:A,#REF!,2,FALSE)","v":{"$error":"#REF!"}},{"$f":"VLOOKUP(A:A,#REF!,3,FALSE)","v":{"$error":"#REF!"}},{"$error":"#REF!"},{"$error":"#REF!"}]
["PSR0422",0.32,0.26,{"$f":"VLOOKUP(A:A,#REF!,2,FALSE)","v":{"$error":"#REF!"}},{"$f":"VLOOKUP(A:A,#REF!,3,FALSE)","v":{"$error":"#REF!"}},{"$error":"#REF!"},{"$error":"#REF!"}]
["PSR0447",1.6,1.33,{"$f":"VLOOKUP(A:A,#REF!,2,FALSE)","v":{"$error":"#REF!"}},{"$f":"VLOOKUP(A:A,#REF!,3,FALSE)","v":{"$error":"#REF!"}},{"$error":"#REF!"},{"$error":"#REF!"}]
["PSR0462",0.27,0.27,{"$f":"VLOOKUP(A:A,#REF!,2,FALSE)","v":{"$error":"#REF!"}},{"$f":"VLOOKUP(A:A,#REF!,3,FALSE)","v":{"$error":"#REF!"}},{"$error":"#REF!"},{"$error":"#REF!"}]
["PSR0463",0.16,0.13,{"$f":"VLOOKUP(A:A,#REF!,2,FALSE)","v":{"$error":"#REF!"}},{"$f":"VLOOKUP(A:A,#REF!,3,FALSE)","v":{"$error":"#REF!"}},{"$error":"#REF!"},{"$error":"#REF!"}]
["PSR0481",0.96,0.8,{"$f":"VLOOKUP(A:A,#REF!,2,FALSE)","v":{"$error":"#REF!"}},{"$f":"VLOOKUP(A:A,#REF!,3,FALSE)","v":{"$error":"#REF!"}},{"$error":"#REF!"},{"$error":"#REF!"}]
["PSR0485",0.32,0.26,{"$f":"VLOOKUP(A:A,#REF!,2,FALSE)","v":{"$error":"#REF!"}},{"$f":"VLOOKUP(A:A,#REF!,3,FALSE)","v":{"$error":"#REF!"}},{"$error":"#REF!"},{"$error":"#REF!"}]
["PSR0491",0.96,0.96,{"$f":"VLOOKUP(A:A,#REF!,2,FALSE)","v":{"$error":"#REF!"}},{"$f":"VLOOKUP(A:A,#REF!,3,FALSE)","v":{"$error":"#REF!"}},{"$error":"#REF!"},{"$error":"#REF!"}]
["PSR0602",1.8,1.5,{"$f":"VLOOKUP(A:A,#REF!,2,FALSE)","v":{"$error":"#REF!"}},{"$f":"VLOOKUP(A:A,#REF!,3,FALSE)","v":{"$error":"#REF!"}},{"$error":"#REF!"},{"$error":"#REF!"}]
["PSR0603",0.96,0.8,{"$f":"VLOOKUP(A:A,#REF!,2,FALSE)","v":{"$error":"#REF!"}},{"$f":"VLOOKUP(A:A,#REF!,3,FALSE)","v":{"$error":"#REF!"}},{"$error":"#REF!"},{"$error":"#REF!"}]
["PSR0604",0.16,0.13,{"$f":"VLOOKUP(A:A,#REF!,2,FALSE)","v":{"$error":"#REF!"}},{"$f":"VLOOKUP(A:A,#REF!,3,FALSE)","v":{"$error":"#REF!"}},{"$error":"#REF!"},{"$error":"#REF!"}]
["PSR0605",0.96,0.8,{"$f":"VLOOKUP(A:A,#REF!,2,FALSE)","v":{"$error":"#REF!"}},{"$f":"VLOOKUP(A:A,#REF!,3,FALSE)","v":{"$error":"#REF!"}},{"$error":"#REF!"},{"$error":"#REF!"}]
["PSR0606",0.16,0.13,{"$f":"VLOOKUP(A:A,#REF!,2,FALSE)","v":{"$error":"#REF!"}},{"$f":"VLOOKUP(A:A,#REF!,3,FALSE)","v":{"$error":"#REF!"}},{"$error":"#REF!"},{"$error":"#REF!"}]
["PSR0607",0.32,0.26,{"$f":"VLOOKUP(A:A,#REF!,2,FALSE)","v":{"$error":"#REF!"}},{"$f":"VLOOKUP(A:A,#REF!,3,FALSE)","v":{"$error":"#REF!"}},{"$error":"#REF!"},{"$error":"#REF!"}]
["PSR0608",1.28,1.06,{"$f":"VLOOKUP(A:A,#REF!,2,FALSE)","v":{"$error":"#REF!"}},{"$f":"VLOOKUP(A:A,#REF!,3,FALSE)","v":{"$error":"#REF!"}},{"$error":"#REF!"},{"$error":"#REF!"}]
["PSR0609",0.16,0.13,{"$f":"VLOOKUP(A:A,#REF!,2,FALSE)","v":{"$error":"#REF!"}},{"$f":"VLOOKUP(A:A,#REF!,3,FALSE)","v":{"$error":"#REF!"}},{"$error":"#REF!"},{"$error":"#REF!"}]
["PSR0610",0.16,0.13,{"$f":"VLOOKUP(A:A,#REF!,2,FALSE)","v":{"$error":"#REF!"}},{"$f":"VLOOKUP(A:A,#REF!,3,FALSE)","v":{"$error":"#REF!"}},{"$error":"#REF!"},{"$error":"#REF!"}]
["PSR0650",0.32,0.26,{"$f":"VLOOKUP(A:A,#REF!,2,FALSE)","v":{"$error":"#REF!"}},{"$f":"VLOOKUP(A:A,#REF!,3,FALSE)","v":{"$error":"#REF!"}},{"$error":"#REF!"},{"$error":"#REF!"}]
["PSR0715",0.16,0.13,{"$f":"VLOOKUP(A:A,#REF!,2,FALSE)","v":{"$error":"#REF!"}},{"$f":"VLOOKUP(A:A,#REF!,3,FALSE)","v":{"$error":"#REF!"}},{"$error":"#REF!"},{"$error":"#REF!"}]
["PSR0879",1.6,1.33,{"$f":"VLOOKUP(A:A,#REF!,2,FALSE)","v":{"$error":"#REF!"}},{"$f":"VLOOKUP(A:A,#REF!,3,FALSE)","v":{"$error":"#REF!"}},{"$error":"#REF!"},{"$error":"#REF!"}]
["PSR0895",1.6,1.33,{"$f":"VLOOKUP(A:A,#REF!,2,FALSE)","v":{"$error":"#REF!"}},{"$f":"VLOOKUP(A:A,#REF!,3,FALSE)","v":{"$error":"#REF!"}},{"$error":"#REF!"},{"$error":"#REF!"}]
["PSR0896",2.16,1.8,{"$f":"VLOOKUP(A:A,#REF!,2,FALSE)","v":{"$error":"#REF!"}},{"$f":"VLOOKUP(A:A,#REF!,3,FALSE)","v":{"$error":"#REF!"}},{"$error":"#REF!"},{"$error":"#REF!"}]
["PSR0898",0.72,0.6,{"$f":"VLOOKUP(A:A,#REF!,2,FALSE)","v":{"$error":"#REF!"}},{"$f":"VLOOKUP(A:A,#REF!,3,FALSE)","v":{"$error":"#REF!"}},{"$error":"#REF!"},{"$error":"#REF!"}]
["PSR0901",16.64,13.86,{"$f":"VLOOKUP(A:A,#REF!,2,FALSE)","v":{"$error":"#REF!"}},{"$f":"VLOOKUP(A:A,#REF!,3,FALSE)","v":{"$error":"#REF!"}},{"$error":"#REF!"},{"$error":"#REF!"}]
["PSR0903",0.2,0.16,{"$f":"VLOOKUP(A:A,#REF!,2,FALSE)","v":{"$error":"#REF!"}},{"$f":"VLOOKUP(A:A,#REF!,3,FALSE)","v":{"$error":"#REF!"}},{"$error":"#REF!"},{"$error":"#REF!"}]
["PSR0904",0.4,0.33,{"$f":"VLOOKUP(A:A,#REF!,2,FALSE)","v":{"$error":"#REF!"}},{"$f":"VLOOKUP(A:A,#REF!,3,FALSE)","v":{"$error":"#REF!"}},{"$error":"#REF!"},{"$error":"#REF!"}]
["PSR0905",0.4,0.33,{"$f":"VLOOKUP(A:A,#REF!,2,FALSE)","v":{"$error":"#REF!"}},{"$f":"VLOOKUP(A:A,#REF!,3,FALSE)","v":{"$error":"#REF!"}},{"$error":"#REF!"},{"$error":"#REF!"}]
["PSR0906",0.4,0.33,{"$f":"VLOOKUP(A:A,#REF!,2,FALSE)","v":{"$error":"#REF!"}},{"$f":"VLOOKUP(A:A,#REF!,3,FALSE)","v":{"$error":"#REF!"}},{"$error":"#REF!"},{"$error":"#REF!"}]
["PSR0907",0.4,0.33,{"$f":"VLOOKUP(A:A,#REF!,2,FALSE)","v":{"$error":"#REF!"}},{"$f":"VLOOKUP(A:A,#REF!,3,FALSE)","v":{"$error":"#REF!"}},{"$error":"#REF!"},{"$error":"#REF!"}]
["PSR0909",0.64,0.53,{"$f":"VLOOKUP(A:A,#REF!,2,FALSE)","v":{"$error":"#REF!"}},{"$f":"VLOOKUP(A:A,#REF!,3,FALSE)","v":{"$error":"#REF!"}},{"$error":"#REF!"},{"$error":"#REF!"}]
["PSR0911",0.32,0.26,{"$f":"VLOOKUP(A:A,#REF!,2,FALSE)","v":{"$error":"#REF!"}},{"$f":"VLOOKUP(A:A,#REF!,3,FALSE)","v":{"$error":"#REF!"}},{"$error":"#REF!"},{"$error":"#REF!"}]
["PSR0914",0.2,0.16,{"$f":"VLOOKUP(A:A,#REF!,2,FALSE)","v":{"$error":"#REF!"}},{"$f":"VLOOKUP(A:A,#REF!,3,FALSE)","v":{"$error":"#REF!"}},{"$error":"#REF!"},{"$error":"#REF!"}]
["PSR0915",0.12,0.1,{"$f":"VLOOKUP(A:A,#REF!,2,FALSE)","v":{"$error":"#REF!"}},{"$f":"VLOOKUP(A:A,#REF!,3,FALSE)","v":{"$error":"#REF!"}},{"$error":"#REF!"},{"$error":"#REF!"}]
["PSR0916",1.6,1.33,{"$f":"VLOOKUP(A:A,#REF!,2,FALSE)","v":{"$error":"#REF!"}},{"$f":"VLOOKUP(A:A,#REF!,3,FALSE)","v":{"$error":"#REF!"}},{"$error":"#REF!"},{"$error":"#REF!"}]
["PSR0917",0.88,0.73,{"$f":"VLOOKUP(A:A,#REF!,2,FALSE)","v":{"$error":"#REF!"}},{"$f":"VLOOKUP(A:A,#REF!,3,FALSE)","v":{"$error":"#REF!"}},{"$error":"#REF!"},{"$error":"#REF!"}]
["PSR0918",0.32,0.27,{"$f":"VLOOKUP(A:A,#REF!,2,FALSE)","v":{"$error":"#REF!"}},{"$f":"VLOOKUP(A:A,#REF!,3,FALSE)","v":{"$error":"#REF!"}},{"$error":"#REF!"},{"$error":"#REF!"}]
["PSR0921",0.16,0.13,{"$f":"VLOOKUP(A:A,#REF!,2,FALSE)","v":{"$error":"#REF!"}},{"$f":"VLOOKUP(A:A,#REF!,3,FALSE)","v":{"$error":"#REF!"}},{"$error":"#REF!"},{"$error":"#REF!"}]
["PSR0922",0.4,0.33,{"$f":"VLOOKUP(A:A,#REF!,2,FALSE)","v":{"$error":"#REF!"}},{"$f":"VLOOKUP(A:A,#REF!,3,FALSE)","v":{"$error":"#REF!"}},{"$error":"#REF!"},{"$error":"#REF!"}]
["PSR0923",32,0.26,{"$f":"VLOOKUP(A:A,#REF!,2,FALSE)","v":{"$error":"#REF!"}},{"$f":"VLOOKUP(A:A,#REF!,3,FALSE)","v":{"$error":"#REF!"}},{"$error":"#REF!"},{"$error":"#REF!"}]
["PSR0924",0.32,0.26,{"$f":"VLOOKUP(A:A,#REF!,2,FALSE)","v":{"$error":"#REF!"}},{"$f":"VLOOKUP(A:A,#REF!,3,FALSE)","v":{"$error":"#REF!"}},{"$error":"#REF!"},{"$error":"#REF!"}]
["PSR0926",0.32,0.27,{"$f":"VLOOKUP(A:A,#REF!,2,FALSE)","v":{"$error":"#REF!"}},{"$f":"VLOOKUP(A:A,#REF!,3,FALSE)","v":{"$error":"#REF!"}},{"$error":"#REF!"},{"$error":"#REF!"}]
["PSR0927",0.32,0.27,{"$f":"VLOOKUP(A:A,#REF!,2,FALSE)","v":{"$error":"#REF!"}},{"$f":"VLOOKUP(A:A,#REF!,3,FALSE)","v":{"$error":"#REF!"}},{"$error":"#REF!"},{"$error":"#REF!"}]
["PSR0928",0.32,0.27,{"$f":"VLOOKUP(A:A,#REF!,2,FALSE)","v":{"$error":"#REF!"}},{"$f":"VLOOKUP(A:A,#REF!,3,FALSE)","v":{"$error":"#REF!"}},{"$error":"#REF!"},{"$error":"#REF!"}]
["PSR0929",0.4,0.33,{"$f":"VLOOKUP(A:A,#REF!,2,FALSE)","v":{"$error":"#REF!"}},{"$f":"VLOOKUP(A:A,#REF!,3,FALSE)","v":{"$error":"#REF!"}},{"$error":"#REF!"},{"$error":"#REF!"}]
["PSR0930",0.64,0.53,{"$f":"VLOOKUP(A:A,#REF!,2,FALSE)","v":{"$error":"#REF!"}},{"$f":"VLOOKUP(A:A,#REF!,3,FALSE)","v":{"$error":"#REF!"}},{"$error":"#REF!"},{"$error":"#REF!"}]
["PSR0931",0.32,0.27,{"$f":"VLOOKUP(A:A,#REF!,2,FALSE)","v":{"$error":"#REF!"}},{"$f":"VLOOKUP(A:A,#REF!,3,FALSE)","v":{"$error":"#REF!"}},{"$error":"#REF!"},{"$error":"#REF!"}]
["PSR0932",0.32,0.26,{"$f":"VLOOKUP(A:A,#REF!,2,FALSE)","v":{"$error":"#REF!"}},{"$f":"VLOOKUP(A:A,#REF!,3,FALSE)","v":{"$error":"#REF!"}},{"$error":"#REF!"},{"$error":"#REF!"}]
["PSR0933",0.32,0.26,{"$f":"VLOOKUP(A:A,#REF!,2,FALSE)","v":{"$error":"#REF!"}},{"$f":"VLOOKUP(A:A,#REF!,3,FALSE)","v":{"$error":"#REF!"}},{"$error":"#REF!"},{"$error":"#REF!"}]
["PSR0934",0.32,0.26,{"$f":"VLOOKUP(A:A,#REF!,2,FALSE)","v":{"$error":"#REF!"}},{"$f":"VLOOKUP(A:A,#REF!,3,FALSE)","v":{"$error":"#REF!"}},{"$error":"#REF!"},{"$error":"#REF!"}]
["PSR0935",0.32,0.26,{"$f":"VLOOKUP(A:A,#REF!,2,FALSE)","v":{"$error":"#REF!"}},{"$f":"VLOOKUP(A:A,#REF!,3,FALSE)","v":{"$error":"#REF!"}},{"$error":"#REF!"},{"$error":"#REF!"}]
["PSR0936",0.2,0.16,{"$f":"VLOOKUP(A:A,#REF!,2,FALSE)","v":{"$error":"#REF!"}},{"$f":"VLOOKUP(A:A,#REF!,3,FALSE)","v":{"$error":"#REF!"}},{"$error":"#REF!"},{"$error":"#REF!"}]
["PSR0938",3.2,2.66,{"$f":"VLOOKUP(A:A,#REF!,2,FALSE)","v":{"$error":"#REF!"}},{"$f":"VLOOKUP(A:A,#REF!,3,FALSE)","v":{"$error":"#REF!"}},{"$error":"#REF!"},{"$error":"#REF!"}]
["PSR0939",0.32,0.26,{"$f":"VLOOKUP(A:A,#REF!,2,FALSE)","v":{"$error":"#REF!"}},{"$f":"VLOOKUP(A:A,#REF!,3,FALSE)","v":{"$error":"#REF!"}},{"$error":"#REF!"},{"$error":"#REF!"}]
["PSR0944",0.32,0.27,{"$f":"VLOOKUP(A:A,#REF!,2,FALSE)","v":{"$error":"#REF!"}},{"$f":"VLOOKUP(A:A,#REF!,3,FALSE)","v":{"$error":"#REF!"}},{"$error":"#REF!"},{"$error":"#REF!"}]
["PSR0949",0.32,0.26,{"$f":"VLOOKUP(A:A,#REF!,2,FALSE)","v":{"$error":"#REF!"}},{"$f":"VLOOKUP(A:A,#REF!,3,FALSE)","v":{"$error":"#REF!"}},{"$error":"#REF!"},{"$error":"#REF!"}]
["PSR0953",10,8.3000000000000007,{"$f":"VLOOKUP(A:A,#REF!,2,FALSE)","v":{"$error":"#REF!"}},{"$f":"VLOOKUP(A:A,#REF!,3,FALSE)","v":{"$error":"#REF!"}},{"$error":"#REF!"},{"$error":"#REF!"}]
["PSR0959",0.16,0.13,{"$f":"VLOOKUP(A:A,#REF!,2,FALSE)","v":{"$error":"#REF!"}},{"$f":"VLOOKUP(A:A,#REF!,3,FALSE)","v":{"$error":"#REF!"}},{"$error":"#REF!"},{"$error":"#REF!"}]
["PSR0960",0.32,0.26,{"$f":"VLOOKUP(A:A,#REF!,2,FALSE)","v":{"$error":"#REF!"}},{"$f":"VLOOKUP(A:A,#REF!,3,FALSE)","v":{"$error":"#REF!"}},{"$error":"#REF!"},{"$error":"#REF!"}]
["PSR0962",1.28,1.06,{"$f":"VLOOKUP(A:A,#REF!,2,FALSE)","v":{"$error":"#REF!"}},{"$f":"VLOOKUP(A:A,#REF!,3,FALSE)","v":{"$error":"#REF!"}},{"$error":"#REF!"},{"$error":"#REF!"}]
["PSR0964",0.16,0.13,{"$f":"VLOOKUP(A:A,#REF!,2,FALSE)","v":{"$error":"#REF!"}},{"$f":"VLOOKUP(A:A,#REF!,3,FALSE)","v":{"$error":"#REF!"}},{"$error":"#REF!"},{"$error":"#REF!"}]
["PSR0965",1.6,1.33,{"$f":"VLOOKUP(A:A,#REF!,2,FALSE)","v":{"$error":"#REF!"}},{"$f":"VLOOKUP(A:A,#REF!,3,FALSE)","v":{"$error":"#REF!"}},{"$error":"#REF!"},{"$error":"#REF!"}]
["PSR0966",0.96,0.8,{"$f":"VLOOKUP(A:A,#REF!,2,FALSE)","v":{"$error":"#REF!"}},{"$f":"VLOOKUP(A:A,#REF!,3,FALSE)","v":{"$error":"#REF!"}},{"$error":"#REF!"},{"$error":"#REF!"}]
["PSR0968",0.16,0.13,{"$f":"VLOOKUP(A:A,#REF!,2,FALSE)","v":{"$error":"#REF!"}},{"$f":"VLOOKUP(A:A,#REF!,3,FALSE)","v":{"$error":"#REF!"}},{"$f":"B2500-D2500","v":{"$error":"#REF!"}},{"$f":"C2500-E2500","v":{"$error":"#REF!"}}]
["PSR0969",1.6,1.33,{"$f":"VLOOKUP(A:A,#REF!,2,FALSE)","v":{"$error":"#REF!"}},{"$f":"VLOOKUP(A:A,#REF!,3,FALSE)","v":{"$error":"#REF!"}},{"$error":"#REF!"},{"$error":"#REF!"}]
["PSR0970",1.6,1.33,{"$f":"VLOOKUP(A:A,#REF!,2,FALSE)","v":{"$error":"#REF!"}},{"$f":"VLOOKUP(A:A,#REF!,3,FALSE)","v":{"$error":"#REF!"}},{"$error":"#REF!"},{"$error":"#REF!"}]
["PSR0972",0.96,0.8,{"$f":"VLOOKUP(A:A,#REF!,2,FALSE)","v":{"$error":"#REF!"}},{"$f":"VLOOKUP(A:A,#REF!,3,FALSE)","v":{"$error":"#REF!"}},{"$error":"#REF!"},{"$error":"#REF!"}]
["PSR0977",0.16,0.13,{"$f":"VLOOKUP(A:A,#REF!,2,FALSE)","v":{"$error":"#REF!"}},{"$f":"VLOOKUP(A:A,#REF!,3,FALSE)","v":{"$error":"#REF!"}},{"$error":"#REF!"},{"$error":"#REF!"}]
["PSR0978",1.6,1.33,{"$f":"VLOOKUP(A:A,#REF!,2,FALSE)","v":{"$error":"#REF!"}},{"$f":"VLOOKUP(A:A,#REF!,3,FALSE)","v":{"$error":"#REF!"}},{"$error":"#REF!"},{"$error":"#REF!"}]
["PSR0980",1.1200000000000001,0.93,{"$f":"VLOOKUP(A:A,#REF!,2,FALSE)","v":{"$error":"#REF!"}},{"$f":"VLOOKUP(A:A,#REF!,3,FALSE)","v":{"$error":"#REF!"}},{"$error":"#REF!"},{"$error":"#REF!"}]
["PSR0982",0.16,0.13,{"$f":"VLOOKUP(A:A,#REF!,2,FALSE)","v":{"$error":"#REF!"}},{"$f":"VLOOKUP(A:A,#REF!,3,FALSE)","v":{"$error":"#REF!"}},{"$error":"#REF!"},{"$error":"#REF!"}]
["PSR0985",0.72,0.6,{"$f":"VLOOKUP(A:A,#REF!,2,FALSE)","v":{"$error":"#REF!"}},{"$f":"VLOOKUP(A:A,#REF!,3,FALSE)","v":{"$error":"#REF!"}},{"$error":"#REF!"},{"$error":"#REF!"}]
["PSY1012",3,3,{"$f":"VLOOKUP(A:A,#REF!,2,FALSE)","v":{"$error":"#REF!"}},{"$f":"VLOOKUP(A:A,#REF!,3,FALSE)","v":{"$error":"#REF!"}},{"$error":"#REF!"},{"$error":"#REF!"}]
["PSY1050",3,3,{"$f":"VLOOKUP(A:A,#REF!,2,FALSE)","v":{"$error":"#REF!"}},{"$f":"VLOOKUP(A:A,#REF!,3,FALSE)","v":{"$error":"#REF!"}},{"$error":"#REF!"},{"$error":"#REF!"}]
["PSY2861",3,3,{"$f":"VLOOKUP(A:A,#REF!,2,FALSE)","v":{"$error":"#REF!"}},{"$f":"VLOOKUP(A:A,#REF!,3,FALSE)","v":{"$error":"#REF!"}},{"$error":"#REF!"},{"$error":"#REF!"}]
["PTN0084",11.2,9.33,{"$f":"VLOOKUP(A:A,#REF!,2,FALSE)","v":{"$error":"#REF!"}},{"$f":"VLOOKUP(A:A,#REF!,3,FALSE)","v":{"$error":"#REF!"}},{"$error":"#REF!"},{"$error":"#REF!"}]
["PTN0084L",3.2,2.67,{"$f":"VLOOKUP(A:A,#REF!,2,FALSE)","v":{"$error":"#REF!"}},{"$f":"VLOOKUP(A:A,#REF!,3,FALSE)","v":{"$error":"#REF!"}},{"$error":"#REF!"},{"$error":"#REF!"}]
["PTN0085",4.8,4,{"$f":"VLOOKUP(A:A,#REF!,2,FALSE)","v":{"$error":"#REF!"}},{"$f":"VLOOKUP(A:A,#REF!,3,FALSE)","v":{"$error":"#REF!"}},{"$error":"#REF!"},{"$error":"#REF!"}]
["PTN0085L",7.2,6,{"$f":"VLOOKUP(A:A,#REF!,2,FALSE)","v":{"$error":"#REF!"}},{"$f":"VLOOKUP(A:A,#REF!,3,FALSE)","v":{"$error":"#REF!"}},{"$error":"#REF!"},{"$error":"#REF!"}]
["PTN0086",2,1.67,{"$f":"VLOOKUP(A:A,#REF!,2,FALSE)","v":{"$error":"#REF!"}},{"$f":"VLOOKUP(A:A,#REF!,3,FALSE)","v":{"$error":"#REF!"}},{"$error":"#REF!"},{"$error":"#REF!"}]
["PTN0086L",10,8.33,{"$f":"VLOOKUP(A:A,#REF!,2,FALSE)","v":{"$error":"#REF!"}},{"$f":"VLOOKUP(A:A,#REF!,3,FALSE)","v":{"$error":"#REF!"}},{"$error":"#REF!"},{"$error":"#REF!"}]
["PUR3801",3,3,{"$f":"VLOOKUP(A:A,#REF!,2,FALSE)","v":{"$error":"#REF!"}},{"$f":"VLOOKUP(A:A,#REF!,3,FALSE)","v":{"$error":"#REF!"}},{"$error":"#REF!"},{"$error":"#REF!"}]
["QMB2100",3,3,{"$f":"VLOOKUP(A:A,#REF!,2,FALSE)","v":{"$error":"#REF!"}},{"$f":"VLOOKUP(A:A,#REF!,3,FALSE)","v":{"$error":"#REF!"}},{"$error":"#REF!"},{"$error":"#REF!"}]
["QMB3250",3,3,{"$f":"VLOOKUP(A:A,#REF!,2,FALSE)","v":{"$error":"#REF!"}},{"$f":"VLOOKUP(A:A,#REF!,3,FALSE)","v":{"$error":"#REF!"}},{"$error":"#REF!"},{"$error":"#REF!"}]
["RAT1001",3,3,{"$f":"VLOOKUP(A:A,#REF!,2,FALSE)","v":{"$error":"#REF!"}},{"$f":"VLOOKUP(A:A,#REF!,3,FALSE)","v":{"$error":"#REF!"}},{"$error":"#REF!"},{"$error":"#REF!"}]
["RAT1021",2,2,{"$f":"VLOOKUP(A:A,#REF!,2,FALSE)","v":{"$error":"#REF!"}},{"$f":"VLOOKUP(A:A,#REF!,3,FALSE)","v":{"$error":"#REF!"}},{"$error":"#REF!"},{"$error":"#REF!"}]
["RAT1803",0.01,0.01,{"$f":"VLOOKUP(A:A,#REF!,2,FALSE)","v":{"$error":"#REF!"}},{"$f":"VLOOKUP(A:A,#REF!,3,FALSE)","v":{"$error":"#REF!"}},{"$error":"#REF!"},{"$error":"#REF!"}]
["RAT2061",3,3,{"$f":"VLOOKUP(A:A,#REF!,2,FALSE)","v":{"$error":"#REF!"}},{"$f":"VLOOKUP(A:A,#REF!,3,FALSE)","v":{"$error":"#REF!"}},{"$error":"#REF!"},{"$error":"#REF!"}]
["RAT2123",3,3,{"$f":"VLOOKUP(A:A,#REF!,2,FALSE)","v":{"$error":"#REF!"}},{"$f":"VLOOKUP(A:A,#REF!,3,FALSE)","v":{"$error":"#REF!"}},{"$error":"#REF!"},{"$error":"#REF!"}]
["RAT2241",3,3,{"$f":"VLOOKUP(A:A,#REF!,2,FALSE)","v":{"$error":"#REF!"}},{"$f":"VLOOKUP(A:A,#REF!,3,FALSE)","v":{"$error":"#REF!"}},{"$error":"#REF!"},{"$error":"#REF!"}]
["RAT2242",3,3,{"$f":"VLOOKUP(A:A,#REF!,2,FALSE)","v":{"$error":"#REF!"}},{"$f":"VLOOKUP(A:A,#REF!,3,FALSE)","v":{"$error":"#REF!"}},{"$error":"#REF!"},{"$error":"#REF!"}]
["RAT2243",3,3,{"$f":"VLOOKUP(A:A,#REF!,2,FALSE)","v":{"$error":"#REF!"}},{"$f":"VLOOKUP(A:A,#REF!,3,FALSE)","v":{"$error":"#REF!"}},{"$error":"#REF!"},{"$error":"#REF!"}]
["RAT2614",3,3,{"$f":"VLOOKUP(A:A,#REF!,2,FALSE)","v":{"$error":"#REF!"}},{"$f":"VLOOKUP(A:A,#REF!,3,FALSE)","v":{"$error":"#REF!"}},{"$error":"#REF!"},{"$error":"#REF!"}]
["RAT2618",3,3,{"$f":"VLOOKUP(A:A,#REF!,2,FALSE)","v":{"$error":"#REF!"}},{"$f":"VLOOKUP(A:A,#REF!,3,FALSE)","v":{"$error":"#REF!"}},{"$error":"#REF!"},{"$error":"#REF!"}]
["RAT2651",4,4,{"$f":"VLOOKUP(A:A,#REF!,2,FALSE)","v":{"$error":"#REF!"}},{"$f":"VLOOKUP(A:A,#REF!,3,FALSE)","v":{"$error":"#REF!"}},{"$error":"#REF!"},{"$error":"#REF!"},"AcGRP 80 CWE"]
["RAT2832",0.01,0.01,{"$f":"VLOOKUP(A:A,#REF!,2,FALSE)","v":{"$error":"#REF!"}},{"$f":"VLOOKUP(A:A,#REF!,3,FALSE)","v":{"$error":"#REF!"}},{"$error":"#REF!"},{"$error":"#REF!"},"AcGRP 80 CWE"]
["RAT2833",0.01,0.01,{"$f":"VLOOKUP(A:A,#REF!,2,FALSE)","v":{"$error":"#REF!"}},{"$f":"VLOOKUP(A:A,#REF!,3,FALSE)","v":{"$error":"#REF!"}},{"$error":"#REF!"},{"$error":"#REF!"},"AcGRP 80 CWE"]
["RAT2834",0.01,0.01,{"$f":"VLOOKUP(A:A,#REF!,2,FALSE)","v":{"$error":"#REF!"}},{"$f":"VLOOKUP(A:A,#REF!,3,FALSE)","v":{"$error":"#REF!"}},{"$error":"#REF!"},{"$error":"#REF!"}]
["REA0007",4,4,{"$f":"VLOOKUP(A:A,#REF!,2,FALSE)","v":{"$error":"#REF!"}},{"$f":"VLOOKUP(A:A,#REF!,3,FALSE)","v":{"$error":"#REF!"}},{"$error":"#REF!"},{"$error":"#REF!"}]
["REA0017",4,4,{"$f":"VLOOKUP(A:A,#REF!,2,FALSE)","v":{"$error":"#REF!"}},{"$f":"VLOOKUP(A:A,#REF!,3,FALSE)","v":{"$error":"#REF!"}},{"$error":"#REF!"},{"$error":"#REF!"}]
["REA0022",5,5,{"$f":"VLOOKUP(A:A,#REF!,2,FALSE)","v":{"$error":"#REF!"}},{"$f":"VLOOKUP(A:A,#REF!,3,FALSE)","v":{"$error":"#REF!"}},{"$error":"#REF!"},{"$error":"#REF!"}]
["REA0055",1,1,{"$f":"VLOOKUP(A:A,#REF!,2,FALSE)","v":{"$error":"#REF!"}},{"$f":"VLOOKUP(A:A,#REF!,3,FALSE)","v":{"$error":"#REF!"}},{"$error":"#REF!"},{"$error":"#REF!"}]
["REA0056",2,2,{"$f":"VLOOKUP(A:A,#REF!,2,FALSE)","v":{"$error":"#REF!"}},{"$f":"VLOOKUP(A:A,#REF!,3,FALSE)","v":{"$error":"#REF!"}},{"$error":"#REF!"},{"$error":"#REF!"}]
["REA1105",3,3,{"$f":"VLOOKUP(A:A,#REF!,2,FALSE)","v":{"$error":"#REF!"}},{"$f":"VLOOKUP(A:A,#REF!,3,FALSE)","v":{"$error":"#REF!"}},{"$error":"#REF!"},{"$error":"#REF!"}]
["RED4511",3,3,{"$f":"VLOOKUP(A:A,#REF!,2,FALSE)","v":{"$error":"#REF!"}},{"$f":"VLOOKUP(A:A,#REF!,3,FALSE)","v":{"$error":"#REF!"}},{"$error":"#REF!"},{"$error":"#REF!"}]
["RED4541",3,3,{"$f":"VLOOKUP(A:A,#REF!,2,FALSE)","v":{"$error":"#REF!"}},{"$f":"VLOOKUP(A:A,#REF!,3,FALSE)","v":{"$error":"#REF!"}},{"$error":"#REF!"},{"$error":"#REF!"}]
["RED4941C",3.01,3.01,{"$f":"VLOOKUP(A:A,#REF!,2,FALSE)","v":{"$error":"#REF!"}},{"$f":"VLOOKUP(A:A,#REF!,3,FALSE)","v":{"$error":"#REF!"}},{"$error":"#REF!"},{"$error":"#REF!"}]
["REE0093",0.8,0.67,{"$f":"VLOOKUP(A:A,#REF!,2,FALSE)","v":{"$error":"#REF!"}},{"$f":"VLOOKUP(A:A,#REF!,3,FALSE)","v":{"$error":"#REF!"}},{"$error":"#REF!"},{"$error":"#REF!"}]
["REL2000",3,3,{"$f":"VLOOKUP(A:A,#REF!,2,FALSE)","v":{"$error":"#REF!"}},{"$f":"VLOOKUP(A:A,#REF!,3,FALSE)","v":{"$error":"#REF!"}},{"$error":"#REF!"},{"$error":"#REF!"}]
["REL2210",3,3,{"$f":"VLOOKUP(A:A,#REF!,2,FALSE)","v":{"$error":"#REF!"}},{"$f":"VLOOKUP(A:A,#REF!,3,FALSE)","v":{"$error":"#REF!"}},{"$error":"#REF!"},{"$error":"#REF!"}]
["REL2240",3,3,{"$f":"VLOOKUP(A:A,#REF!,2,FALSE)","v":{"$error":"#REF!"}},{"$f":"VLOOKUP(A:A,#REF!,3,FALSE)","v":{"$error":"#REF!"}},{"$error":"#REF!"},{"$error":"#REF!"}]
["REL2300",3,3,{"$f":"VLOOKUP(A:A,#REF!,2,FALSE)","v":{"$error":"#REF!"}},{"$f":"VLOOKUP(A:A,#REF!,3,FALSE)","v":{"$error":"#REF!"}},{"$error":"#REF!"},{"$error":"#REF!"}]
["RET1008",2,2,{"$f":"VLOOKUP(A:A,#REF!,2,FALSE)","v":{"$error":"#REF!"}},{"$f":"VLOOKUP(A:A,#REF!,3,FALSE)","v":{"$error":"#REF!"}},{"$error":"#REF!"},{"$error":"#REF!"}]
["RET1024",4,4,{"$f":"VLOOKUP(A:A,#REF!,2,FALSE)","v":{"$error":"#REF!"}},{"$f":"VLOOKUP(A:A,#REF!,3,FALSE)","v":{"$error":"#REF!"}},{"$error":"#REF!"},{"$error":"#REF!"}]
["RET1276",2,2,{"$f":"VLOOKUP(A:A,#REF!,2,FALSE)","v":{"$error":"#REF!"}},{"$f":"VLOOKUP(A:A,#REF!,3,FALSE)","v":{"$error":"#REF!"}},{"$error":"#REF!"},{"$error":"#REF!"}]
["RET1450",2,2,{"$f":"VLOOKUP(A:A,#REF!,2,FALSE)","v":{"$error":"#REF!"}},{"$f":"VLOOKUP(A:A,#REF!,3,FALSE)","v":{"$error":"#REF!"}},{"$error":"#REF!"},{"$error":"#REF!"}]
["RET1485",4,4,{"$f":"VLOOKUP(A:A,#REF!,2,FALSE)","v":{"$error":"#REF!"}},{"$f":"VLOOKUP(A:A,#REF!,3,FALSE)","v":{"$error":"#REF!"}},{"$error":"#REF!"},{"$error":"#REF!"}]
["RET1824",6,4.8,{"$f":"VLOOKUP(A:A,#REF!,2,FALSE)","v":{"$error":"#REF!"}},{"$f":"VLOOKUP(A:A,#REF!,3,FALSE)","v":{"$error":"#REF!"}},{"$error":"#REF!"},{"$error":"#REF!"}]
["RET2264C",5,4.5999999999999996,{"$f":"VLOOKUP(A:A,#REF!,2,FALSE)","v":{"$error":"#REF!"}},{"$f":"VLOOKUP(A:A,#REF!,3,FALSE)","v":{"$error":"#REF!"}},{"$error":"#REF!"},{"$error":"#REF!"}]
["RET2265",2,2,{"$f":"VLOOKUP(A:A,#REF!,2,FALSE)","v":{"$error":"#REF!"}},{"$f":"VLOOKUP(A:A,#REF!,3,FALSE)","v":{"$error":"#REF!"}},{"$error":"#REF!"},{"$error":"#REF!"}]
["RET2272",9,7.2,{"$f":"VLOOKUP(A:A,#REF!,2,FALSE)","v":{"$error":"#REF!"}},{"$f":"VLOOKUP(A:A,#REF!,3,FALSE)","v":{"$error":"#REF!"}},{"$error":"#REF!"},{"$error":"#REF!"}]
["RET2272L",2,1.6,{"$f":"VLOOKUP(A:A,#REF!,2,FALSE)","v":{"$error":"#REF!"}},{"$f":"VLOOKUP(A:A,#REF!,3,FALSE)","v":{"$error":"#REF!"}},{"$error":"#REF!"},{"$error":"#REF!"}]
["RET2350",3,2,{"$f":"VLOOKUP(A:A,#REF!,2,FALSE)","v":{"$error":"#REF!"}},{"$f":"VLOOKUP(A:A,#REF!,3,FALSE)","v":{"$error":"#REF!"}},{"$error":"#REF!"},{"$error":"#REF!"}]
["RET2484",4,4,{"$f":"VLOOKUP(A:A,#REF!,2,FALSE)","v":{"$error":"#REF!"}},{"$f":"VLOOKUP(A:A,#REF!,3,FALSE)","v":{"$error":"#REF!"}},{"$error":"#REF!"},{"$error":"#REF!"}]
["RET2520",2,2,{"$f":"VLOOKUP(A:A,#REF!,2,FALSE)","v":{"$error":"#REF!"}},{"$f":"VLOOKUP(A:A,#REF!,3,FALSE)","v":{"$error":"#REF!"}},{"$error":"#REF!"},{"$error":"#REF!"}]
["RET2714",2,2,{"$f":"VLOOKUP(A:A,#REF!,2,FALSE)","v":{"$error":"#REF!"}},{"$f":"VLOOKUP(A:A,#REF!,3,FALSE)","v":{"$error":"#REF!"}},{"$error":"#REF!"},{"$error":"#REF!"}]
["RET2834",18,14.4,{"$f":"VLOOKUP(A:A,#REF!,2,FALSE)","v":{"$error":"#REF!"}},{"$f":"VLOOKUP(A:A,#REF!,3,FALSE)","v":{"$error":"#REF!"}},{"$error":"#REF!"},{"$error":"#REF!"}]
["RET2835",18,14.4,{"$f":"VLOOKUP(A:A,#REF!,2,FALSE)","v":{"$error":"#REF!"}},{"$f":"VLOOKUP(A:A,#REF!,3,FALSE)","v":{"$error":"#REF!"}},{"$f":"B2564-D2564","v":{"$error":"#REF!"}},{"$f":"C2564-E2564","v":{"$error":"#REF!"}}]
["RET2930",4,4,{"$f":"VLOOKUP(A:A,#REF!,2,FALSE)","v":{"$error":"#REF!"}},{"$f":"VLOOKUP(A:A,#REF!,3,FALSE)","v":{"$error":"#REF!"}},{"$error":"#REF!"},{"$error":"#REF!"}]
["RET2931",4,4,{"$f":"VLOOKUP(A:A,#REF!,2,FALSE)","v":{"$error":"#REF!"}},{"$f":"VLOOKUP(A:A,#REF!,3,FALSE)","v":{"$error":"#REF!"}},{"$error":"#REF!"},{"$error":"#REF!"}]
["RMI0070",1.2,1,{"$f":"VLOOKUP(A:A,#REF!,2,FALSE)","v":{"$error":"#REF!"}},{"$f":"VLOOKUP(A:A,#REF!,3,FALSE)","v":{"$error":"#REF!"}},{"$error":"#REF!"},{"$error":"#REF!"},"AcGRP 04 CWE"]
["RMI0071",2.4,2,{"$f":"VLOOKUP(A:A,#REF!,2,FALSE)","v":{"$error":"#REF!"}},{"$f":"VLOOKUP(A:A,#REF!,3,FALSE)","v":{"$error":"#REF!"}},{"$error":"#REF!"},{"$error":"#REF!"}]
["RMI0093",1.6,1.33,{"$f":"VLOOKUP(A:A,#REF!,2,FALSE)","v":{"$error":"#REF!"}},{"$f":"VLOOKUP(A:A,#REF!,3,FALSE)","v":{"$error":"#REF!"}},{"$error":"#REF!"},{"$error":"#REF!"}]
["RMI0601",8,6.66,{"$f":"VLOOKUP(A:A,#REF!,2,FALSE)","v":{"$error":"#REF!"}},{"$f":"VLOOKUP(A:A,#REF!,3,FALSE)","v":{"$error":"#REF!"}},{"$error":"#REF!"},{"$error":"#REF!"}]
["RMI0603",2.4,2,{"$f":"VLOOKUP(A:A,#REF!,2,FALSE)","v":{"$error":"#REF!"}},{"$f":"VLOOKUP(A:A,#REF!,3,FALSE)","v":{"$error":"#REF!"}},{"$error":"#REF!"},{"$error":"#REF!"}]
["RMI0635",1.6,1.33,{"$f":"VLOOKUP(A:A,#REF!,2,FALSE)","v":{"$error":"#REF!"}},{"$f":"VLOOKUP(A:A,#REF!,3,FALSE)","v":{"$error":"#REF!"}},{"$error":"#REF!"},{"$error":"#REF!"}]
["RMI1521",3,3,{"$f":"VLOOKUP(A:A,#REF!,2,FALSE)","v":{"$error":"#REF!"}},{"$f":"VLOOKUP(A:A,#REF!,3,FALSE)","v":{"$error":"#REF!"}},{"$error":"#REF!"},{"$error":"#REF!"}]
["RTE1110",3,3,{"$f":"VLOOKUP(A:A,#REF!,2,FALSE)","v":{"$error":"#REF!"}},{"$f":"VLOOKUP(A:A,#REF!,3,FALSE)","v":{"$error":"#REF!"}},{"$error":"#REF!"},{"$error":"#REF!"}]
["RTE1418C",3,2.8,{"$f":"VLOOKUP(A:A,#REF!,2,FALSE)","v":{"$error":"#REF!"}},{"$f":"VLOOKUP(A:A,#REF!,3,FALSE)","v":{"$error":"#REF!"}},{"$error":"#REF!"},{"$error":"#REF!"}]
["RTE1457C",3,3,{"$f":"VLOOKUP(A:A,#REF!,2,FALSE)","v":{"$error":"#REF!"}},{"$f":"VLOOKUP(A:A,#REF!,3,FALSE)","v":{"$error":"#REF!"}},{"$error":"#REF!"},{"$error":"#REF!"}]
["RTE1503C",3,2.8,{"$f":"VLOOKUP(A:A,#REF!,2,FALSE)","v":{"$error":"#REF!"}},{"$f":"VLOOKUP(A:A,#REF!,3,FALSE)","v":{"$error":"#REF!"}},{"$error":"#REF!"},{"$error":"#REF!"}]
["RTE1513C",3,2.8,{"$f":"VLOOKUP(A:A,#REF!,2,FALSE)","v":{"$error":"#REF!"}},{"$f":"VLOOKUP(A:A,#REF!,3,FALSE)","v":{"$error":"#REF!"}},{"$error":"#REF!"},{"$error":"#REF!"}]
["RTE1613",3,3,{"$f":"VLOOKUP(A:A,#REF!,2,FALSE)","v":{"$error":"#REF!"}},{"$f":"VLOOKUP(A:A,#REF!,3,FALSE)","v":{"$error":"#REF!"}},{"$error":"#REF!"},{"$error":"#REF!"}]
["RTE1623",3,3,{"$f":"VLOOKUP(A:A,#REF!,2,FALSE)","v":{"$error":"#REF!"}},{"$f":"VLOOKUP(A:A,#REF!,3,FALSE)","v":{"$error":"#REF!"}},{"$error":"#REF!"},{"$error":"#REF!"}]
["RTE1804L",0.01,0.01,{"$f":"VLOOKUP(A:A,#REF!,2,FALSE)","v":{"$error":"#REF!"}},{"$f":"VLOOKUP(A:A,#REF!,3,FALSE)","v":{"$error":"#REF!"}},{"$error":"#REF!"},{"$error":"#REF!"}]
["RTE1814L",0.01,0.01,{"$f":"VLOOKUP(A:A,#REF!,2,FALSE)","v":{"$error":"#REF!"}},{"$f":"VLOOKUP(A:A,#REF!,3,FALSE)","v":{"$error":"#REF!"}},{"$error":"#REF!"},{"$error":"#REF!"}]
["RTE1824L",0.01,0.01,{"$f":"VLOOKUP(A:A,#REF!,2,FALSE)","v":{"$error":"#REF!"}},{"$f":"VLOOKUP(A:A,#REF!,3,FALSE)","v":{"$error":"#REF!"}},{"$error":"#REF!"},{"$error":"#REF!"}]
["RTE1834L",0.01,0.01,{"$f":"VLOOKUP(A:A,#REF!,2,FALSE)","v":{"$error":"#REF!"}},{"$f":"VLOOKUP(A:A,#REF!,3,FALSE)","v":{"$error":"#REF!"}},{"$error":"#REF!"},{"$error":"#REF!"}]
["RTE1844L",0.01,0.01,{"$f":"VLOOKUP(A:A,#REF!,2,FALSE)","v":{"$error":"#REF!"}},{"$f":"VLOOKUP(A:A,#REF!,3,FALSE)","v":{"$error":"#REF!"}},{"$error":"#REF!"},{"$error":"#REF!"}]
["RTE2061",3,3,{"$f":"VLOOKUP(A:A,#REF!,2,FALSE)","v":{"$error":"#REF!"}},{"$f":"VLOOKUP(A:A,#REF!,3,FALSE)","v":{"$error":"#REF!"}},{"$error":"#REF!"},{"$error":"#REF!"}]
["RTE2782",3,3,{"$f":"VLOOKUP(A:A,#REF!,2,FALSE)","v":{"$error":"#REF!"}},{"$f":"VLOOKUP(A:A,#REF!,3,FALSE)","v":{"$error":"#REF!"}},{"$error":"#REF!"},{"$error":"#REF!"}]
["RTE44444",0.01,0.01,{"$f":"VLOOKUP(A:A,#REF!,2,FALSE)","v":{"$error":"#REF!"}},{"$f":"VLOOKUP(A:A,#REF!,3,FALSE)","v":{"$error":"#REF!"}},{"$error":"#REF!"},{"$error":"#REF!"}]
["RTV2000",3,3,{"$f":"VLOOKUP(A:A,#REF!,2,FALSE)","v":{"$error":"#REF!"}},{"$f":"VLOOKUP(A:A,#REF!,3,FALSE)","v":{"$error":"#REF!"}},{"$error":"#REF!"},{"$error":"#REF!"}]
["RTV2512",4,4,{"$f":"VLOOKUP(A:A,#REF!,2,FALSE)","v":{"$error":"#REF!"}},{"$f":"VLOOKUP(A:A,#REF!,3,FALSE)","v":{"$error":"#REF!"}},{"$error":"#REF!"},{"$error":"#REF!"}]
["RTV2540",4,3.7,{"$f":"VLOOKUP(A:A,#REF!,2,FALSE)","v":{"$error":"#REF!"}},{"$f":"VLOOKUP(A:A,#REF!,3,FALSE)","v":{"$error":"#REF!"}},{"$error":"#REF!"},{"$error":"#REF!"}]
["RTV3542C",4,4,{"$f":"VLOOKUP(A:A,#REF!,2,FALSE)","v":{"$error":"#REF!"}},{"$f":"VLOOKUP(A:A,#REF!,3,FALSE)","v":{"$error":"#REF!"}},{"$error":"#REF!"},{"$error":"#REF!"}]
["RTV3581C",4,4,{"$f":"VLOOKUP(A:A,#REF!,2,FALSE)","v":{"$error":"#REF!"}},{"$f":"VLOOKUP(A:A,#REF!,3,FALSE)","v":{"$error":"#REF!"}},{"$error":"#REF!"},{"$error":"#REF!"}]
["RTV4403",3,3,{"$f":"VLOOKUP(A:A,#REF!,2,FALSE)","v":{"$error":"#REF!"}},{"$f":"VLOOKUP(A:A,#REF!,3,FALSE)","v":{"$error":"#REF!"}},{"$error":"#REF!"},{"$error":"#REF!"}]
["SBC0009",0,0,{"$f":"VLOOKUP(A:A,#REF!,2,FALSE)","v":{"$error":"#REF!"}},{"$f":"VLOOKUP(A:A,#REF!,3,FALSE)","v":{"$error":"#REF!"}},{"$error":"#REF!"},{"$error":"#REF!"}]
["SBC0107",0,0,{"$f":"VLOOKUP(A:A,#REF!,2,FALSE)","v":{"$error":"#REF!"}},{"$f":"VLOOKUP(A:A,#REF!,3,FALSE)","v":{"$error":"#REF!"}},{"$error":"#REF!"},{"$error":"#REF!"}]
["SBC1172",0,0,{"$f":"VLOOKUP(A:A,#REF!,2,FALSE)","v":{"$error":"#REF!"}},{"$f":"VLOOKUP(A:A,#REF!,3,FALSE)","v":{"$error":"#REF!"}},{"$error":"#REF!"},{"$error":"#REF!"}]
["SLS0005",4,4,{"$f":"VLOOKUP(A:A,#REF!,2,FALSE)","v":{"$error":"#REF!"}},{"$f":"VLOOKUP(A:A,#REF!,3,FALSE)","v":{"$error":"#REF!"}},{"$error":"#REF!"},{"$error":"#REF!"}]
["SLS0460",6,5,{"$f":"VLOOKUP(A:A,#REF!,2,FALSE)","v":{"$error":"#REF!"}},{"$f":"VLOOKUP(A:A,#REF!,3,FALSE)","v":{"$error":"#REF!"}},{"$error":"#REF!"},{"$error":"#REF!"}]
["SLS0461",6,5,{"$f":"VLOOKUP(A:A,#REF!,2,FALSE)","v":{"$error":"#REF!"}},{"$f":"VLOOKUP(A:A,#REF!,3,FALSE)","v":{"$error":"#REF!"}},{"$error":"#REF!"},{"$error":"#REF!"}]
["SLS0462",6,5,{"$f":"VLOOKUP(A:A,#REF!,2,FALSE)","v":{"$error":"#REF!"}},{"$f":"VLOOKUP(A:A,#REF!,3,FALSE)","v":{"$error":"#REF!"}},{"$error":"#REF!"},{"$error":"#REF!"}]
["SLS1101",2,2,{"$f":"VLOOKUP(A:A,#REF!,2,FALSE)","v":{"$error":"#REF!"}},{"$f":"VLOOKUP(A:A,#REF!,3,FALSE)","v":{"$error":"#REF!"}},{"$error":"#REF!"},{"$error":"#REF!"}]
["SLS1102",2,2,{"$f":"VLOOKUP(A:A,#REF!,2,FALSE)","v":{"$error":"#REF!"}},{"$f":"VLOOKUP(A:A,#REF!,3,FALSE)","v":{"$error":"#REF!"}},{"$error":"#REF!"},{"$error":"#REF!"}]
["SLS1103",3,3,{"$f":"VLOOKUP(A:A,#REF!,2,FALSE)","v":{"$error":"#REF!"}},{"$f":"VLOOKUP(A:A,#REF!,3,FALSE)","v":{"$error":"#REF!"}},{"$error":"#REF!"},{"$error":"#REF!"}]
["SLS1200",2,2,{"$f":"VLOOKUP(A:A,#REF!,2,FALSE)","v":{"$error":"#REF!"}},{"$f":"VLOOKUP(A:A,#REF!,3,FALSE)","v":{"$error":"#REF!"}},{"$error":"#REF!"},{"$error":"#REF!"}]
["SLS1301",2,2,{"$f":"VLOOKUP(A:A,#REF!,2,FALSE)","v":{"$error":"#REF!"}},{"$f":"VLOOKUP(A:A,#REF!,3,FALSE)","v":{"$error":"#REF!"}},{"$error":"#REF!"},{"$error":"#REF!"}]
["SLS1304",2,2,{"$f":"VLOOKUP(A:A,#REF!,2,FALSE)","v":{"$error":"#REF!"}},{"$f":"VLOOKUP(A:A,#REF!,3,FALSE)","v":{"$error":"#REF!"}},{"$error":"#REF!"},{"$error":"#REF!"}]
["SLS1371",1,1,{"$f":"VLOOKUP(A:A,#REF!,2,FALSE)","v":{"$error":"#REF!"}},{"$f":"VLOOKUP(A:A,#REF!,3,FALSE)","v":{"$error":"#REF!"}},{"$error":"#REF!"},{"$error":"#REF!"}]
["SLS1401",1,0.5,{"$f":"VLOOKUP(A:A,#REF!,2,FALSE)","v":{"$error":"#REF!"}},{"$f":"VLOOKUP(A:A,#REF!,3,FALSE)","v":{"$error":"#REF!"}},{"$error":"#REF!"},{"$error":"#REF!"}]
["SLS1570",2,2,{"$f":"VLOOKUP(A:A,#REF!,2,FALSE)","v":{"$error":"#REF!"}},{"$f":"VLOOKUP(A:A,#REF!,3,FALSE)","v":{"$error":"#REF!"}},{"$error":"#REF!"},{"$error":"#REF!"}]
["SLS1931",1,1,{"$f":"VLOOKUP(A:A,#REF!,2,FALSE)","v":{"$error":"#REF!"}},{"$f":"VLOOKUP(A:A,#REF!,3,FALSE)","v":{"$error":"#REF!"}},{"$error":"#REF!"},{"$error":"#REF!"}]
["SLS1932",2,2,{"$f":"VLOOKUP(A:A,#REF!,2,FALSE)","v":{"$error":"#REF!"}},{"$f":"VLOOKUP(A:A,#REF!,3,FALSE)","v":{"$error":"#REF!"}},{"$error":"#REF!"},{"$error":"#REF!"}]
["SLS2604",2,2,{"$f":"VLOOKUP(A:A,#REF!,2,FALSE)","v":{"$error":"#REF!"}},{"$f":"VLOOKUP(A:A,#REF!,3,FALSE)","v":{"$error":"#REF!"}},{"$error":"#REF!"},{"$error":"#REF!"}]
["SOP2721",3,3,{"$f":"VLOOKUP(A:A,#REF!,2,FALSE)","v":{"$error":"#REF!"}},{"$f":"VLOOKUP(A:A,#REF!,3,FALSE)","v":{"$error":"#REF!"}},{"$error":"#REF!"},{"$error":"#REF!"}]
["SOP2740",3,3,{"$f":"VLOOKUP(A:A,#REF!,2,FALSE)","v":{"$error":"#REF!"}},{"$f":"VLOOKUP(A:A,#REF!,3,FALSE)","v":{"$error":"#REF!"}},{"$error":"#REF!"},{"$error":"#REF!"}]
["SOP2772",3,3,{"$f":"VLOOKUP(A:A,#REF!,2,FALSE)","v":{"$error":"#REF!"}},{"$f":"VLOOKUP(A:A,#REF!,3,FALSE)","v":{"$error":"#REF!"}},{"$error":"#REF!"},{"$error":"#REF!"}]
["SPC2017",3,3,{"$f":"VLOOKUP(A:A,#REF!,2,FALSE)","v":{"$error":"#REF!"}},{"$f":"VLOOKUP(A:A,#REF!,3,FALSE)","v":{"$error":"#REF!"}},{"$error":"#REF!"},{"$error":"#REF!"}]
["SPC2065",3,3,{"$f":"VLOOKUP(A:A,#REF!,2,FALSE)","v":{"$error":"#REF!"}},{"$f":"VLOOKUP(A:A,#REF!,3,FALSE)","v":{"$error":"#REF!"}},{"$error":"#REF!"},{"$error":"#REF!"}]
["SPC2330",3,3,{"$f":"VLOOKUP(A:A,#REF!,2,FALSE)","v":{"$error":"#REF!"}},{"$f":"VLOOKUP(A:A,#REF!,3,FALSE)","v":{"$error":"#REF!"}},{"$error":"#REF!"},{"$error":"#REF!"}]
["SPC2594",3,2,{"$f":"VLOOKUP(A:A,#REF!,2,FALSE)","v":{"$error":"#REF!"}},{"$f":"VLOOKUP(A:A,#REF!,3,FALSE)","v":{"$error":"#REF!"}},{"$error":"#REF!"},{"$error":"#REF!"}]
["SPC2608",3,3,{"$f":"VLOOKUP(A:A,#REF!,2,FALSE)","v":{"$error":"#REF!"}},{"$f":"VLOOKUP(A:A,#REF!,3,FALSE)","v":{"$error":"#REF!"}},{"$error":"#REF!"},{"$error":"#REF!"}]
["SPC2930",3,3,{"$f":"VLOOKUP(A:A,#REF!,2,FALSE)","v":{"$error":"#REF!"}},{"$f":"VLOOKUP(A:A,#REF!,3,FALSE)","v":{"$error":"#REF!"}},{"$error":"#REF!"},{"$error":"#REF!"}]
["SPM2000",3,3,{"$f":"VLOOKUP(A:A,#REF!,2,FALSE)","v":{"$error":"#REF!"}},{"$f":"VLOOKUP(A:A,#REF!,3,FALSE)","v":{"$error":"#REF!"}},{"$error":"#REF!"},{"$error":"#REF!"}]
["SPN1120",4,4,{"$f":"VLOOKUP(A:A,#REF!,2,FALSE)","v":{"$error":"#REF!"}},{"$f":"VLOOKUP(A:A,#REF!,3,FALSE)","v":{"$error":"#REF!"}},{"$error":"#REF!"},{"$error":"#REF!"}]
["SPN1121",4,4,{"$f":"VLOOKUP(A:A,#REF!,2,FALSE)","v":{"$error":"#REF!"}},{"$f":"VLOOKUP(A:A,#REF!,3,FALSE)","v":{"$error":"#REF!"}},{"$error":"#REF!"},{"$error":"#REF!"}]
["SPN2200",3,3,{"$f":"VLOOKUP(A:A,#REF!,2,FALSE)","v":{"$error":"#REF!"}},{"$f":"VLOOKUP(A:A,#REF!,3,FALSE)","v":{"$error":"#REF!"}},{"$error":"#REF!"},{"$error":"#REF!"}]
["SPN2201",3,3,{"$f":"VLOOKUP(A:A,#REF!,2,FALSE)","v":{"$error":"#REF!"}},{"$f":"VLOOKUP(A:A,#REF!,3,FALSE)","v":{"$error":"#REF!"}},{"$error":"#REF!"},{"$error":"#REF!"}]
["SPN2210",4,4,{"$f":"VLOOKUP(A:A,#REF!,2,FALSE)","v":{"$error":"#REF!"}},{"$f":"VLOOKUP(A:A,#REF!,3,FALSE)","v":{"$error":"#REF!"}},{"$f":"B2628-D2628","v":{"$error":"#REF!"}},{"$f":"C2628-E2628","v":{"$error":"#REF!"}}]
["SPN2211",3,3,{"$f":"VLOOKUP(A:A,#REF!,2,FALSE)","v":{"$error":"#REF!"}},{"$f":"VLOOKUP(A:A,#REF!,3,FALSE)","v":{"$error":"#REF!"}},{"$error":"#REF!"},{"$error":"#REF!"}]
["SSC0480U",0.01,0.01,{"$f":"VLOOKUP(A:A,#REF!,2,FALSE)","v":{"$error":"#REF!"}},{"$f":"VLOOKUP(A:A,#REF!,3,FALSE)","v":{"$error":"#REF!"}},{"$error":"#REF!"},{"$error":"#REF!"}]
["SSC0977",0,0,{"$f":"VLOOKUP(A:A,#REF!,2,FALSE)","v":{"$error":"#REF!"}},{"$f":"VLOOKUP(A:A,#REF!,3,FALSE)","v":{"$error":"#REF!"}},{"$error":"#REF!"},{"$error":"#REF!"}]
["SSC2015",0.01,0.01,{"$f":"VLOOKUP(A:A,#REF!,2,FALSE)","v":{"$error":"#REF!"}},{"$f":"VLOOKUP(A:A,#REF!,3,FALSE)","v":{"$error":"#REF!"}},{"$error":"#REF!"},{"$error":"#REF!"}]
["SSC2017",0.01,0.01,{"$f":"VLOOKUP(A:A,#REF!,2,FALSE)","v":{"$error":"#REF!"}},{"$f":"VLOOKUP(A:A,#REF!,3,FALSE)","v":{"$error":"#REF!"}},{"$error":"#REF!"},{"$error":"#REF!"}]
["SSC2019",0.01,0.01,{"$f":"VLOOKUP(A:A,#REF!,2,FALSE)","v":{"$error":"#REF!"}},{"$f":"VLOOKUP(A:A,#REF!,3,FALSE)","v":{"$error":"#REF!"}},{"$error":"#REF!"},{"$error":"#REF!"}]
["SSC2020",0.01,0.01,{"$f":"VLOOKUP(A:A,#REF!,2,FALSE)","v":{"$error":"#REF!"}},{"$f":"VLOOKUP(A:A,#REF!,3,FALSE)","v":{"$error":"#REF!"}},{"$error":"#REF!"},{"$error":"#REF!"}]
["SSC2025",0.01,0.01,{"$f":"VLOOKUP(A:A,#REF!,2,FALSE)","v":{"$error":"#REF!"}},{"$f":"VLOOKUP(A:A,#REF!,3,FALSE)","v":{"$error":"#REF!"}},{"$error":"#REF!"},{"$error":"#REF!"}]
["SSC2030",0.01,0.01,{"$f":"VLOOKUP(A:A,#REF!,2,FALSE)","v":{"$error":"#REF!"}},{"$f":"VLOOKUP(A:A,#REF!,3,FALSE)","v":{"$error":"#REF!"}},{"$error":"#REF!"},{"$error":"#REF!"}]
["SSC2031",0.01,0.01,{"$f":"VLOOKUP(A:A,#REF!,2,FALSE)","v":{"$error":"#REF!"}},{"$f":"VLOOKUP(A:A,#REF!,3,FALSE)","v":{"$error":"#REF!"}},{"$error":"#REF!"},{"$error":"#REF!"}]
["SSC2034",0.01,0.01,{"$f":"VLOOKUP(A:A,#REF!,2,FALSE)","v":{"$error":"#REF!"}},{"$f":"VLOOKUP(A:A,#REF!,3,FALSE)","v":{"$error":"#REF!"}},{"$error":"#REF!"},{"$error":"#REF!"}]
["SSC2036",0.01,0.01,{"$f":"VLOOKUP(A:A,#REF!,2,FALSE)","v":{"$error":"#REF!"}},{"$f":"VLOOKUP(A:A,#REF!,3,FALSE)","v":{"$error":"#REF!"}},{"$error":"#REF!"},{"$error":"#REF!"}]
["SSC2052",0.01,0.01,{"$f":"VLOOKUP(A:A,#REF!,2,FALSE)","v":{"$error":"#REF!"}},{"$f":"VLOOKUP(A:A,#REF!,3,FALSE)","v":{"$error":"#REF!"}},{"$error":"#REF!"},{"$error":"#REF!"}]
["SSC2053",0.01,0.01,{"$f":"VLOOKUP(A:A,#REF!,2,FALSE)","v":{"$error":"#REF!"}},{"$f":"VLOOKUP(A:A,#REF!,3,FALSE)","v":{"$error":"#REF!"}},{"$error":"#REF!"},{"$error":"#REF!"}]
["SSC2054",0.01,0.01,{"$f":"VLOOKUP(A:A,#REF!,2,FALSE)","v":{"$error":"#REF!"}},{"$f":"VLOOKUP(A:A,#REF!,3,FALSE)","v":{"$error":"#REF!"}},{"$error":"#REF!"},{"$error":"#REF!"}]
["SSC2055",0.01,0.01,{"$f":"VLOOKUP(A:A,#REF!,2,FALSE)","v":{"$error":"#REF!"}},{"$f":"VLOOKUP(A:A,#REF!,3,FALSE)","v":{"$error":"#REF!"}},{"$error":"#REF!"},{"$error":"#REF!"}]
["SSC2056",0.01,0.01,{"$f":"VLOOKUP(A:A,#REF!,2,FALSE)","v":{"$error":"#REF!"}},{"$f":"VLOOKUP(A:A,#REF!,3,FALSE)","v":{"$error":"#REF!"}},{"$error":"#REF!"},{"$error":"#REF!"}]
["SSC2057",0.01,0.01,{"$f":"VLOOKUP(A:A,#REF!,2,FALSE)","v":{"$error":"#REF!"}},{"$f":"VLOOKUP(A:A,#REF!,3,FALSE)","v":{"$error":"#REF!"}},{"$error":"#REF!"},{"$error":"#REF!"}]
["SSC2058",0.01,0.01,{"$f":"VLOOKUP(A:A,#REF!,2,FALSE)","v":{"$error":"#REF!"}},{"$f":"VLOOKUP(A:A,#REF!,3,FALSE)","v":{"$error":"#REF!"}},{"$error":"#REF!"},{"$error":"#REF!"}]
["SSC6300Z",0.01,0.01,{"$f":"VLOOKUP(A:A,#REF!,2,FALSE)","v":{"$error":"#REF!"}},{"$f":"VLOOKUP(A:A,#REF!,3,FALSE)","v":{"$error":"#REF!"}},{"$error":"#REF!"},{"$error":"#REF!"}]
["SSC7048G",0.01,0.01,{"$f":"VLOOKUP(A:A,#REF!,2,FALSE)","v":{"$error":"#REF!"}},{"$f":"VLOOKUP(A:A,#REF!,3,FALSE)","v":{"$error":"#REF!"}},{"$error":"#REF!"},{"$error":"#REF!"}]
["SSC7082",0.01,0.01,{"$f":"VLOOKUP(A:A,#REF!,2,FALSE)","v":{"$error":"#REF!"}},{"$f":"VLOOKUP(A:A,#REF!,3,FALSE)","v":{"$error":"#REF!"}},{"$error":"#REF!"},{"$error":"#REF!"}]
["SSC7087E",0.01,0.01,{"$f":"VLOOKUP(A:A,#REF!,2,FALSE)","v":{"$error":"#REF!"}},{"$f":"VLOOKUP(A:A,#REF!,3,FALSE)","v":{"$error":"#REF!"}},{"$error":"#REF!"},{"$error":"#REF!"}]
["SSC8011",0.01,0.01,{"$f":"VLOOKUP(A:A,#REF!,2,FALSE)","v":{"$error":"#REF!"}},{"$f":"VLOOKUP(A:A,#REF!,3,FALSE)","v":{"$error":"#REF!"}},{"$error":"#REF!"},{"$error":"#REF!"}]
["SSC8033",0.01,0.01,{"$f":"VLOOKUP(A:A,#REF!,2,FALSE)","v":{"$error":"#REF!"}},{"$f":"VLOOKUP(A:A,#REF!,3,FALSE)","v":{"$error":"#REF!"}},{"$error":"#REF!"},{"$error":"#REF!"}]
["SSC8042",0.01,0.01,{"$f":"VLOOKUP(A:A,#REF!,2,FALSE)","v":{"$error":"#REF!"}},{"$f":"VLOOKUP(A:A,#REF!,3,FALSE)","v":{"$error":"#REF!"}},{"$error":"#REF!"},{"$error":"#REF!"}]
["SSC8052",0.01,0.01,{"$f":"VLOOKUP(A:A,#REF!,2,FALSE)","v":{"$error":"#REF!"}},{"$f":"VLOOKUP(A:A,#REF!,3,FALSE)","v":{"$error":"#REF!"}},{"$error":"#REF!"},{"$error":"#REF!"}]
["SSC8054",0.01,0.01,{"$f":"VLOOKUP(A:A,#REF!,2,FALSE)","v":{"$error":"#REF!"}},{"$f":"VLOOKUP(A:A,#REF!,3,FALSE)","v":{"$error":"#REF!"}},{"$error":"#REF!"},{"$error":"#REF!"}]
["SSC8056",0.01,0.01,{"$f":"VLOOKUP(A:A,#REF!,2,FALSE)","v":{"$error":"#REF!"}},{"$f":"VLOOKUP(A:A,#REF!,3,FALSE)","v":{"$error":"#REF!"}},{"$error":"#REF!"},{"$error":"#REF!"}]
["SSC8057",0.01,0.01,{"$f":"VLOOKUP(A:A,#REF!,2,FALSE)","v":{"$error":"#REF!"}},{"$f":"VLOOKUP(A:A,#REF!,3,FALSE)","v":{"$error":"#REF!"}},{"$error":"#REF!"},{"$error":"#REF!"}]
["SSC8058",0.01,0.01,{"$f":"VLOOKUP(A:A,#REF!,2,FALSE)","v":{"$error":"#REF!"}},{"$f":"VLOOKUP(A:A,#REF!,3,FALSE)","v":{"$error":"#REF!"}},{"$error":"#REF!"},{"$error":"#REF!"}]
["SSC8059",0.01,0.01,{"$f":"VLOOKUP(A:A,#REF!,2,FALSE)","v":{"$error":"#REF!"}},{"$f":"VLOOKUP(A:A,#REF!,3,FALSE)","v":{"$error":"#REF!"}},{"$error":"#REF!"},{"$error":"#REF!"}]
["SSC8060",0.01,0.01,{"$f":"VLOOKUP(A:A,#REF!,2,FALSE)","v":{"$error":"#REF!"}},{"$f":"VLOOKUP(A:A,#REF!,3,FALSE)","v":{"$error":"#REF!"}},{"$error":"#REF!"},{"$error":"#REF!"},"CWE"]
["SSC8061",0.01,0.01,{"$f":"VLOOKUP(A:A,#REF!,2,FALSE)","v":{"$error":"#REF!"}},{"$f":"VLOOKUP(A:A,#REF!,3,FALSE)","v":{"$error":"#REF!"}},{"$error":"#REF!"},{"$error":"#REF!"}]
["SSC8062",0.01,0.01,{"$f":"VLOOKUP(A:A,#REF!,2,FALSE)","v":{"$error":"#REF!"}},{"$f":"VLOOKUP(A:A,#REF!,3,FALSE)","v":{"$error":"#REF!"}},{"$error":"#REF!"},{"$error":"#REF!"}]
["SSC8063",0.01,0.01,{"$f":"VLOOKUP(A:A,#REF!,2,FALSE)","v":{"$error":"#REF!"}},{"$f":"VLOOKUP(A:A,#REF!,3,FALSE)","v":{"$error":"#REF!"}},{"$error":"#REF!"},{"$error":"#REF!"}]
["SSC8064",0.01,0.01,{"$f":"VLOOKUP(A:A,#REF!,2,FALSE)","v":{"$error":"#REF!"}},{"$f":"VLOOKUP(A:A,#REF!,3,FALSE)","v":{"$error":"#REF!"}},{"$error":"#REF!"},{"$error":"#REF!"}]
["SSC8066",0.01,0.01,{"$f":"VLOOKUP(A:A,#REF!,2,FALSE)","v":{"$error":"#REF!"}},{"$f":"VLOOKUP(A:A,#REF!,3,FALSE)","v":{"$error":"#REF!"}},{"$error":"#REF!"},{"$error":"#REF!"}]
["SSC8067",0.01,0.01,{"$f":"VLOOKUP(A:A,#REF!,2,FALSE)","v":{"$error":"#REF!"}},{"$f":"VLOOKUP(A:A,#REF!,3,FALSE)","v":{"$error":"#REF!"}},{"$error":"#REF!"},{"$error":"#REF!"}]
["SSC8068",0.01,0.01,{"$f":"VLOOKUP(A:A,#REF!,2,FALSE)","v":{"$error":"#REF!"}},{"$f":"VLOOKUP(A:A,#REF!,3,FALSE)","v":{"$error":"#REF!"}},{"$error":"#REF!"},{"$error":"#REF!"}]
["SSC8069",0.01,0.01,{"$f":"VLOOKUP(A:A,#REF!,2,FALSE)","v":{"$error":"#REF!"}},{"$f":"VLOOKUP(A:A,#REF!,3,FALSE)","v":{"$error":"#REF!"}},{"$error":"#REF!"},{"$error":"#REF!"}]
["SSC8070",0.01,0.01,{"$f":"VLOOKUP(A:A,#REF!,2,FALSE)","v":{"$error":"#REF!"}},{"$f":"VLOOKUP(A:A,#REF!,3,FALSE)","v":{"$error":"#REF!"}},{"$error":"#REF!"},{"$error":"#REF!"}]
["SSC8072",0.01,0.01,{"$f":"VLOOKUP(A:A,#REF!,2,FALSE)","v":{"$error":"#REF!"}},{"$f":"VLOOKUP(A:A,#REF!,3,FALSE)","v":{"$error":"#REF!"}},{"$error":"#REF!"},{"$error":"#REF!"}]
["SSC8073",0.01,0.01,{"$f":"VLOOKUP(A:A,#REF!,2,FALSE)","v":{"$error":"#REF!"}},{"$f":"VLOOKUP(A:A,#REF!,3,FALSE)","v":{"$error":"#REF!"}},{"$error":"#REF!"},{"$error":"#REF!"}]
["SSC8074",0.01,0.01,{"$f":"VLOOKUP(A:A,#REF!,2,FALSE)","v":{"$error":"#REF!"}},{"$f":"VLOOKUP(A:A,#REF!,3,FALSE)","v":{"$error":"#REF!"}},{"$error":"#REF!"},{"$error":"#REF!"}]
["SSC8075",0.01,0.01,{"$f":"VLOOKUP(A:A,#REF!,2,FALSE)","v":{"$error":"#REF!"}},{"$f":"VLOOKUP(A:A,#REF!,3,FALSE)","v":{"$error":"#REF!"}},{"$error":"#REF!"},{"$error":"#REF!"}]
["SSC8076",0.01,0.01,{"$f":"VLOOKUP(A:A,#REF!,2,FALSE)","v":{"$error":"#REF!"}},{"$f":"VLOOKUP(A:A,#REF!,3,FALSE)","v":{"$error":"#REF!"}},{"$error":"#REF!"},{"$error":"#REF!"}]
["SSC8077",0.01,0.01,{"$f":"VLOOKUP(A:A,#REF!,2,FALSE)","v":{"$error":"#REF!"}},{"$f":"VLOOKUP(A:A,#REF!,3,FALSE)","v":{"$error":"#REF!"}},{"$error":"#REF!"},{"$error":"#REF!"}]
["SSC8078",0.01,0.01,{"$f":"VLOOKUP(A:A,#REF!,2,FALSE)","v":{"$error":"#REF!"}},{"$f":"VLOOKUP(A:A,#REF!,3,FALSE)","v":{"$error":"#REF!"}},{"$error":"#REF!"},{"$error":"#REF!"}]
["SSC8079",0.01,0.01,{"$f":"VLOOKUP(A:A,#REF!,2,FALSE)","v":{"$error":"#REF!"}},{"$f":"VLOOKUP(A:A,#REF!,3,FALSE)","v":{"$error":"#REF!"}},{"$error":"#REF!"},{"$error":"#REF!"}]
["SSC8080",0.01,0.01,{"$f":"VLOOKUP(A:A,#REF!,2,FALSE)","v":{"$error":"#REF!"}},{"$f":"VLOOKUP(A:A,#REF!,3,FALSE)","v":{"$error":"#REF!"}},{"$error":"#REF!"},{"$error":"#REF!"}]
["SSC8081",0.01,0.01,{"$f":"VLOOKUP(A:A,#REF!,2,FALSE)","v":{"$error":"#REF!"}},{"$f":"VLOOKUP(A:A,#REF!,3,FALSE)","v":{"$error":"#REF!"}},{"$error":"#REF!"},{"$error":"#REF!"}]
["SSC8083",0.01,0.01,{"$f":"VLOOKUP(A:A,#REF!,2,FALSE)","v":{"$error":"#REF!"}},{"$f":"VLOOKUP(A:A,#REF!,3,FALSE)","v":{"$error":"#REF!"}},{"$error":"#REF!"},{"$error":"#REF!"}]
["SSC8084",0.01,0.01,{"$f":"VLOOKUP(A:A,#REF!,2,FALSE)","v":{"$error":"#REF!"}},{"$f":"VLOOKUP(A:A,#REF!,3,FALSE)","v":{"$error":"#REF!"}},{"$error":"#REF!"},{"$error":"#REF!"}]
["SSC8085",0.01,0.01,{"$f":"VLOOKUP(A:A,#REF!,2,FALSE)","v":{"$error":"#REF!"}},{"$f":"VLOOKUP(A:A,#REF!,3,FALSE)","v":{"$error":"#REF!"}},{"$error":"#REF!"},{"$error":"#REF!"}]
["SSC8086",0.01,0.01,{"$f":"VLOOKUP(A:A,#REF!,2,FALSE)","v":{"$error":"#REF!"}},{"$f":"VLOOKUP(A:A,#REF!,3,FALSE)","v":{"$error":"#REF!"}},{"$error":"#REF!"},{"$error":"#REF!"}]
["SSC8087",0.01,0.01,{"$f":"VLOOKUP(A:A,#REF!,2,FALSE)","v":{"$error":"#REF!"}},{"$f":"VLOOKUP(A:A,#REF!,3,FALSE)","v":{"$error":"#REF!"}},{"$error":"#REF!"},{"$error":"#REF!"}]
["SSC8088",0.01,0.01,{"$f":"VLOOKUP(A:A,#REF!,2,FALSE)","v":{"$error":"#REF!"}},{"$f":"VLOOKUP(A:A,#REF!,3,FALSE)","v":{"$error":"#REF!"}},{"$error":"#REF!"},{"$error":"#REF!"}]
["STA2023",3,3,{"$f":"VLOOKUP(A:A,#REF!,2,FALSE)","v":{"$error":"#REF!"}},{"$f":"VLOOKUP(A:A,#REF!,3,FALSE)","v":{"$error":"#REF!"}},{"$error":"#REF!"},{"$error":"#REF!"}]
["STS0010",7.4,6.16,{"$f":"VLOOKUP(A:A,#REF!,2,FALSE)","v":{"$error":"#REF!"}},{"$f":"VLOOKUP(A:A,#REF!,3,FALSE)","v":{"$error":"#REF!"}},{"$error":"#REF!"},{"$error":"#REF!"}]
["STS0010L",6.32,5.26,{"$f":"VLOOKUP(A:A,#REF!,2,FALSE)","v":{"$error":"#REF!"}},{"$f":"VLOOKUP(A:A,#REF!,3,FALSE)","v":{"$error":"#REF!"}},{"$error":"#REF!"},{"$error":"#REF!"}]
["STS0011",0.64,0.53,{"$f":"VLOOKUP(A:A,#REF!,2,FALSE)","v":{"$error":"#REF!"}},{"$f":"VLOOKUP(A:A,#REF!,3,FALSE)","v":{"$error":"#REF!"}},{"$error":"#REF!"},{"$error":"#REF!"}]
["STS0011L",13.08,10.9,{"$f":"VLOOKUP(A:A,#REF!,2,FALSE)","v":{"$error":"#REF!"}},{"$f":"VLOOKUP(A:A,#REF!,3,FALSE)","v":{"$error":"#REF!"}},{"$error":"#REF!"},{"$error":"#REF!"}]
["STS0012",0.96,0.8,{"$f":"VLOOKUP(A:A,#REF!,2,FALSE)","v":{"$error":"#REF!"}},{"$f":"VLOOKUP(A:A,#REF!,3,FALSE)","v":{"$error":"#REF!"}},{"$f":"B2692-D2692","v":{"$error":"#REF!"}},{"$f":"C2692-E2692","v":{"$error":"#REF!"}}]
["STS0012L",12.8,10.66,{"$f":"VLOOKUP(A:A,#REF!,2,FALSE)","v":{"$error":"#REF!"}},{"$f":"VLOOKUP(A:A,#REF!,3,FALSE)","v":{"$error":"#REF!"}},{"$error":"#REF!"},{"$error":"#REF!"}]
["STS0015",3,2.5,{"$f":"VLOOKUP(A:A,#REF!,2,FALSE)","v":{"$error":"#REF!"}},{"$f":"VLOOKUP(A:A,#REF!,3,FALSE)","v":{"$error":"#REF!"}},{"$error":"#REF!"},{"$error":"#REF!"}]
["STS0015L",5.4,4.5,{"$f":"VLOOKUP(A:A,#REF!,2,FALSE)","v":{"$error":"#REF!"}},{"$f":"VLOOKUP(A:A,#REF!,3,FALSE)","v":{"$error":"#REF!"}},{"$error":"#REF!"},{"$error":"#REF!"}]
["STS1300",4,4,{"$f":"VLOOKUP(A:A,#REF!,2,FALSE)","v":{"$error":"#REF!"}},{"$f":"VLOOKUP(A:A,#REF!,3,FALSE)","v":{"$error":"#REF!"}},{"$error":"#REF!"},{"$error":"#REF!"}]
["STS1302",4,4,{"$f":"VLOOKUP(A:A,#REF!,2,FALSE)","v":{"$error":"#REF!"}},{"$f":"VLOOKUP(A:A,#REF!,3,FALSE)","v":{"$error":"#REF!"}},{"$error":"#REF!"},{"$error":"#REF!"}]
["STS1302L",4,3.2,{"$f":"VLOOKUP(A:A,#REF!,2,FALSE)","v":{"$error":"#REF!"}},{"$f":"VLOOKUP(A:A,#REF!,3,FALSE)","v":{"$error":"#REF!"}},{"$error":"#REF!"},{"$error":"#REF!"}]
["STS1307C",1,1,{"$f":"VLOOKUP(A:A,#REF!,2,FALSE)","v":{"$error":"#REF!"}},{"$f":"VLOOKUP(A:A,#REF!,3,FALSE)","v":{"$error":"#REF!"}},{"$error":"#REF!"},{"$error":"#REF!"}]
["STS1310",4,4,{"$f":"VLOOKUP(A:A,#REF!,2,FALSE)","v":{"$error":"#REF!"}},{"$f":"VLOOKUP(A:A,#REF!,3,FALSE)","v":{"$error":"#REF!"}},{"$error":"#REF!"},{"$error":"#REF!"}]
["STS1310L",2,1.6,{"$f":"VLOOKUP(A:A,#REF!,2,FALSE)","v":{"$error":"#REF!"}},{"$f":"VLOOKUP(A:A,#REF!,3,FALSE)","v":{"$error":"#REF!"}},{"$error":"#REF!"},{"$error":"#REF!"}]
["STS1340",2,2,{"$f":"VLOOKUP(A:A,#REF!,2,FALSE)","v":{"$error":"#REF!"}},{"$f":"VLOOKUP(A:A,#REF!,3,FALSE)","v":{"$error":"#REF!"}},{"$error":"#REF!"},{"$error":"#REF!"}]
["STS1538",2,2,{"$f":"VLOOKUP(A:A,#REF!,2,FALSE)","v":{"$error":"#REF!"}},{"$f":"VLOOKUP(A:A,#REF!,3,FALSE)","v":{"$error":"#REF!"}},{"$error":"#REF!"},{"$error":"#REF!"},"TRNFR REC-No FWL"]
["STS2323",4,4,{"$f":"VLOOKUP(A:A,#REF!,2,FALSE)","v":{"$error":"#REF!"}},{"$f":"VLOOKUP(A:A,#REF!,3,FALSE)","v":{"$error":"#REF!"}},{"$error":"#REF!"},{"$error":"#REF!"},"TRNFR REC-No FWL"]
["STS2323L",2,1.6,{"$f":"VLOOKUP(A:A,#REF!,2,FALSE)","v":{"$error":"#REF!"}},{"$f":"VLOOKUP(A:A,#REF!,3,FALSE)","v":{"$error":"#REF!"}},{"$error":"#REF!"},{"$error":"#REF!"},"TRNFR REC-No FWL"]
["STS2324",4,4,{"$f":"VLOOKUP(A:A,#REF!,2,FALSE)","v":{"$error":"#REF!"}},{"$f":"VLOOKUP(A:A,#REF!,3,FALSE)","v":{"$error":"#REF!"}},{"$error":"#REF!"},{"$error":"#REF!"},"TRNFR REC-No FWL"]
["STS2324L",4,3.2,{"$f":"VLOOKUP(A:A,#REF!,2,FALSE)","v":{"$error":"#REF!"}},{"$f":"VLOOKUP(A:A,#REF!,3,FALSE)","v":{"$error":"#REF!"}},{"$error":"#REF!"},{"$error":"#REF!"}]
["STS2361",1,1,{"$f":"VLOOKUP(A:A,#REF!,2,FALSE)","v":{"$error":"#REF!"}},{"$f":"VLOOKUP(A:A,#REF!,3,FALSE)","v":{"$error":"#REF!"}},{"$error":"#REF!"},{"$error":"#REF!"}]
["STS2365",2,2,{"$f":"VLOOKUP(A:A,#REF!,2,FALSE)","v":{"$error":"#REF!"}},{"$f":"VLOOKUP(A:A,#REF!,3,FALSE)","v":{"$error":"#REF!"}},{"$error":"#REF!"},{"$error":"#REF!"}]
["STS2936",1,1,{"$f":"VLOOKUP(A:A,#REF!,2,FALSE)","v":{"$error":"#REF!"}},{"$f":"VLOOKUP(A:A,#REF!,3,FALSE)","v":{"$error":"#REF!"}},{"$error":"#REF!"},{"$error":"#REF!"}]
["STS2944C",0.01,0.01,{"$f":"VLOOKUP(A:A,#REF!,2,FALSE)","v":{"$error":"#REF!"}},{"$f":"VLOOKUP(A:A,#REF!,3,FALSE)","v":{"$error":"#REF!"}},{"$error":"#REF!"},{"$error":"#REF!"}]
["STS2945C",0.01,0.01,{"$f":"VLOOKUP(A:A,#REF!,2,FALSE)","v":{"$error":"#REF!"}},{"$f":"VLOOKUP(A:A,#REF!,3,FALSE)","v":{"$error":"#REF!"}},{"$error":"#REF!"},{"$error":"#REF!"}]
["STS2953",1,1,{"$f":"VLOOKUP(A:A,#REF!,2,FALSE)","v":{"$error":"#REF!"}},{"$f":"VLOOKUP(A:A,#REF!,3,FALSE)","v":{"$error":"#REF!"}},{"$error":"#REF!"},{"$error":"#REF!"}]
["STS2954",1,1]
["SYG2000",3,3]
["SYG2010",3,3]
["SYG2230",3,3]
["SYG2430",3,3]
["SYG4362",3,3]
["TAR1942",0.01,0.01]
["TAR2120",4,3]
["TAX2000",3,3]
["THE2000",3,3]
["THE2945",3,3]
["TIS0060",0.32,0.26]
["TIS0119",1.44,1.2]
["TIS0207",0.4,0.4]
["TIS0225",0.48,0.48]
["TIS0239",1.44,1.2]
["TPA1063",3,3]
["TPA1201",3,3]
["TPA1210",3,3]
["TPA1211",3,3]
["TPA1220",4,4]
["TPA1248",3,3]
["TPA1274",3,3]
["TPA1290",2,2]
["TPA1291",2,2]
["TPA1340",3,3]
["TPA1942",0.01,0.01]
["TPA2070",3,3]
["TPA2212",3,3]
["TPA2218",3,3]
["TPA2221",4,4]
["TPA2292",2,2]
["TPA2293",2,2]
["TPA2341",3,3]
["TPA2600",3,3]
["TPA2930",5,3]
["TPP2110",3,3]
["TPP2111",3,3]
["TPP2300",3,3]
["TPP2500",3,3]
["TPP2710",3,3]
["TRA0081",3.2,2.66]
["TRA0082",3.2,2.66]
["TRA0083",3.2,2.66]
["TRA0089",3.2,2.66]
["TRA1943",0.01,0.01]
["TRA2010",3,3]
["TRA2098",3,3]
["TRA2131",3,3]
["TRA2152",3,3]
["TRA3132",3,3]
["TRA3153",3,3]
["TRA3270",3,3]
["TRA4202",3,3]
["TRA4203",3,3]
["TRA4944",3,3]
["TRNFDVLP",0,0]
["TRNFELEC",0,0]
["TRNFHSEL",0,0]
["TRNFUDELE",0,0]
["TSL3080",3,3]
["TSL3081",3,3]
["WOH1012",3,3]
["WOH1022",3,3]
["WST2010",3,3]
["ZOO1010C",6,6]
["ZOO3713C",5,4.4000000000000004]

{"sheet":">30 CAT A Form","index":3,"n_rows":47,"n_cols":8,"rows_kept":47,"cut":false,"hidden":true,"merged":[[35,2,36,6],[35,7,36,7],[39,2,39,6],[42,2,42,6],[1,3,1,7],[3,3,3,4],[4,3,4,4],[5,3,5,4],[6,1,6,8],[30,3,30,6]]}
[]
[null,null,null,"Overload Form Academic Year 2019-2020"]
[]
[null,null,"Faculty Name",{"$f":"'Paycode Section Identifier'!AF2","v":"Name"}]
[null,null,"EMPL ID",{"$f":"'Paycode Section Identifier'!AF3","v":"ID"}]
[null,null,"Term",{"$f":"'Paycode Section Identifier'!AF4","v":"2228 and 2232"}]
[]
[null,null,"Course","Concatenated ID","Cayegory","Full","Partial","Overload Entered in CS"]
[null,null,{"$f":"'Paycode Section Identifier'!A4","v":"Bank"},{"$f":"'Paycode Section Identifier'!B4","v":"From last year"},{"$f":"'Paycode Section Identifier'!C4","v":{"$error":"#DIV/0!"}},{"$f":"'Paycode Section Identifier'!D4","v":0},{"$f":"'Paycode Section Identifier'!E4","v":0}]
[null,null,{"$f":"'Paycode Section Identifier'!A5","v":0},{"$f":"'Paycode Section Identifier'!B5","v":0},{"$f":"'Paycode Section Identifier'!C5","v":{"$error":"#DIV/0!"}},{"$f":"'Paycode Section Identifier'!D5","v":"0"},{"$f":"'Paycode Section Identifier'!E5","v":"0"}]
[null,null,{"$f":"'Paycode Section Identifier'!A6","v":0},{"$f":"'Paycode Section Identifier'!B6","v":0},{"$f":"'Paycode Section Identifier'!C6","v":{"$error":"#DIV/0!"}},{"$f":"'Paycode Section Identifier'!D6","v":"0"},{"$f":"'Paycode Section Identifier'!E6","v":"0"}]
[null,null,{"$f":"'Paycode Section Identifier'!A7","v":0},{"$f":"'Paycode Section Identifier'!B7","v":0},{"$f":"'Paycode Section Identifier'!C7","v":{"$error":"#DIV/0!"}},{"$f":"'Paycode Section Identifier'!D7","v":"0"},{"$f":"'Paycode Section Identifier'!E7","v":"0"}]
[null,null,{"$f":"'Paycode Section Identifier'!A8","v":0},{"$f":"'Paycode Section Identifier'!B8","v":0},{"$f":"'Paycode Section Identifier'!C8","v":{"$error":"#DIV/0!"}},{"$f":"'Paycode Section Identifier'!D8","v":"0"},{"$f":"'Paycode Section Identifier'!E8","v":"0"}]
[null,null,{"$f":"'Paycode Section Identifier'!A9","v":0},{"$f":"'Paycode Section Identifier'!B9","v":0},{"$f":"'Paycode Section Identifier'!C9","v":{"$error":"#DIV/0!"}},{"$f":"'Paycode Section Identifier'!D9","v":"0"},{"$f":"'Paycode Section Identifier'!E9","v":"0"}]
[null,null,{"$f":"'Paycode Section Identifier'!A10","v":0},{"$f":"'Paycode Section Identifier'!B10","v":0},{"$f":"'Paycode Section Identifier'!C10","v":{"$error":"#DIV/0!"}},{"$f":"'Paycode Section Identifier'!D10","v":"0"},{"$f":"'Paycode Section Identifier'!E10","v":"0"}]
[null,null,{"$f":"'Paycode Section Identifier'!A11","v":0},{"$f":"'Paycode Section Identifier'!B11","v":0},{"$f":"'Paycode Section Identifier'!C11","v":{"$error":"#DIV/0!"}},{"$f":"'Paycode Section Identifier'!D11","v":"0"},{"$f":"'Paycode Section Identifier'!E11","v":"0"}," "]
[null,null,{"$f":"'Paycode Section Identifier'!A12","v":0},{"$f":"'Paycode Section Identifier'!B12","v":0},{"$f":"'Paycode Section Identifier'!C12","v":{"$error":"#DIV/0!"}},{"$f":"'Paycode Section Identifier'!D12","v":"0"},{"$f":"'Paycode Section Identifier'!E12","v":"0"}]
[null,null,{"$f":"'Paycode Section Identifier'!A13","v":0},{"$f":"'Paycode Section Identifier'!B13","v":0},{"$f":"'Paycode Section Identifier'!C13","v":{"$error":"#DIV/0!"}},{"$f":"'Paycode Section Identifier'!D13","v":"0"},{"$f":"'Paycode Section Identifier'!E13","v":"0"}]
[null,null,{"$f":"'Paycode Section Identifier'!A14","v":0},{"$f":"'Paycode Section Identifier'!B14","v":0},{"$f":"'Paycode Section Identifier'!C14","v":{"$error":"#DIV/0!"}},{"$f":"'Paycode Section Identifier'!D14","v":"0"},{"$f":"'Paycode Section Identifier'!E14","v":"0"}]
[null,null,{"$f":"'Paycode Section Identifier'!A15","v":0},{"$f":"'Paycode Section Identifier'!B15","v":0},{"$f":"'Paycode Section Identifier'!C15","v":{"$error":"#DIV/0!"}},{"$f":"'Paycode Section Identifier'!D15","v":"0"},{"$f":"'Paycode Section Identifier'!E15","v":"0"}]
[null,null,{"$f":"'Paycode Section Identifier'!A16","v":0},{"$f":"'Paycode Section Identifier'!B16","v":0},{"$f":"'Paycode Section Identifier'!C16","v":{"$error":"#DIV/0!"}},{"$f":"'Paycode Section Identifier'!D16","v":"0"},{"$f":"'Paycode Section Identifier'!E16","v":"0"}]
[null,null,{"$f":"'Paycode Section Identifier'!A17","v":0},{"$f":"'Paycode Section Identifier'!B17","v":0},{"$f":"'Paycode Section Identifier'!C17","v":{"$error":"#DIV/0!"}},{"$f":"'Paycode Section Identifier'!D17","v":"0"},{"$f":"'Paycode Section Identifier'!E17","v":"0"}]
[null,null,{"$f":"'Paycode Section Identifier'!A18","v":0},{"$f":"'Paycode Section Identifier'!B18","v":0},{"$f":"'Paycode Section Identifier'!C18","v":{"$error":"#DIV/0!"}},{"$f":"'Paycode Section Identifier'!D18","v":"0"},{"$f":"'Paycode Section Identifier'!E18","v":"0"}]
[null,null,{"$f":"'Paycode Section Identifier'!A19","v":0},{"$f":"'Paycode Section Identifier'!B19","v":0},{"$f":"'Paycode Section Identifier'!C19","v":{"$error":"#DIV/0!"}},{"$f":"'Paycode Section Identifier'!D19","v":"0"},{"$f":"'Paycode Section Identifier'!E19","v":"0"}]
[null,null,{"$f":"'Paycode Section Identifier'!A20","v":0},{"$f":"'Paycode Section Identifier'!B20","v":0},{"$f":"'Paycode Section Identifier'!C20","v":{"$error":"#DIV/0!"}},{"$f":"'Paycode Section Identifier'!D20","v":"0"},{"$f":"'Paycode Section Identifier'!E20","v":"0"}]
[null,null,{"$f":"'Paycode Section Identifier'!A21","v":0},{"$f":"'Paycode Section Identifier'!B21","v":0},{"$f":"'Paycode Section Identifier'!C21","v":{"$error":"#DIV/0!"}},{"$f":"'Paycode Section Identifier'!D21","v":"0"},{"$f":"'Paycode Section Identifier'!E21","v":"0"}]
[null,null,{"$f":"'Paycode Section Identifier'!A22","v":0},{"$f":"'Paycode Section Identifier'!B22","v":0},{"$f":"'Paycode Section Identifier'!C22","v":{"$error":"#DIV/0!"}},{"$f":"'Paycode Section Identifier'!D22","v":"0"},{"$f":"'Paycode Section Identifier'!E22","v":"0"}]
[null,null,{"$f":"'Paycode Section Identifier'!A23","v":0},{"$f":"'Paycode Section Identifier'!B23","v":0},{"$f":"'Paycode Section Identifier'!C23","v":{"$error":"#DIV/0!"}},{"$f":"'Paycode Section Identifier'!D23","v":"0"},{"$f":"'Paycode Section Identifier'!E23","v":"0"}]
[null,null,null,null,null,null,"Total entered in CS",{"$f":"SUM(H9:H28)","v":0}]
[]
[null,null,null,"Final Values"]
[null,null,null,"CBA WLU",{"$f":"'Paycode Section Identifier'!B28","v":{"$error":"#DIV/0!"}},"Overload ",{"$f":"'Paycode Section Identifier'!B32","v":{"$error":"#DIV/0!"}}]
[null,null,null,"Release",{"$f":"'Paycode Section Identifier'!B29","v":0},"Total Pay",{"$f":"'Paycode Section Identifier'!B33","v":{"$error":"#DIV/0!"}}]
[null,null,null,"Total",{"$f":"'Paycode Section Identifier'!B30","v":{"$error":"#DIV/0!"}}]
[]
[null,null,"Sign",null,null,null,null,"2020-01-01"]
[]
[null,"Faculty Member Signature",null,null,null,null,null,"Date"]
[null,null,null," "]
[null,null,"Rich",null,null,null,null,"2020-01-01"]
[null,"Department Chair/Program Coordinator/Program Manager (if applicable)",null,null,null,null,null,"Date"]
[null,null,null," "]
[null,null,"Rich",null,null,null,null,"2020-01-01"]
[null,"Dean",null,null,null,null,null,"Date"]
[]
[null," ",null," "]
[null,null,null,null,null,null,null,"REV 2019-2020 1.2"]

{"sheet":"OL Form","index":4,"n_rows":47,"n_cols":8,"rows_kept":47,"cut":false,"hidden":false,"merged":[[1,0,1,8],[35,7,36,7],[39,1,39,5],[42,1,42,5],[3,2,3,3],[4,2,4,3],[5,2,5,3],[6,1,6,7],[30,2,30,5],[36,1,36,5]]}
[]
["Overload Form Academic Year 2022-2023"]
[]
[null,"Faculty Name:",{"$f":"'Paycode Section Identifier'!AF2","v":"Name"}]
[null,"EMPL ID:",{"$f":"'Paycode Section Identifier'!AF3","v":"ID"}]
[null,"Terms:",{"$f":"'Paycode Section Identifier'!AF4","v":"2228 and 2232"}]
[]
[null,"Course","Concatenated ID","Category","Full","Partial","Overload Entered in CS ","Bank Hours for Next Year Entered in CS"]
[null,{"$f":"'Paycode Section Identifier'!A4","v":"Bank"},{"$f":"'Paycode Section Identifier'!B4","v":"From last year"},{"$f":"'Paycode Section Identifier'!C4","v":{"$error":"#DIV/0!"}},{"$f":"'Paycode Section Identifier'!D4","v":0},"-"]
[null,{"$f":"'Paycode Section Identifier'!A5","v":0},{"$f":"'Paycode Section Identifier'!B5","v":0},{"$f":"'Paycode Section Identifier'!C5","v":{"$error":"#DIV/0!"}},{"$f":"IF(D10=\"BLOCK 1\",'Paycode Section Identifier'!D5, IF(D10=\"BLOCK 2.1\",'Paycode Section Identifier'!D5, IF(D10=\"JUMP\",'Paycode Section Identifier'!D5, IF(D10=\"BLOCK 4\",\"-\"))))","v":{"$error":"#DIV/0!"}},{"$f":"IF(D10=\"BLOCK 1\",\"-\",IF(D10=\"BLOCK 2.1\",\"-\",IF(D10=\"JUMP\",\"-\",IF(D10=\"BLOCK 4\",'Paycode Section Identifier'!E5))))","v":{"$error":"#DIV/0!"}}]
[null,{"$f":"'Paycode Section Identifier'!A6","v":0},{"$f":"'Paycode Section Identifier'!B6","v":0},{"$f":"'Paycode Section Identifier'!C6","v":{"$error":"#DIV/0!"}},{"$f":"IF(D11=\"BLOCK 1\",'Paycode Section Identifier'!D6, IF(D11=\"BLOCK 2.1\",'Paycode Section Identifier'!D6, IF(D11=\"JUMP\",'Paycode Section Identifier'!D6, IF(D11=\"BLOCK 4\",\"-\"))))","v":{"$error":"#DIV/0!"}},{"$f":"IF(D11=\"BLOCK 1\",\"-\",IF(D11=\"BLOCK 2.1\",\"-\",IF(D11=\"JUMP\",\"-\",IF(D11=\"BLOCK 4\",'Paycode Section Identifier'!E6))))","v":{"$error":"#DIV/0!"}}]
[null,{"$f":"'Paycode Section Identifier'!A7","v":0},{"$f":"'Paycode Section Identifier'!B7","v":0},{"$f":"'Paycode Section Identifier'!C7","v":{"$error":"#DIV/0!"}},{"$f":"IF(D12=\"BLOCK 1\",'Paycode Section Identifier'!D7, IF(D12=\"BLOCK 2.1\",'Paycode Section Identifier'!D7, IF(D12=\"JUMP\",'Paycode Section Identifier'!D7, IF(D12=\"BLOCK 4\",\"-\"))))","v":{"$error":"#DIV/0!"}},{"$f":"IF(D12=\"BLOCK 1\",\"-\",IF(D12=\"BLOCK 2.1\",\"-\",IF(D12=\"JUMP\",\"-\",IF(D12=\"BLOCK 4\",'Paycode Section Identifier'!E7))))","v":{"$error":"#DIV/0!"}}]
[null,{"$f":"'Paycode Section Identifier'!A8","v":0},{"$f":"'Paycode Section Identifier'!B8","v":0},{"$f":"'Paycode Section Identifier'!C8","v":{"$error":"#DIV/0!"}},{"$f":"IF(D13=\"BLOCK 1\",'Paycode Section Identifier'!D8, IF(D13=\"BLOCK 2.1\",'Paycode Section Identifier'!D8, IF(D13=\"JUMP\",'Paycode Section Identifier'!D8, IF(D13=\"BLOCK 4\",\"-\"))))","v":{"$error":"#DIV/0!"}},{"$f":"IF(D13=\"BLOCK 1\",\"-\",IF(D13=\"BLOCK 2.1\",\"-\",IF(D13=\"JUMP\",\"-\",IF(D13=\"BLOCK 4\",'Paycode Section Identifier'!E8))))","v":{"$error":"#DIV/0!"}}]
[null,{"$f":"'Paycode Section Identifier'!A9","v":0},{"$f":"'Paycode Section Identifier'!B9","v":0},{"$f":"'Paycode Section Identifier'!C9","v":{"$error":"#DIV/0!"}},{"$f":"IF(D14=\"BLOCK 1\",'Paycode Section Identifier'!D9, IF(D14=\"BLOCK 2.1\",'Paycode Section Identifier'!D9, IF(D14=\"JUMP\",'Paycode Section Identifier'!D9, IF(D14=\"BLOCK 4\",\"-\"))))","v":{"$error":"#DIV/0!"}},{"$f":"IF(D14=\"BLOCK 1\",\"-\",IF(D14=\"BLOCK 2.1\",\"-\",IF(D14=\"JUMP\",\"-\",IF(D14=\"BLOCK 4\",'Paycode Section Identifier'!E9))))","v":{"$error":"#DIV/0!"}}]
[null,{"$f":"'Paycode Section Identifier'!A10","v":0},{"$f":"'Paycode Section Identifier'!B10","v":0},{"$f":"'Paycode Section Identifier'!C10","v":{"$error":"#DIV/0!"}},{"$f":"IF(D15=\"BLOCK 1\",'Paycode Section Identifier'!D10, IF(D15=\"BLOCK 2.1\",'Paycode Section Identifier'!D10, IF(D15=\"JUMP\",'Paycode Section Identifier'!D10, IF(D15=\"BLOCK 4\",\"-\"))))","v":{"$error":"#DIV/0!"}},{"$f":"IF(D15=\"BLOCK 1\",\"-\",IF(D15=\"BLOCK 2.1\",\"-\",IF(D15=\"JUMP\",\"-\",IF(D15=\"BLOCK 4\",'Paycode Section Identifier'!E10))))","v":{"$error":"#DIV/0!"}}]
[null,{"$f":"'Paycode Section Identifier'!A11","v":0},{"$f":"'Paycode Section Identifier'!B11","v":0},{"$f":"'Paycode Section Identifier'!C11","v":{"$error":"#DIV/0!"}},{"$f":"IF(D16=\"BLOCK 1\",'Paycode Section Identifier'!D11, IF(D16=\"BLOCK 2.1\",'Paycode Section Identifier'!D11, IF(D16=\"JUMP\",'Paycode Section Identifier'!D11, IF(D16=\"BLOCK 4\",\"-\"))))","v":{"$error":"#DIV/0!"}},{"$f":"IF(D16=\"BLOCK 1\",\"-\",IF(D16=\"BLOCK 2.1\",\"-\",IF(D16=\"JUMP\",\"-\",IF(D16=\"BLOCK 4\",'Paycode Section Identifier'!E11))))","v":{"$error":"#DIV/0!"}},null," "]
[null,{"$f":"'Paycode Section Identifier'!A12","v":0},{"$f":"'Paycode Section Identifier'!B12","v":0},{"$f":"'Paycode Section Identifier'!C12","v":{"$error":"#DIV/0!"}},{"$f":"IF(D17=\"BLOCK 1\",'Paycode Section Identifier'!D12, IF(D17=\"BLOCK 2.1\",'Paycode Section Identifier'!D12, IF(D17=\"JUMP\",'Paycode Section Identifier'!D12, IF(D17=\"BLOCK 4\",\"-\"))))","v":{"$error":"#DIV/0!"}},{"$f":"IF(D17=\"BLOCK 1\",\"-\",IF(D17=\"BLOCK 2.1\",\"-\",IF(D17=\"JUMP\",\"-\",IF(D17=\"BLOCK 4\",'Paycode Section Identifier'!E12))))","v":{"$error":"#DIV/0!"}}]
[null,{"$f":"'Paycode Section Identifier'!A13","v":0},{"$f":"'Paycode Section Identifier'!B13","v":0},{"$f":"'Paycode Section Identifier'!C13","v":{"$error":"#DIV/0!"}},{"$f":"IF(D18=\"BLOCK 1\",'Paycode Section Identifier'!D13, IF(D18=\"BLOCK 2.1\",'Paycode Section Identifier'!D13, IF(D18=\"JUMP\",'Paycode Section Identifier'!D13, IF(D18=\"BLOCK 4\",\"-\"))))","v":{"$error":"#DIV/0!"}},{"$f":"IF(D18=\"BLOCK 1\",\"-\",IF(D18=\"BLOCK 2.1\",\"-\",IF(D18=\"JUMP\",\"-\",IF(D18=\"BLOCK 4\",'Paycode Section Identifier'!E13))))","v":{"$error":"#DIV/0!"}}]
[null,{"$f":"'Paycode Section Identifier'!A14","v":0},{"$f":"'Paycode Section Identifier'!B14","v":0},{"$f":"'Paycode Section Identifier'!C14","v":{"$error":"#DIV/0!"}},{"$f":"IF(D19=\"BLOCK 1\",'Paycode Section Identifier'!D14, IF(D19=\"BLOCK 2.1\",'Paycode Section Identifier'!D14, IF(D19=\"JUMP\",'Paycode Section Identifier'!D14, IF(D19=\"BLOCK 4\",\"-\"))))","v":{"$error":"#DIV/0!"}},{"$f":"IF(D19=\"BLOCK 1\",\"-\",IF(D19=\"BLOCK 2.1\",\"-\",IF(D19=\"JUMP\",\"-\",IF(D19=\"BLOCK 4\",'Paycode Section Identifier'!E14))))","v":{"$error":"#DIV/0!"}}]
[null,{"$f":"'Paycode Section Identifier'!A15","v":0},{"$f":"'Paycode Section Identifier'!B15","v":0},{"$f":"'Paycode Section Identifier'!C15","v":{"$error":"#DIV/0!"}},{"$f":"IF(D20=\"BLOCK 1\",'Paycode Section Identifier'!D15, IF(D20=\"BLOCK 2.1\",'Paycode Section Identifier'!D15, IF(D20=\"JUMP\",'Paycode Section Identifier'!D15, IF(D20=\"BLOCK 4\",\"-\"))))","v":{"$error":"#DIV/0!"}},{"$f":"IF(D20=\"BLOCK 1\",\"-\",IF(D20=\"BLOCK 2.1\",\"-\",IF(D20=\"JUMP\",\"-\",IF(D20=\"BLOCK 4\",'Paycode Section Identifier'!E15))))","v":{"$error":"#DIV/0!"}}]
[null,{"$f":"'Paycode Section Identifier'!A16","v":0},{"$f":"'Paycode Section Identifier'!B16","v":0},{"$f":"'Paycode Section Identifier'!C16","v":{"$error":"#DIV/0!"}},{"$f":"IF(D21=\"BLOCK 1\",'Paycode Section Identifier'!D16, IF(D21=\"BLOCK 2.1\",'Paycode Section Identifier'!D16, IF(D21=\"JUMP\",'Paycode Section Identifier'!D16, IF(D21=\"BLOCK 4\",\"-\"))))","v":{"$error":"#DIV/0!"}},{"$f":"IF(D21=\"BLOCK 1\",\"-\",IF(D21=\"BLOCK 2.1\",\"-\",IF(D21=\"JUMP\",\"-\",IF(D21=\"BLOCK 4\",'Paycode Section Identifier'!E16))))","v":{"$error":"#DIV/0!"}}]
[null,{"$f":"'Paycode Section Identifier'!A17","v":0},{"$f":"'Paycode Section Identifier'!B17","v":0},{"$f":"'Paycode Section Identifier'!C17","v":{"$error":"#DIV/0!"}},{"$f":"IF(D22=\"BLOCK 1\",'Paycode Section Identifier'!D17, IF(D22=\"BLOCK 2.1\",'Paycode Section Identifier'!D17, IF(D22=\"JUMP\",'Paycode Section Identifier'!D17, IF(D22=\"BLOCK 4\",\"-\"))))","v":{"$error":"#DIV/0!"}},{"$f":"IF(D22=\"BLOCK 1\",\"-\",IF(D22=\"BLOCK 2.1\",\"-\",IF(D22=\"JUMP\",\"-\",IF(D22=\"BLOCK 4\",'Paycode Section Identifier'!E17))))","v":{"$error":"#DIV/0!"}}]
[null,{"$f":"'Paycode Section Identifier'!A18","v":0},{"$f":"'Paycode Section Identifier'!B18","v":0},{"$f":"'Paycode Section Identifier'!C18","v":{"$error":"#DIV/0!"}},{"$f":"IF(D23=\"BLOCK 1\",'Paycode Section Identifier'!D18, IF(D23=\"BLOCK 2.1\",'Paycode Section Identifier'!D18, IF(D23=\"JUMP\",'Paycode Section Identifier'!D18, IF(D23=\"BLOCK 4\",\"-\"))))","v":{"$error":"#DIV/0!"}},{"$f":"IF(D23=\"BLOCK 1\",\"-\",IF(D23=\"BLOCK 2.1\",\"-\",IF(D23=\"JUMP\",\"-\",IF(D23=\"BLOCK 4\",'Paycode Section Identifier'!E18))))","v":{"$error":"#DIV/0!"}}]
[null,{"$f":"'Paycode Section Identifier'!A19","v":0},{"$f":"'Paycode Section Identifier'!B19","v":0},{"$f":"'Paycode Section Identifier'!C19","v":{"$error":"#DIV/0!"}},{"$f":"IF(D24=\"BLOCK 1\",'Paycode Section Identifier'!D19, IF(D24=\"BLOCK 2.1\",'Paycode Section Identifier'!D19, IF(D24=\"JUMP\",'Paycode Section Identifier'!D19, IF(D24=\"BLOCK 4\",\"-\"))))","v":{"$error":"#DIV/0!"}},{"$f":"IF(D24=\"BLOCK 1\",\"-\",IF(D24=\"BLOCK 2.1\",\"-\",IF(D24=\"JUMP\",\"-\",IF(D24=\"BLOCK 4\",'Paycode Section Identifier'!E19))))","v":{"$error":"#DIV/0!"}}]
[null,{"$f":"'Paycode Section Identifier'!A20","v":0},{"$f":"'Paycode Section Identifier'!B20","v":0},{"$f":"'Paycode Section Identifier'!C20","v":{"$error":"#DIV/0!"}},{"$f":"IF(D25=\"BLOCK 1\",'Paycode Section Identifier'!D20, IF(D25=\"BLOCK 2.1\",'Paycode Section Identifier'!D20, IF(D25=\"JUMP\",'Paycode Section Identifier'!D20, IF(D25=\"BLOCK 4\",\"-\"))))","v":{"$error":"#DIV/0!"}},{"$f":"IF(D25=\"BLOCK 1\",\"-\",IF(D25=\"BLOCK 2.1\",\"-\",IF(D25=\"JUMP\",\"-\",IF(D25=\"BLOCK 4\",'Paycode Section Identifier'!E20))))","v":{"$error":"#DIV/0!"}}]
[null,{"$f":"'Paycode Section Identifier'!A21","v":0},{"$f":"'Paycode Section Identifier'!B21","v":0},{"$f":"'Paycode Section Identifier'!C21","v":{"$error":"#DIV/0!"}},{"$f":"IF(D26=\"BLOCK 1\",'Paycode Section Identifier'!D21, IF(D26=\"BLOCK 2.1\",'Paycode Section Identifier'!D21, IF(D26=\"JUMP\",'Paycode Section Identifier'!D21, IF(D26=\"BLOCK 4\",\"-\"))))","v":{"$error":"#DIV/0!"}},{"$f":"IF(D26=\"BLOCK 1\",\"-\",IF(D26=\"BLOCK 2.1\",\"-\",IF(D26=\"JUMP\",\"-\",IF(D26=\"BLOCK 4\",'Paycode Section Identifier'!E21))))","v":{"$error":"#DIV/0!"}}]
[null,{"$f":"'Paycode Section Identifier'!A22","v":0},{"$f":"'Paycode Section Identifier'!B22","v":0},{"$f":"'Paycode Section Identifier'!C22","v":{"$error":"#DIV/0!"}},{"$f":"IF(D27=\"BLOCK 1\",'Paycode Section Identifier'!D22, IF(D27=\"BLOCK 2.1\",'Paycode Section Identifier'!D22, IF(D27=\"JUMP\",'Paycode Section Identifier'!D22, IF(D27=\"BLOCK 4\",\"-\"))))","v":{"$error":"#DIV/0!"}},{"$f":"IF(D27=\"BLOCK 1\",\"-\",IF(D27=\"BLOCK 2.1\",\"-\",IF(D27=\"JUMP\",\"-\",IF(D27=\"BLOCK 4\",'Paycode Section Identifier'!E22))))","v":{"$error":"#DIV/0!"}}]
[null,{"$f":"'Paycode Section Identifier'!A23","v":0},{"$f":"'Paycode Section Identifier'!B23","v":0},{"$f":"'Paycode Section Identifier'!C23","v":{"$error":"#DIV/0!"}},{"$f":"IF(D28=\"BLOCK 1\",'Paycode Section Identifier'!D23, IF(D28=\"BLOCK 2.1\",'Paycode Section Identifier'!D23, IF(D28=\"JUMP\",'Paycode Section Identifier'!D23, IF(D28=\"BLOCK 4\",\"-\"))))","v":{"$error":"#DIV/0!"}},{"$f":"IF(D28=\"BLOCK 1\",\"-\",IF(D28=\"BLOCK 2.1\",\"-\",IF(D28=\"JUMP\",\"-\",IF(D28=\"BLOCK 4\",'Paycode Section Identifier'!E23))))","v":{"$error":"#DIV/0!"}}]
[null,null,null,null,null,"Totals",{"$f":"SUM(G9:G28)","v":0},{"$f":"SUM(H9:H28)","v":0}]
[]
[null,null,"Final Values"]
[null,null,"CBA WLU",{"$f":"'Paycode Section Identifier'!B28","v":{"$error":"#DIV/0!"}},"Overload ",{"$f":"'Paycode Section Identifier'!B32","v":{"$error":"#DIV/0!"}}]
[null,null,"Release",{"$f":"'Paycode Section Identifier'!B29","v":0},"Total Pay",{"$f":"'Paycode Section Identifier'!B33","v":{"$error":"#DIV/0!"}}]
[null,null,"Total",{"$f":"'Paycode Section Identifier'!B30","v":{"$error":"#DIV/0!"}},"Bank"]
[]
[null,null,null,null,null,null,null,"2020-01-01"]
[null,"Signature"]
[null,"Faculty Member Signature",null,null,null,null,null,"Date"]
[null,null," "]
[null,"Signature",null,null,null,null,null,"2020-01-01"]
[null,"Department Chair/Associate Dean/Instructional Program Manager",null,null,null,null,null,"Date"]
[null,null," "]
[null,"Signature",null,null,null,null,null,"2020-01-01"]
[null,"Dean",null,null,null,null,null,"Date"]
[]
[null,null," "]
[null,null,null,null,null,null,null,"REV 2022-2023 5.2"]

{"sheet":"> 30 Cat A Form","index":5,"n_rows":47,"n_cols":8,"rows_kept":47,"cut":false,"hidden":false,"merged":[[36,1,36,4],[39,1,39,4],[42,1,42,4],[30,1,30,4],[1,0,1,8],[3,2,3,3],[4,2,4,3],[5,2,5,3],[6,1,6,8]]}
[]
["Overload Form Academic Year 2022-2023"]
[]
[null,"Faculty Name:",{"$f":"'Paycode Section Identifier'!AF2","v":"Name"}]
[null,"EMPL ID:",{"$f":"'Paycode Section Identifier'!AF3","v":"ID"}]
[null,"Terms:",{"$f":"'Paycode Section Identifier'!AF4","v":"2228 and 2232"}]
[]
[null,"Course","Concatenated ID","Category","CBA Total","Overload Entered in CS","Banked Entered in CS"]
[null,{"$f":"'Paycode Section Identifier'!A4","v":"Bank"},{"$f":"'Paycode Section Identifier'!B4","v":"From last year"},{"$f":"'Paycode Section Identifier'!C4","v":{"$error":"#DIV/0!"}},{"$f":"'Paycode Section Identifier'!E4","v":0}]
[null,{"$f":"'Paycode Section Identifier'!A5","v":0},{"$f":"'Paycode Section Identifier'!B5","v":0},{"$f":"'Paycode Section Identifier'!C5","v":{"$error":"#DIV/0!"}},{"$f":"'Paycode Section Identifier'!E5","v":"0"}]
[null,{"$f":"'Paycode Section Identifier'!A6","v":0},{"$f":"'Paycode Section Identifier'!B6","v":0},{"$f":"'Paycode Section Identifier'!C6","v":{"$error":"#DIV/0!"}},{"$f":"'Paycode Section Identifier'!E6","v":"0"}]
[null,{"$f":"'Paycode Section Identifier'!A7","v":0},{"$f":"'Paycode Section Identifier'!B7","v":0},{"$f":"'Paycode Section Identifier'!C7","v":{"$error":"#DIV/0!"}},{"$f":"'Paycode Section Identifier'!E7","v":"0"}]
[null,{"$f":"'Paycode Section Identifier'!A8","v":0},{"$f":"'Paycode Section Identifier'!B8","v":0},{"$f":"'Paycode Section Identifier'!C8","v":{"$error":"#DIV/0!"}},{"$f":"'Paycode Section Identifier'!E8","v":"0"}]
[null,{"$f":"'Paycode Section Identifier'!A9","v":0},{"$f":"'Paycode Section Identifier'!B9","v":0},{"$f":"'Paycode Section Identifier'!C9","v":{"$error":"#DIV/0!"}},{"$f":"'Paycode Section Identifier'!E9","v":"0"}]
[null,{"$f":"'Paycode Section Identifier'!A10","v":0},{"$f":"'Paycode Section Identifier'!B10","v":0},{"$f":"'Paycode Section Identifier'!C10","v":{"$error":"#DIV/0!"}},{"$f":"'Paycode Section Identifier'!E10","v":"0"}]
[null,{"$f":"'Paycode Section Identifier'!A11","v":0},{"$f":"'Paycode Section Identifier'!B11","v":0},{"$f":"'Paycode Section Identifier'!C11","v":{"$error":"#DIV/0!"}},{"$f":"'Paycode Section Identifier'!E11","v":"0"}," "," "]
[null,{"$f":"'Paycode Section Identifier'!A12","v":0},{"$f":"'Paycode Section Identifier'!B12","v":0},{"$f":"'Paycode Section Identifier'!C12","v":{"$error":"#DIV/0!"}},{"$f":"'Paycode Section Identifier'!E12","v":"0"}]
[null,{"$f":"'Paycode Section Identifier'!A13","v":0},{"$f":"'Paycode Section Identifier'!B13","v":0},{"$f":"'Paycode Section Identifier'!C13","v":{"$error":"#DIV/0!"}},{"$f":"'Paycode Section Identifier'!E13","v":"0"}]
[null,{"$f":"'Paycode Section Identifier'!A14","v":0},{"$f":"'Paycode Section Identifier'!B14","v":0},{"$f":"'Paycode Section Identifier'!C14","v":{"$error":"#DIV/0!"}},{"$f":"'Paycode Section Identifier'!E14","v":"0"}]
[null,{"$f":"'Paycode Section Identifier'!A15","v":0},{"$f":"'Paycode Section Identifier'!B15","v":0},{"$f":"'Paycode Section Identifier'!C15","v":{"$error":"#DIV/0!"}},{"$f":"'Paycode Section Identifier'!E15","v":"0"}]
[null,{"$f":"'Paycode Section Identifier'!A16","v":0},{"$f":"'Paycode Section Identifier'!B16","v":0},{"$f":"'Paycode Section Identifier'!C16","v":{"$error":"#DIV/0!"}},{"$f":"'Paycode Section Identifier'!E16","v":"0"}]
[null,{"$f":"'Paycode Section Identifier'!A17","v":0},{"$f":"'Paycode Section Identifier'!B17","v":0},{"$f":"'Paycode Section Identifier'!C17","v":{"$error":"#DIV/0!"}},{"$f":"'Paycode Section Identifier'!E17","v":"0"}]
[null,{"$f":"'Paycode Section Identifier'!A18","v":0},{"$f":"'Paycode Section Identifier'!B18","v":0},{"$f":"'Paycode Section Identifier'!C18","v":{"$error":"#DIV/0!"}},{"$f":"'Paycode Section Identifier'!E18","v":"0"}]
[null,{"$f":"'Paycode Section Identifier'!A19","v":0},{"$f":"'Paycode Section Identifier'!B19","v":0},{"$f":"'Paycode Section Identifier'!C19","v":{"$error":"#DIV/0!"}},{"$f":"'Paycode Section Identifier'!E19","v":"0"}]
[null,{"$f":"'Paycode Section Identifier'!A20","v":0},{"$f":"'Paycode Section Identifier'!B20","v":0},{"$f":"'Paycode Section Identifier'!C20","v":{"$error":"#DIV/0!"}},{"$f":"'Paycode Section Identifier'!E20","v":"0"}]
[null,{"$f":"'Paycode Section Identifier'!A21","v":0},{"$f":"'Paycode Section Identifier'!B21","v":0},{"$f":"'Paycode Section Identifier'!C21","v":{"$error":"#DIV/0!"}},{"$f":"'Paycode Section Identifier'!E21","v":"0"}]
[null,{"$f":"'Paycode Section Identifier'!A22","v":0},{"$f":"'Paycode Section Identifier'!B22","v":0},{"$f":"'Paycode Section Identifier'!C22","v":{"$error":"#DIV/0!"}},{"$f":"'Paycode Section Identifier'!E22","v":"0"}]
[null,{"$f":"'Paycode Section Identifier'!A23","v":0},{"$f":"'Paycode Section Identifier'!B23","v":0},{"$f":"'Paycode Section Identifier'!C23","v":{"$error":"#DIV/0!"}},{"$f":"'Paycode Section Identifier'!E23","v":"0"}]
[null,null,null,null,"Total Overload in CS",{"$f":"SUM(F9:F28)","v":0},{"$f":"SUM(G9:G28)","v":0}]
[]
[null,"Final Values"]
[null,"CBA WLU",{"$f":"'Paycode Section Identifier'!B26","v":0},"Overload ",{"$f":"C34-30","v":-30}]
[null,"Release",{"$f":"'Paycode Section Identifier'!B29","v":0},"Total Pay",{"$f":"E32*750","v":-22500}]
[null,"Total",{"$f":"C32+C33","v":0},"Bank"]
[]
[]
[null,"Signature",null,null,null,null,"2020-01-01"]
[null,"Faculty Member Signature",null,null,null,null,"Date"]
[null,null," "]
[null,"Signature",null,null,null,null,"2020-01-01"]
[null,"Department Chair/Associate Dean/Instructional Program Manager",null,null,null,null,"Date"]
[null,null," "]
[null,"Signature",null,null,null,null,"2020-01-01"]
[null,null,null,null,null,null,"Date"]
[]
[null,null," "]
[null,null,null,null,null,null,null,"REV 2022-2023 5.2"]

{"sheet":"Instructions","index":6,"n_rows":51,"n_cols":7,"rows_kept":51,"cut":false,"hidden":false,"merged":[]}
["Instructions for installing Excel Solver (this is only required once for each machine you work on):"]
["1. In Excel 2010 and later, go to File > Options"]
["2. Click Add-Ins, and then in the Manage box, select Excel Add-ins."]
["3. Click Go."]
["4. In the Add-Ins available box, select the Solver Add-in check box, and then click OK."]
["Notes: "]
[" If the Solver Add-in is not listed in the Add-Ins available box, click Browse to locate the add-in."]
["If you get prompted that the Solver Add-in is not currently installed on your computer, click Yes to install it."]
["5. After you load the Solver Add-in, the Solver command is available in the Analysis group on the Data tab."]
[]
["** Warning - Overriding full and/or partial WLU values overrides the formula. If you make an error and need to reset a formula it is best to open a new                                 Workload Calculator Excel file **"]
[]
["Opening the new Workload Calculator:"]
["** If using the calculator, it is recommended that the master file is open and saved with the faculty name. This will create a unique file for each faculty member"]
[]
["In each Excel document you should see two tabs:"]
["a.      Paycode Selection Identifier – This tab is where you enter in the bank time (if applicable), course faculty member is teaching in term, and release time (if applicable)."]
["b.      Instructions - This tab contains an overview of how to use the Workload Calculator"]
[]
["Instructions for using the new Workload Calculator:"]
["1) If there is bank time from last academic year that carried over to this year enter \"Bank\" in cell A4 and the number of hours in D4. If \"0\" bank hours move to next step."]
["2) Beginning in A5, enter the remaining classes the faculty member taught during the two terms of that faculty member's contract following the paradigm MAT1033"]
["** The Id column is provided to further identify classes if needed"]
["3) The full and partial workload values are pulled from the Vlookup table based on most recent curriculum updates"]
["** Override full and partial values if required (team teaching, partial load value for course, IS, etc.)"]
["If column \"C\" shifts to yellow and indicates \"Special\" do not calculate using \"CNTRL\" + \"h\" keys. Enter any \"release time\" (if applicable) in cell E29, the \"Min Value\" in this unique case is calculated in B26 and is the correct value. Add the release time next to it and that is the total WLUs."]
["4) Once all classes are have been entered press and hold the \"CTRL\" key while simultaneously depressing the \"h\" key"]
["** It will run calculations that could take a couple of minutes (once completed) select \"OK\""]
["** It will run a second set of calculations that could take a couple of minutes (once completed) select \"OK\""]
["5) Calculations are now complete"]
["6) If the faculty member desires to bank workload units earned this year to be applied to next year, enter \"BANK\" in A23 "]
["7) Next enter the value as a negative number (i.e. \"-8\") in D23 and E23"]
["8) Rerun the calculator - press and hold the \"CTRL\" key while simultaneously depressing the \"h\" key"]
["9) Values have been updated based on the hours being placed into the bank to be applied next academic year",null,null,null,null,null,"Terms"]
["Explanation of Calculations ",null,null,null,null,null,"2198  and 2202"]
["Block 0 - Those classes (including bank) where full and partial values are the same (Category A and are loaded first per CBA)",null,null,null,null,null,"2198 and 2205"]
["Block 2.1 - These are Category B classes the scheduler recommends loading in at full value",null,null,null,null,null,"2202 and 2205"]
["Jump - The class that crosses 30 WLUs and is loaded at full value per CBA"]
["Block 4 - These are Category B classes that the scheduler is recommending to pay at partial value per the CBA"]
["6) Enter any \"release time\" (if applicable) in cell E29"]
["Cell E30 has total CBA load "]
["Cell O40 has total overload"]
["Cell AA40 has total overload pay"]
["CS at the class level must now be programmed to reflect the output of the Calculator"]
["** If classes are added or deleted the calculator must be reran **"]
["Important Note for rare cases when max WLU does not exceed 30 (read next section in entirety if this applies)"]
["If Max workload value (Cell B27) indicates 30.0 or less, there is no need to calculate, that is the workload value"]
["*** Do not run calculator using \"CTRL\" plus \"h\" in this scenario, this is the correct workload units"]
["If there is release time add that to the release time cell "]
["Now complete the overload form (if faculty now has greater than 30.0 WLUs) in (Cell B30)"]
["If faculty has less than 29.5 WLUs, let Debbie know"]

{"sheet":"Updates","index":7,"n_rows":29,"n_cols":1,"rows_kept":29,"cut":false,"hidden":false,"merged":[]}
["New in Rev 1.1"]
["1. Addition of clock hour classes in VLOOKUP"]
["2. Addition of Adult Ed classes in VLOOKUP"]
["New in Rev 1.2"]
["1. When shifts to Special blanks out all fields except min WLU and release (together they make total load"]
["2. Original VLOOKUP was missing a few music lessons, these have been added"]
["3. PLA2114 had an incorrect partial workload value in Campus Solutions of 3.0, this was corrected in CS to 4.0 and in the calculator to 4.0"]
["4. Faculty Name, EMPLID and Term dropdown added"]
["New in Rev 1.3"]
["1. Added \"OL Form\" "]
["2. Added \"> 30 Cat A Form\""]
["Release of Rev 2.0"]
["New in Rev 3.0"]
["Updated all WLUs with values from curriculum 7/2020"]
["Updated terms to reflect 2019-2020 Academic Year"]
["New in Rev 3.1"]
["Updated workload values and any new classes from curriculum"]
["New in Rev 3.1a"]
["Added steps in instructions when max workload is 30 hours or less"]
["New in Rev 3.1b"]
["Updated ELL WLU values based on most recent curriculum updates"]
["New in Rev 4.0"]
["Updated workload values from Catalog on 12/16/21"]
["Updated years to 2021-2022"]
["New in Rev 5.1"]
["Updated workload values from CS Catalog on 11/2/22"]
["Updated years to 2022-2023"]
["New in Rev 5.2"]
["Updated overload pay to $750 per WLU per update to CBA"]